BEGIN:VCALENDAR
VERSION:2.0
PRODID:-//Sinai Temple - ECPv6.15.18//NONSGML v1.0//EN
CALSCALE:GREGORIAN
METHOD:PUBLISH
X-ORIGINAL-URL:https://www.sinaitemple.org
X-WR-CALDESC:Events for Sinai Temple
REFRESH-INTERVAL;VALUE=DURATION:PT1H
X-Robots-Tag:noindex
X-PUBLISHED-TTL:PT1H
BEGIN:VTIMEZONE
TZID:America/Los_Angeles
BEGIN:DAYLIGHT
TZOFFSETFROM:-0800
TZOFFSETTO:-0700
TZNAME:PDT
DTSTART:20260308T100000
END:DAYLIGHT
BEGIN:STANDARD
TZOFFSETFROM:-0700
TZOFFSETTO:-0800
TZNAME:PST
DTSTART:20261101T090000
END:STANDARD
BEGIN:DAYLIGHT
TZOFFSETFROM:-0800
TZOFFSETTO:-0700
TZNAME:PDT
DTSTART:20270314T100000
END:DAYLIGHT
BEGIN:STANDARD
TZOFFSETFROM:-0700
TZOFFSETTO:-0800
TZNAME:PST
DTSTART:20271107T090000
END:STANDARD
BEGIN:DAYLIGHT
TZOFFSETFROM:-0800
TZOFFSETTO:-0700
TZNAME:PDT
DTSTART:20280312T100000
END:DAYLIGHT
BEGIN:STANDARD
TZOFFSETFROM:-0700
TZOFFSETTO:-0800
TZNAME:PST
DTSTART:20281105T090000
END:STANDARD
BEGIN:DAYLIGHT
TZOFFSETFROM:-0800
TZOFFSETTO:-0700
TZNAME:PDT
DTSTART:20290311T100000
END:DAYLIGHT
BEGIN:STANDARD
TZOFFSETFROM:-0700
TZOFFSETTO:-0800
TZNAME:PST
DTSTART:20291104T090000
END:STANDARD
END:VTIMEZONE
BEGIN:VEVENT
DTSTART;TZID=America/Los_Angeles:20271209T083000
DTEND;TZID=America/Los_Angeles:20271209T093000
DTSTAMP:20260420T065026
CREATED:20250902T175749Z
LAST-MODIFIED:20250902T175907Z
UID:10032363-1828341000-1828344600@www.sinaitemple.org
SUMMARY:Weekly Parsha Class
DESCRIPTION:Every Thursday at 8:30am (outside of holidays) \n\n\n\nJoin us as Sinai Temple’s rotating clergy lead an in-depth exploration of the weekly Parsha. \n\n\nClass is offered exclusively online. \n\n\nRegister to receive the broadcast link. \nRegister Here 
URL:https://www.sinaitemple.org/event/weekly-parsha-class/2027-12-09/
LOCATION:Zoom\, 10400 Wilshire Blvd\, Los Angeles\, CA\, 90024\, United States
CATEGORIES:Events
ATTACH;FMTTYPE=image/png:https://www.sinaitemple.org/wp-content/uploads/2025/09/Weekly-Parsha-Class-Flyer-.png
END:VEVENT
BEGIN:VEVENT
DTSTART;TZID=America/Los_Angeles:20271215T093000
DTEND;TZID=America/Los_Angeles:20271215T103000
DTSTAMP:20260420T065026
CREATED:20250827T222718Z
LAST-MODIFIED:20260304T173057Z
UID:10029551-1828863000-1828866600@www.sinaitemple.org
SUMMARY:The Balance Class
DESCRIPTION:The 10/100 Program consists of six simple movements designed to grow your brain (neuroplasticity)\, improve your balance (proprioception) and strengthen your immune system. \nGroup Classes are FREE! Wednesdays from 9:30 -10:30 a.m. VIA ZOOM! \nClick HERE to join via Zoom during meeting time.
URL:https://www.sinaitemple.org/event/the-balance-class-2022-07-20-2/2027-12-15/
LOCATION:Sinai Temple
CATEGORIES:Events,Sisterhood
ATTACH;FMTTYPE=image/jpeg:https://www.sinaitemple.org/wp-content/uploads/2022/02/Untitled-design.jpg
END:VEVENT
BEGIN:VEVENT
DTSTART;TZID=America/Los_Angeles:20271216T083000
DTEND;TZID=America/Los_Angeles:20271216T093000
DTSTAMP:20260420T065026
CREATED:20250902T175749Z
LAST-MODIFIED:20250902T175907Z
UID:10032364-1828945800-1828949400@www.sinaitemple.org
SUMMARY:Weekly Parsha Class
DESCRIPTION:Every Thursday at 8:30am (outside of holidays) \n\n\n\nJoin us as Sinai Temple’s rotating clergy lead an in-depth exploration of the weekly Parsha. \n\n\nClass is offered exclusively online. \n\n\nRegister to receive the broadcast link. \nRegister Here 
URL:https://www.sinaitemple.org/event/weekly-parsha-class/2027-12-16/
LOCATION:Zoom\, 10400 Wilshire Blvd\, Los Angeles\, CA\, 90024\, United States
CATEGORIES:Events
ATTACH;FMTTYPE=image/png:https://www.sinaitemple.org/wp-content/uploads/2025/09/Weekly-Parsha-Class-Flyer-.png
END:VEVENT
BEGIN:VEVENT
DTSTART;TZID=America/Los_Angeles:20271222T093000
DTEND;TZID=America/Los_Angeles:20271222T103000
DTSTAMP:20260420T065026
CREATED:20250827T222718Z
LAST-MODIFIED:20260304T173057Z
UID:10029552-1829467800-1829471400@www.sinaitemple.org
SUMMARY:The Balance Class
DESCRIPTION:The 10/100 Program consists of six simple movements designed to grow your brain (neuroplasticity)\, improve your balance (proprioception) and strengthen your immune system. \nGroup Classes are FREE! Wednesdays from 9:30 -10:30 a.m. VIA ZOOM! \nClick HERE to join via Zoom during meeting time.
URL:https://www.sinaitemple.org/event/the-balance-class-2022-07-20-2/2027-12-22/
LOCATION:Sinai Temple
CATEGORIES:Events,Sisterhood
ATTACH;FMTTYPE=image/jpeg:https://www.sinaitemple.org/wp-content/uploads/2022/02/Untitled-design.jpg
END:VEVENT
BEGIN:VEVENT
DTSTART;TZID=America/Los_Angeles:20271223T083000
DTEND;TZID=America/Los_Angeles:20271223T093000
DTSTAMP:20260420T065026
CREATED:20250902T175749Z
LAST-MODIFIED:20250902T175907Z
UID:10032365-1829550600-1829554200@www.sinaitemple.org
SUMMARY:Weekly Parsha Class
DESCRIPTION:Every Thursday at 8:30am (outside of holidays) \n\n\n\nJoin us as Sinai Temple’s rotating clergy lead an in-depth exploration of the weekly Parsha. \n\n\nClass is offered exclusively online. \n\n\nRegister to receive the broadcast link. \nRegister Here 
URL:https://www.sinaitemple.org/event/weekly-parsha-class/2027-12-23/
LOCATION:Zoom\, 10400 Wilshire Blvd\, Los Angeles\, CA\, 90024\, United States
CATEGORIES:Events
ATTACH;FMTTYPE=image/png:https://www.sinaitemple.org/wp-content/uploads/2025/09/Weekly-Parsha-Class-Flyer-.png
END:VEVENT
BEGIN:VEVENT
DTSTART;TZID=America/Los_Angeles:20271229T093000
DTEND;TZID=America/Los_Angeles:20271229T103000
DTSTAMP:20260420T065026
CREATED:20250827T222718Z
LAST-MODIFIED:20260304T173057Z
UID:10029553-1830072600-1830076200@www.sinaitemple.org
SUMMARY:The Balance Class
DESCRIPTION:The 10/100 Program consists of six simple movements designed to grow your brain (neuroplasticity)\, improve your balance (proprioception) and strengthen your immune system. \nGroup Classes are FREE! Wednesdays from 9:30 -10:30 a.m. VIA ZOOM! \nClick HERE to join via Zoom during meeting time.
URL:https://www.sinaitemple.org/event/the-balance-class-2022-07-20-2/2027-12-29/
LOCATION:Sinai Temple
CATEGORIES:Events,Sisterhood
ATTACH;FMTTYPE=image/jpeg:https://www.sinaitemple.org/wp-content/uploads/2022/02/Untitled-design.jpg
END:VEVENT
BEGIN:VEVENT
DTSTART;TZID=America/Los_Angeles:20271230T083000
DTEND;TZID=America/Los_Angeles:20271230T093000
DTSTAMP:20260420T065026
CREATED:20250902T175749Z
LAST-MODIFIED:20250902T175907Z
UID:10032366-1830155400-1830159000@www.sinaitemple.org
SUMMARY:Weekly Parsha Class
DESCRIPTION:Every Thursday at 8:30am (outside of holidays) \n\n\n\nJoin us as Sinai Temple’s rotating clergy lead an in-depth exploration of the weekly Parsha. \n\n\nClass is offered exclusively online. \n\n\nRegister to receive the broadcast link. \nRegister Here 
URL:https://www.sinaitemple.org/event/weekly-parsha-class/2027-12-30/
LOCATION:Zoom\, 10400 Wilshire Blvd\, Los Angeles\, CA\, 90024\, United States
CATEGORIES:Events
ATTACH;FMTTYPE=image/png:https://www.sinaitemple.org/wp-content/uploads/2025/09/Weekly-Parsha-Class-Flyer-.png
END:VEVENT
BEGIN:VEVENT
DTSTART;TZID=America/Los_Angeles:20280105T093000
DTEND;TZID=America/Los_Angeles:20280105T103000
DTSTAMP:20260420T065026
CREATED:20250827T222718Z
LAST-MODIFIED:20260304T173057Z
UID:10029554-1830677400-1830681000@www.sinaitemple.org
SUMMARY:The Balance Class
DESCRIPTION:The 10/100 Program consists of six simple movements designed to grow your brain (neuroplasticity)\, improve your balance (proprioception) and strengthen your immune system. \nGroup Classes are FREE! Wednesdays from 9:30 -10:30 a.m. VIA ZOOM! \nClick HERE to join via Zoom during meeting time.
URL:https://www.sinaitemple.org/event/the-balance-class-2022-07-20-2/2028-01-05/
LOCATION:Sinai Temple
CATEGORIES:Events,Sisterhood
ATTACH;FMTTYPE=image/jpeg:https://www.sinaitemple.org/wp-content/uploads/2022/02/Untitled-design.jpg
END:VEVENT
BEGIN:VEVENT
DTSTART;TZID=America/Los_Angeles:20280106T083000
DTEND;TZID=America/Los_Angeles:20280106T093000
DTSTAMP:20260420T065026
CREATED:20250902T175749Z
LAST-MODIFIED:20250902T175907Z
UID:10032367-1830760200-1830763800@www.sinaitemple.org
SUMMARY:Weekly Parsha Class
DESCRIPTION:Every Thursday at 8:30am (outside of holidays) \n\n\n\nJoin us as Sinai Temple’s rotating clergy lead an in-depth exploration of the weekly Parsha. \n\n\nClass is offered exclusively online. \n\n\nRegister to receive the broadcast link. \nRegister Here 
URL:https://www.sinaitemple.org/event/weekly-parsha-class/2028-01-06/
LOCATION:Zoom\, 10400 Wilshire Blvd\, Los Angeles\, CA\, 90024\, United States
CATEGORIES:Events
ATTACH;FMTTYPE=image/png:https://www.sinaitemple.org/wp-content/uploads/2025/09/Weekly-Parsha-Class-Flyer-.png
END:VEVENT
BEGIN:VEVENT
DTSTART;TZID=America/Los_Angeles:20280112T093000
DTEND;TZID=America/Los_Angeles:20280112T103000
DTSTAMP:20260420T065026
CREATED:20250827T222718Z
LAST-MODIFIED:20260304T173057Z
UID:10029555-1831282200-1831285800@www.sinaitemple.org
SUMMARY:The Balance Class
DESCRIPTION:The 10/100 Program consists of six simple movements designed to grow your brain (neuroplasticity)\, improve your balance (proprioception) and strengthen your immune system. \nGroup Classes are FREE! Wednesdays from 9:30 -10:30 a.m. VIA ZOOM! \nClick HERE to join via Zoom during meeting time.
URL:https://www.sinaitemple.org/event/the-balance-class-2022-07-20-2/2028-01-12/
LOCATION:Sinai Temple
CATEGORIES:Events,Sisterhood
ATTACH;FMTTYPE=image/jpeg:https://www.sinaitemple.org/wp-content/uploads/2022/02/Untitled-design.jpg
END:VEVENT
BEGIN:VEVENT
DTSTART;TZID=America/Los_Angeles:20280113T083000
DTEND;TZID=America/Los_Angeles:20280113T093000
DTSTAMP:20260420T065026
CREATED:20250902T175749Z
LAST-MODIFIED:20250902T175907Z
UID:10032368-1831365000-1831368600@www.sinaitemple.org
SUMMARY:Weekly Parsha Class
DESCRIPTION:Every Thursday at 8:30am (outside of holidays) \n\n\n\nJoin us as Sinai Temple’s rotating clergy lead an in-depth exploration of the weekly Parsha. \n\n\nClass is offered exclusively online. \n\n\nRegister to receive the broadcast link. \nRegister Here 
URL:https://www.sinaitemple.org/event/weekly-parsha-class/2028-01-13/
LOCATION:Zoom\, 10400 Wilshire Blvd\, Los Angeles\, CA\, 90024\, United States
CATEGORIES:Events
ATTACH;FMTTYPE=image/png:https://www.sinaitemple.org/wp-content/uploads/2025/09/Weekly-Parsha-Class-Flyer-.png
END:VEVENT
BEGIN:VEVENT
DTSTART;TZID=America/Los_Angeles:20280119T093000
DTEND;TZID=America/Los_Angeles:20280119T103000
DTSTAMP:20260420T065026
CREATED:20250827T222718Z
LAST-MODIFIED:20260304T173057Z
UID:10029556-1831887000-1831890600@www.sinaitemple.org
SUMMARY:The Balance Class
DESCRIPTION:The 10/100 Program consists of six simple movements designed to grow your brain (neuroplasticity)\, improve your balance (proprioception) and strengthen your immune system. \nGroup Classes are FREE! Wednesdays from 9:30 -10:30 a.m. VIA ZOOM! \nClick HERE to join via Zoom during meeting time.
URL:https://www.sinaitemple.org/event/the-balance-class-2022-07-20-2/2028-01-19/
LOCATION:Sinai Temple
CATEGORIES:Events,Sisterhood
ATTACH;FMTTYPE=image/jpeg:https://www.sinaitemple.org/wp-content/uploads/2022/02/Untitled-design.jpg
END:VEVENT
BEGIN:VEVENT
DTSTART;TZID=America/Los_Angeles:20280120T083000
DTEND;TZID=America/Los_Angeles:20280120T093000
DTSTAMP:20260420T065026
CREATED:20250902T175749Z
LAST-MODIFIED:20250902T175907Z
UID:10032369-1831969800-1831973400@www.sinaitemple.org
SUMMARY:Weekly Parsha Class
DESCRIPTION:Every Thursday at 8:30am (outside of holidays) \n\n\n\nJoin us as Sinai Temple’s rotating clergy lead an in-depth exploration of the weekly Parsha. \n\n\nClass is offered exclusively online. \n\n\nRegister to receive the broadcast link. \nRegister Here 
URL:https://www.sinaitemple.org/event/weekly-parsha-class/2028-01-20/
LOCATION:Zoom\, 10400 Wilshire Blvd\, Los Angeles\, CA\, 90024\, United States
CATEGORIES:Events
ATTACH;FMTTYPE=image/png:https://www.sinaitemple.org/wp-content/uploads/2025/09/Weekly-Parsha-Class-Flyer-.png
END:VEVENT
BEGIN:VEVENT
DTSTART;TZID=America/Los_Angeles:20280126T093000
DTEND;TZID=America/Los_Angeles:20280126T103000
DTSTAMP:20260420T065026
CREATED:20250827T222718Z
LAST-MODIFIED:20260304T173057Z
UID:10029557-1832491800-1832495400@www.sinaitemple.org
SUMMARY:The Balance Class
DESCRIPTION:The 10/100 Program consists of six simple movements designed to grow your brain (neuroplasticity)\, improve your balance (proprioception) and strengthen your immune system. \nGroup Classes are FREE! Wednesdays from 9:30 -10:30 a.m. VIA ZOOM! \nClick HERE to join via Zoom during meeting time.
URL:https://www.sinaitemple.org/event/the-balance-class-2022-07-20-2/2028-01-26/
LOCATION:Sinai Temple
CATEGORIES:Events,Sisterhood
ATTACH;FMTTYPE=image/jpeg:https://www.sinaitemple.org/wp-content/uploads/2022/02/Untitled-design.jpg
END:VEVENT
BEGIN:VEVENT
DTSTART;TZID=America/Los_Angeles:20280127T083000
DTEND;TZID=America/Los_Angeles:20280127T093000
DTSTAMP:20260420T065026
CREATED:20250902T175749Z
LAST-MODIFIED:20250902T175907Z
UID:10032370-1832574600-1832578200@www.sinaitemple.org
SUMMARY:Weekly Parsha Class
DESCRIPTION:Every Thursday at 8:30am (outside of holidays) \n\n\n\nJoin us as Sinai Temple’s rotating clergy lead an in-depth exploration of the weekly Parsha. \n\n\nClass is offered exclusively online. \n\n\nRegister to receive the broadcast link. \nRegister Here 
URL:https://www.sinaitemple.org/event/weekly-parsha-class/2028-01-27/
LOCATION:Zoom\, 10400 Wilshire Blvd\, Los Angeles\, CA\, 90024\, United States
CATEGORIES:Events
ATTACH;FMTTYPE=image/png:https://www.sinaitemple.org/wp-content/uploads/2025/09/Weekly-Parsha-Class-Flyer-.png
END:VEVENT
BEGIN:VEVENT
DTSTART;TZID=America/Los_Angeles:20280202T093000
DTEND;TZID=America/Los_Angeles:20280202T103000
DTSTAMP:20260420T065026
CREATED:20250827T222718Z
LAST-MODIFIED:20260304T173057Z
UID:10029558-1833096600-1833100200@www.sinaitemple.org
SUMMARY:The Balance Class
DESCRIPTION:The 10/100 Program consists of six simple movements designed to grow your brain (neuroplasticity)\, improve your balance (proprioception) and strengthen your immune system. \nGroup Classes are FREE! Wednesdays from 9:30 -10:30 a.m. VIA ZOOM! \nClick HERE to join via Zoom during meeting time.
URL:https://www.sinaitemple.org/event/the-balance-class-2022-07-20-2/2028-02-02/
LOCATION:Sinai Temple
CATEGORIES:Events,Sisterhood
ATTACH;FMTTYPE=image/jpeg:https://www.sinaitemple.org/wp-content/uploads/2022/02/Untitled-design.jpg
END:VEVENT
BEGIN:VEVENT
DTSTART;TZID=America/Los_Angeles:20280203T083000
DTEND;TZID=America/Los_Angeles:20280203T093000
DTSTAMP:20260420T065026
CREATED:20250902T175749Z
LAST-MODIFIED:20250902T175907Z
UID:10032371-1833179400-1833183000@www.sinaitemple.org
SUMMARY:Weekly Parsha Class
DESCRIPTION:Every Thursday at 8:30am (outside of holidays) \n\n\n\nJoin us as Sinai Temple’s rotating clergy lead an in-depth exploration of the weekly Parsha. \n\n\nClass is offered exclusively online. \n\n\nRegister to receive the broadcast link. \nRegister Here 
URL:https://www.sinaitemple.org/event/weekly-parsha-class/2028-02-03/
LOCATION:Zoom\, 10400 Wilshire Blvd\, Los Angeles\, CA\, 90024\, United States
CATEGORIES:Events
ATTACH;FMTTYPE=image/png:https://www.sinaitemple.org/wp-content/uploads/2025/09/Weekly-Parsha-Class-Flyer-.png
END:VEVENT
BEGIN:VEVENT
DTSTART;TZID=America/Los_Angeles:20280209T093000
DTEND;TZID=America/Los_Angeles:20280209T103000
DTSTAMP:20260420T065026
CREATED:20250827T222718Z
LAST-MODIFIED:20260304T173057Z
UID:10029559-1833701400-1833705000@www.sinaitemple.org
SUMMARY:The Balance Class
DESCRIPTION:The 10/100 Program consists of six simple movements designed to grow your brain (neuroplasticity)\, improve your balance (proprioception) and strengthen your immune system. \nGroup Classes are FREE! Wednesdays from 9:30 -10:30 a.m. VIA ZOOM! \nClick HERE to join via Zoom during meeting time.
URL:https://www.sinaitemple.org/event/the-balance-class-2022-07-20-2/2028-02-09/
LOCATION:Sinai Temple
CATEGORIES:Events,Sisterhood
ATTACH;FMTTYPE=image/jpeg:https://www.sinaitemple.org/wp-content/uploads/2022/02/Untitled-design.jpg
END:VEVENT
BEGIN:VEVENT
DTSTART;TZID=America/Los_Angeles:20280210T083000
DTEND;TZID=America/Los_Angeles:20280210T093000
DTSTAMP:20260420T065026
CREATED:20250902T175749Z
LAST-MODIFIED:20250902T175907Z
UID:10032372-1833784200-1833787800@www.sinaitemple.org
SUMMARY:Weekly Parsha Class
DESCRIPTION:Every Thursday at 8:30am (outside of holidays) \n\n\n\nJoin us as Sinai Temple’s rotating clergy lead an in-depth exploration of the weekly Parsha. \n\n\nClass is offered exclusively online. \n\n\nRegister to receive the broadcast link. \nRegister Here 
URL:https://www.sinaitemple.org/event/weekly-parsha-class/2028-02-10/
LOCATION:Zoom\, 10400 Wilshire Blvd\, Los Angeles\, CA\, 90024\, United States
CATEGORIES:Events
ATTACH;FMTTYPE=image/png:https://www.sinaitemple.org/wp-content/uploads/2025/09/Weekly-Parsha-Class-Flyer-.png
END:VEVENT
BEGIN:VEVENT
DTSTART;TZID=America/Los_Angeles:20280216T093000
DTEND;TZID=America/Los_Angeles:20280216T103000
DTSTAMP:20260420T065026
CREATED:20250827T222718Z
LAST-MODIFIED:20260304T173057Z
UID:10029560-1834306200-1834309800@www.sinaitemple.org
SUMMARY:The Balance Class
DESCRIPTION:The 10/100 Program consists of six simple movements designed to grow your brain (neuroplasticity)\, improve your balance (proprioception) and strengthen your immune system. \nGroup Classes are FREE! Wednesdays from 9:30 -10:30 a.m. VIA ZOOM! \nClick HERE to join via Zoom during meeting time.
URL:https://www.sinaitemple.org/event/the-balance-class-2022-07-20-2/2028-02-16/
LOCATION:Sinai Temple
CATEGORIES:Events,Sisterhood
ATTACH;FMTTYPE=image/jpeg:https://www.sinaitemple.org/wp-content/uploads/2022/02/Untitled-design.jpg
END:VEVENT
BEGIN:VEVENT
DTSTART;TZID=America/Los_Angeles:20280217T083000
DTEND;TZID=America/Los_Angeles:20280217T093000
DTSTAMP:20260420T065026
CREATED:20250902T175749Z
LAST-MODIFIED:20250902T175907Z
UID:10032373-1834389000-1834392600@www.sinaitemple.org
SUMMARY:Weekly Parsha Class
DESCRIPTION:Every Thursday at 8:30am (outside of holidays) \n\n\n\nJoin us as Sinai Temple’s rotating clergy lead an in-depth exploration of the weekly Parsha. \n\n\nClass is offered exclusively online. \n\n\nRegister to receive the broadcast link. \nRegister Here 
URL:https://www.sinaitemple.org/event/weekly-parsha-class/2028-02-17/
LOCATION:Zoom\, 10400 Wilshire Blvd\, Los Angeles\, CA\, 90024\, United States
CATEGORIES:Events
ATTACH;FMTTYPE=image/png:https://www.sinaitemple.org/wp-content/uploads/2025/09/Weekly-Parsha-Class-Flyer-.png
END:VEVENT
BEGIN:VEVENT
DTSTART;TZID=America/Los_Angeles:20280223T093000
DTEND;TZID=America/Los_Angeles:20280223T103000
DTSTAMP:20260420T065026
CREATED:20250827T222718Z
LAST-MODIFIED:20260304T173057Z
UID:10029561-1834911000-1834914600@www.sinaitemple.org
SUMMARY:The Balance Class
DESCRIPTION:The 10/100 Program consists of six simple movements designed to grow your brain (neuroplasticity)\, improve your balance (proprioception) and strengthen your immune system. \nGroup Classes are FREE! Wednesdays from 9:30 -10:30 a.m. VIA ZOOM! \nClick HERE to join via Zoom during meeting time.
URL:https://www.sinaitemple.org/event/the-balance-class-2022-07-20-2/2028-02-23/
LOCATION:Sinai Temple
CATEGORIES:Events,Sisterhood
ATTACH;FMTTYPE=image/jpeg:https://www.sinaitemple.org/wp-content/uploads/2022/02/Untitled-design.jpg
END:VEVENT
BEGIN:VEVENT
DTSTART;TZID=America/Los_Angeles:20280224T083000
DTEND;TZID=America/Los_Angeles:20280224T093000
DTSTAMP:20260420T065026
CREATED:20250902T175749Z
LAST-MODIFIED:20250902T175907Z
UID:10032374-1834993800-1834997400@www.sinaitemple.org
SUMMARY:Weekly Parsha Class
DESCRIPTION:Every Thursday at 8:30am (outside of holidays) \n\n\n\nJoin us as Sinai Temple’s rotating clergy lead an in-depth exploration of the weekly Parsha. \n\n\nClass is offered exclusively online. \n\n\nRegister to receive the broadcast link. \nRegister Here 
URL:https://www.sinaitemple.org/event/weekly-parsha-class/2028-02-24/
LOCATION:Zoom\, 10400 Wilshire Blvd\, Los Angeles\, CA\, 90024\, United States
CATEGORIES:Events
ATTACH;FMTTYPE=image/png:https://www.sinaitemple.org/wp-content/uploads/2025/09/Weekly-Parsha-Class-Flyer-.png
END:VEVENT
BEGIN:VEVENT
DTSTART;TZID=America/Los_Angeles:20280301T093000
DTEND;TZID=America/Los_Angeles:20280301T103000
DTSTAMP:20260420T065026
CREATED:20250827T222718Z
LAST-MODIFIED:20260304T173057Z
UID:10029562-1835515800-1835519400@www.sinaitemple.org
SUMMARY:The Balance Class
DESCRIPTION:The 10/100 Program consists of six simple movements designed to grow your brain (neuroplasticity)\, improve your balance (proprioception) and strengthen your immune system. \nGroup Classes are FREE! Wednesdays from 9:30 -10:30 a.m. VIA ZOOM! \nClick HERE to join via Zoom during meeting time.
URL:https://www.sinaitemple.org/event/the-balance-class-2022-07-20-2/2028-03-01/
LOCATION:Sinai Temple
CATEGORIES:Events,Sisterhood
ATTACH;FMTTYPE=image/jpeg:https://www.sinaitemple.org/wp-content/uploads/2022/02/Untitled-design.jpg
END:VEVENT
BEGIN:VEVENT
DTSTART;TZID=America/Los_Angeles:20280302T083000
DTEND;TZID=America/Los_Angeles:20280302T093000
DTSTAMP:20260420T065026
CREATED:20250902T175749Z
LAST-MODIFIED:20250902T175907Z
UID:10032375-1835598600-1835602200@www.sinaitemple.org
SUMMARY:Weekly Parsha Class
DESCRIPTION:Every Thursday at 8:30am (outside of holidays) \n\n\n\nJoin us as Sinai Temple’s rotating clergy lead an in-depth exploration of the weekly Parsha. \n\n\nClass is offered exclusively online. \n\n\nRegister to receive the broadcast link. \nRegister Here 
URL:https://www.sinaitemple.org/event/weekly-parsha-class/2028-03-02/
LOCATION:Zoom\, 10400 Wilshire Blvd\, Los Angeles\, CA\, 90024\, United States
CATEGORIES:Events
ATTACH;FMTTYPE=image/png:https://www.sinaitemple.org/wp-content/uploads/2025/09/Weekly-Parsha-Class-Flyer-.png
END:VEVENT
BEGIN:VEVENT
DTSTART;TZID=America/Los_Angeles:20280308T093000
DTEND;TZID=America/Los_Angeles:20280308T103000
DTSTAMP:20260420T065026
CREATED:20250827T222718Z
LAST-MODIFIED:20260304T173057Z
UID:10029563-1836120600-1836124200@www.sinaitemple.org
SUMMARY:The Balance Class
DESCRIPTION:The 10/100 Program consists of six simple movements designed to grow your brain (neuroplasticity)\, improve your balance (proprioception) and strengthen your immune system. \nGroup Classes are FREE! Wednesdays from 9:30 -10:30 a.m. VIA ZOOM! \nClick HERE to join via Zoom during meeting time.
URL:https://www.sinaitemple.org/event/the-balance-class-2022-07-20-2/2028-03-08/
LOCATION:Sinai Temple
CATEGORIES:Events,Sisterhood
ATTACH;FMTTYPE=image/jpeg:https://www.sinaitemple.org/wp-content/uploads/2022/02/Untitled-design.jpg
END:VEVENT
BEGIN:VEVENT
DTSTART;TZID=America/Los_Angeles:20280309T083000
DTEND;TZID=America/Los_Angeles:20280309T093000
DTSTAMP:20260420T065026
CREATED:20250902T175749Z
LAST-MODIFIED:20250902T175907Z
UID:10032376-1836203400-1836207000@www.sinaitemple.org
SUMMARY:Weekly Parsha Class
DESCRIPTION:Every Thursday at 8:30am (outside of holidays) \n\n\n\nJoin us as Sinai Temple’s rotating clergy lead an in-depth exploration of the weekly Parsha. \n\n\nClass is offered exclusively online. \n\n\nRegister to receive the broadcast link. \nRegister Here 
URL:https://www.sinaitemple.org/event/weekly-parsha-class/2028-03-09/
LOCATION:Zoom\, 10400 Wilshire Blvd\, Los Angeles\, CA\, 90024\, United States
CATEGORIES:Events
ATTACH;FMTTYPE=image/png:https://www.sinaitemple.org/wp-content/uploads/2025/09/Weekly-Parsha-Class-Flyer-.png
END:VEVENT
BEGIN:VEVENT
DTSTART;TZID=America/Los_Angeles:20280315T093000
DTEND;TZID=America/Los_Angeles:20280315T103000
DTSTAMP:20260420T065026
CREATED:20250827T222718Z
LAST-MODIFIED:20260304T173057Z
UID:10029564-1836725400-1836729000@www.sinaitemple.org
SUMMARY:The Balance Class
DESCRIPTION:The 10/100 Program consists of six simple movements designed to grow your brain (neuroplasticity)\, improve your balance (proprioception) and strengthen your immune system. \nGroup Classes are FREE! Wednesdays from 9:30 -10:30 a.m. VIA ZOOM! \nClick HERE to join via Zoom during meeting time.
URL:https://www.sinaitemple.org/event/the-balance-class-2022-07-20-2/2028-03-15/
LOCATION:Sinai Temple
CATEGORIES:Events,Sisterhood
ATTACH;FMTTYPE=image/jpeg:https://www.sinaitemple.org/wp-content/uploads/2022/02/Untitled-design.jpg
END:VEVENT
BEGIN:VEVENT
DTSTART;TZID=America/Los_Angeles:20280316T083000
DTEND;TZID=America/Los_Angeles:20280316T093000
DTSTAMP:20260420T065026
CREATED:20250902T175749Z
LAST-MODIFIED:20250902T175907Z
UID:10032377-1836808200-1836811800@www.sinaitemple.org
SUMMARY:Weekly Parsha Class
DESCRIPTION:Every Thursday at 8:30am (outside of holidays) \n\n\n\nJoin us as Sinai Temple’s rotating clergy lead an in-depth exploration of the weekly Parsha. \n\n\nClass is offered exclusively online. \n\n\nRegister to receive the broadcast link. \nRegister Here 
URL:https://www.sinaitemple.org/event/weekly-parsha-class/2028-03-16/
LOCATION:Zoom\, 10400 Wilshire Blvd\, Los Angeles\, CA\, 90024\, United States
CATEGORIES:Events
ATTACH;FMTTYPE=image/png:https://www.sinaitemple.org/wp-content/uploads/2025/09/Weekly-Parsha-Class-Flyer-.png
END:VEVENT
BEGIN:VEVENT
DTSTART;TZID=America/Los_Angeles:20280322T093000
DTEND;TZID=America/Los_Angeles:20280322T103000
DTSTAMP:20260420T065026
CREATED:20250827T222718Z
LAST-MODIFIED:20260304T173057Z
UID:10029565-1837330200-1837333800@www.sinaitemple.org
SUMMARY:The Balance Class
DESCRIPTION:The 10/100 Program consists of six simple movements designed to grow your brain (neuroplasticity)\, improve your balance (proprioception) and strengthen your immune system. \nGroup Classes are FREE! Wednesdays from 9:30 -10:30 a.m. VIA ZOOM! \nClick HERE to join via Zoom during meeting time.
URL:https://www.sinaitemple.org/event/the-balance-class-2022-07-20-2/2028-03-22/
LOCATION:Sinai Temple
CATEGORIES:Events,Sisterhood
ATTACH;FMTTYPE=image/jpeg:https://www.sinaitemple.org/wp-content/uploads/2022/02/Untitled-design.jpg
END:VEVENT
END:VCALENDAR