BEGIN:VCALENDAR
VERSION:2.0
PRODID:-//Sinai Temple - ECPv6.15.18//NONSGML v1.0//EN
CALSCALE:GREGORIAN
METHOD:PUBLISH
X-ORIGINAL-URL:https://www.sinaitemple.org
X-WR-CALDESC:Events for Sinai Temple
REFRESH-INTERVAL;VALUE=DURATION:PT1H
X-Robots-Tag:noindex
X-PUBLISHED-TTL:PT1H
BEGIN:VTIMEZONE
TZID:America/Los_Angeles
BEGIN:DAYLIGHT
TZOFFSETFROM:-0800
TZOFFSETTO:-0700
TZNAME:PDT
DTSTART:20230312T100000
END:DAYLIGHT
BEGIN:STANDARD
TZOFFSETFROM:-0700
TZOFFSETTO:-0800
TZNAME:PST
DTSTART:20231105T090000
END:STANDARD
BEGIN:DAYLIGHT
TZOFFSETFROM:-0800
TZOFFSETTO:-0700
TZNAME:PDT
DTSTART:20240310T100000
END:DAYLIGHT
BEGIN:STANDARD
TZOFFSETFROM:-0700
TZOFFSETTO:-0800
TZNAME:PST
DTSTART:20241103T090000
END:STANDARD
BEGIN:DAYLIGHT
TZOFFSETFROM:-0800
TZOFFSETTO:-0700
TZNAME:PDT
DTSTART:20250309T100000
END:DAYLIGHT
BEGIN:STANDARD
TZOFFSETFROM:-0700
TZOFFSETTO:-0800
TZNAME:PST
DTSTART:20251102T090000
END:STANDARD
END:VTIMEZONE
BEGIN:VEVENT
DTSTART;TZID=America/Los_Angeles:20241102T113000
DTEND;TZID=America/Los_Angeles:20241102T130000
DTSTAMP:20260423T055114
CREATED:20241008T210038Z
LAST-MODIFIED:20241008T210038Z
UID:10018827-1730547000-1730552400@www.sinaitemple.org
SUMMARY:Shabbat Lite Lunch with Avi Mayer
DESCRIPTION:Lunch Included\nTickets: $18/Adults and $10/Kids\n\n \n\n \n\n \n\nCelebrate Shabbat in community and joy as we gather for a delightful lunch featuring guest speaker Avi Mayer. Known for his insightful perspectives and engaging storytelling\, Avi Mayer will share reflections on Jewish identity and connection in today’s world. 
URL:https://www.sinaitemple.org/event/shabbat-lite-lunch-with-avi-mayer/
LOCATION:Ziegler Hall
CATEGORIES:ATID,Chai Society,Events,Israel Center,Mental Health Center,Religious School,Sisterhood,Teen Center
ATTACH;FMTTYPE=image/png:https://www.sinaitemple.org/wp-content/uploads/2024/10/Shabbat-Lite-Lunch-_IDF-Soldier-1.png
END:VEVENT
BEGIN:VEVENT
DTSTART;TZID=America/Los_Angeles:20241105T183000
DTEND;TZID=America/Los_Angeles:20241105T200000
DTSTAMP:20260423T055114
CREATED:20241022T223950Z
LAST-MODIFIED:20241022T224101Z
UID:10018833-1730831400-1730836800@www.sinaitemple.org
SUMMARY:Miller Intro to Judaism with Rabbi Kornsgold
DESCRIPTION:The Miller Introduction to Judaism Program is the go-to course for anyone interested in building a foundation of Jewish knowledge\, how-tos\, and practices. The program is being offered through the Maas Center at American Jewish University. This is an in-person class taught at Sinai Temple. \n*Make sure to sign up for the West LA Sinai Temple class
URL:https://www.sinaitemple.org/event/miller-intro-to-judaism-with-rabbi-kornsgold/2024-11-05/
LOCATION:Sinai Temple
CATEGORIES:ATID,Chai Society,Empty Nesters Group,Israel Center,Learn at Sinai,Men's Club,Mental Health Center,People in Their 40's/50's,Religious School,Sisterhood
ATTACH;FMTTYPE=image/png:https://www.sinaitemple.org/wp-content/uploads/2024/10/Intro-to-Judaism.png
END:VEVENT
BEGIN:VEVENT
DTSTART;TZID=America/Los_Angeles:20241112T183000
DTEND;TZID=America/Los_Angeles:20241112T200000
DTSTAMP:20260423T055114
CREATED:20241022T223950Z
LAST-MODIFIED:20241022T224101Z
UID:10018834-1731436200-1731441600@www.sinaitemple.org
SUMMARY:Miller Intro to Judaism with Rabbi Kornsgold
DESCRIPTION:The Miller Introduction to Judaism Program is the go-to course for anyone interested in building a foundation of Jewish knowledge\, how-tos\, and practices. The program is being offered through the Maas Center at American Jewish University. This is an in-person class taught at Sinai Temple. \n*Make sure to sign up for the West LA Sinai Temple class
URL:https://www.sinaitemple.org/event/miller-intro-to-judaism-with-rabbi-kornsgold/2024-11-12/
LOCATION:Sinai Temple
CATEGORIES:ATID,Chai Society,Empty Nesters Group,Israel Center,Learn at Sinai,Men's Club,Mental Health Center,People in Their 40's/50's,Religious School,Sisterhood
ATTACH;FMTTYPE=image/png:https://www.sinaitemple.org/wp-content/uploads/2024/10/Intro-to-Judaism.png
END:VEVENT
BEGIN:VEVENT
DTSTART;TZID=America/Los_Angeles:20241118T183000
DTEND;TZID=America/Los_Angeles:20241118T200000
DTSTAMP:20260423T055114
CREATED:20241028T232229Z
LAST-MODIFIED:20241028T232229Z
UID:10025923-1731954600-1731960000@www.sinaitemple.org
SUMMARY:Introduction Hebrew Reading Class for Adults
DESCRIPTION:Whether you’re a beginner or looking to brush up on your skills\, this in-person event is perfect for anyone interested in learning the language. Our experienced instructor\, Jay Harwitt\, will guide you through the basics and help you improve your Hebrew proficiency. This is an in-person class taught at Sinai Temple.
URL:https://www.sinaitemple.org/event/introduction-hebrew-reading-class-for-adults/2024-11-18/
LOCATION:Sinai Temple
CATEGORIES:ATID,Chai Society,Empty Nesters Group,Israel Center,Learn at Sinai,Men's Club,Religious School,Sisterhood
ATTACH;FMTTYPE=image/png:https://www.sinaitemple.org/wp-content/uploads/2024/10/Intro-to-Hebrew.png
END:VEVENT
BEGIN:VEVENT
DTSTART;TZID=America/Los_Angeles:20241119T183000
DTEND;TZID=America/Los_Angeles:20241119T200000
DTSTAMP:20260423T055114
CREATED:20241022T223950Z
LAST-MODIFIED:20241022T224101Z
UID:10018835-1732041000-1732046400@www.sinaitemple.org
SUMMARY:Miller Intro to Judaism with Rabbi Kornsgold
DESCRIPTION:The Miller Introduction to Judaism Program is the go-to course for anyone interested in building a foundation of Jewish knowledge\, how-tos\, and practices. The program is being offered through the Maas Center at American Jewish University. This is an in-person class taught at Sinai Temple. \n*Make sure to sign up for the West LA Sinai Temple class
URL:https://www.sinaitemple.org/event/miller-intro-to-judaism-with-rabbi-kornsgold/2024-11-19/
LOCATION:Sinai Temple
CATEGORIES:ATID,Chai Society,Empty Nesters Group,Israel Center,Learn at Sinai,Men's Club,Mental Health Center,People in Their 40's/50's,Religious School,Sisterhood
ATTACH;FMTTYPE=image/png:https://www.sinaitemple.org/wp-content/uploads/2024/10/Intro-to-Judaism.png
END:VEVENT
BEGIN:VEVENT
DTSTART;TZID=America/Los_Angeles:20241126T183000
DTEND;TZID=America/Los_Angeles:20241126T200000
DTSTAMP:20260423T055114
CREATED:20241022T223950Z
LAST-MODIFIED:20241022T224101Z
UID:10018836-1732645800-1732651200@www.sinaitemple.org
SUMMARY:Miller Intro to Judaism with Rabbi Kornsgold
DESCRIPTION:The Miller Introduction to Judaism Program is the go-to course for anyone interested in building a foundation of Jewish knowledge\, how-tos\, and practices. The program is being offered through the Maas Center at American Jewish University. This is an in-person class taught at Sinai Temple. \n*Make sure to sign up for the West LA Sinai Temple class
URL:https://www.sinaitemple.org/event/miller-intro-to-judaism-with-rabbi-kornsgold/2024-11-26/
LOCATION:Sinai Temple
CATEGORIES:ATID,Chai Society,Empty Nesters Group,Israel Center,Learn at Sinai,Men's Club,Mental Health Center,People in Their 40's/50's,Religious School,Sisterhood
ATTACH;FMTTYPE=image/png:https://www.sinaitemple.org/wp-content/uploads/2024/10/Intro-to-Judaism.png
END:VEVENT
END:VCALENDAR