BEGIN:VCALENDAR
VERSION:2.0
PRODID:-//Sinai Temple - ECPv6.15.18//NONSGML v1.0//EN
CALSCALE:GREGORIAN
METHOD:PUBLISH
X-WR-CALNAME:Sinai Temple
X-ORIGINAL-URL:https://www.sinaitemple.org
X-WR-CALDESC:Events for Sinai Temple
REFRESH-INTERVAL;VALUE=DURATION:PT1H
X-Robots-Tag:noindex
X-PUBLISHED-TTL:PT1H
BEGIN:VTIMEZONE
TZID:America/Los_Angeles
BEGIN:DAYLIGHT
TZOFFSETFROM:-0800
TZOFFSETTO:-0700
TZNAME:PDT
DTSTART:20230312T100000
END:DAYLIGHT
BEGIN:STANDARD
TZOFFSETFROM:-0700
TZOFFSETTO:-0800
TZNAME:PST
DTSTART:20231105T090000
END:STANDARD
BEGIN:DAYLIGHT
TZOFFSETFROM:-0800
TZOFFSETTO:-0700
TZNAME:PDT
DTSTART:20240310T100000
END:DAYLIGHT
BEGIN:STANDARD
TZOFFSETFROM:-0700
TZOFFSETTO:-0800
TZNAME:PST
DTSTART:20241103T090000
END:STANDARD
BEGIN:DAYLIGHT
TZOFFSETFROM:-0800
TZOFFSETTO:-0700
TZNAME:PDT
DTSTART:20250309T100000
END:DAYLIGHT
BEGIN:STANDARD
TZOFFSETFROM:-0700
TZOFFSETTO:-0800
TZNAME:PST
DTSTART:20251102T090000
END:STANDARD
END:VTIMEZONE
BEGIN:VEVENT
DTSTART;TZID=America/Los_Angeles:20241203T183000
DTEND;TZID=America/Los_Angeles:20241203T200000
DTSTAMP:20260423T035037
CREATED:20241022T223950Z
LAST-MODIFIED:20241022T224101Z
UID:10018837-1733250600-1733256000@www.sinaitemple.org
SUMMARY:Miller Intro to Judaism with Rabbi Kornsgold
DESCRIPTION:The Miller Introduction to Judaism Program is the go-to course for anyone interested in building a foundation of Jewish knowledge\, how-tos\, and practices. The program is being offered through the Maas Center at American Jewish University. This is an in-person class taught at Sinai Temple. \n*Make sure to sign up for the West LA Sinai Temple class
URL:https://www.sinaitemple.org/event/miller-intro-to-judaism-with-rabbi-kornsgold/2024-12-03/
LOCATION:Sinai Temple
CATEGORIES:ATID,Chai Society,Empty Nesters Group,Israel Center,Learn at Sinai,Men's Club,Mental Health Center,People in Their 40's/50's,Religious School,Sisterhood
ATTACH;FMTTYPE=image/png:https://www.sinaitemple.org/wp-content/uploads/2024/10/Intro-to-Judaism.png
END:VEVENT
BEGIN:VEVENT
DTSTART;TZID=America/Los_Angeles:20241210T183000
DTEND;TZID=America/Los_Angeles:20241210T200000
DTSTAMP:20260423T035037
CREATED:20241022T223950Z
LAST-MODIFIED:20241022T224101Z
UID:10018838-1733855400-1733860800@www.sinaitemple.org
SUMMARY:Miller Intro to Judaism with Rabbi Kornsgold
DESCRIPTION:The Miller Introduction to Judaism Program is the go-to course for anyone interested in building a foundation of Jewish knowledge\, how-tos\, and practices. The program is being offered through the Maas Center at American Jewish University. This is an in-person class taught at Sinai Temple. \n*Make sure to sign up for the West LA Sinai Temple class
URL:https://www.sinaitemple.org/event/miller-intro-to-judaism-with-rabbi-kornsgold/2024-12-10/
LOCATION:Sinai Temple
CATEGORIES:ATID,Chai Society,Empty Nesters Group,Israel Center,Learn at Sinai,Men's Club,Mental Health Center,People in Their 40's/50's,Religious School,Sisterhood
ATTACH;FMTTYPE=image/png:https://www.sinaitemple.org/wp-content/uploads/2024/10/Intro-to-Judaism.png
END:VEVENT
BEGIN:VEVENT
DTSTART;TZID=America/Los_Angeles:20241217T183000
DTEND;TZID=America/Los_Angeles:20241217T200000
DTSTAMP:20260423T035037
CREATED:20241022T223950Z
LAST-MODIFIED:20241022T224101Z
UID:10018839-1734460200-1734465600@www.sinaitemple.org
SUMMARY:Miller Intro to Judaism with Rabbi Kornsgold
DESCRIPTION:The Miller Introduction to Judaism Program is the go-to course for anyone interested in building a foundation of Jewish knowledge\, how-tos\, and practices. The program is being offered through the Maas Center at American Jewish University. This is an in-person class taught at Sinai Temple. \n*Make sure to sign up for the West LA Sinai Temple class
URL:https://www.sinaitemple.org/event/miller-intro-to-judaism-with-rabbi-kornsgold/2024-12-17/
LOCATION:Sinai Temple
CATEGORIES:ATID,Chai Society,Empty Nesters Group,Israel Center,Learn at Sinai,Men's Club,Mental Health Center,People in Their 40's/50's,Religious School,Sisterhood
ATTACH;FMTTYPE=image/png:https://www.sinaitemple.org/wp-content/uploads/2024/10/Intro-to-Judaism.png
END:VEVENT
BEGIN:VEVENT
DTSTART;TZID=America/Los_Angeles:20241219T190000
DTEND;TZID=America/Los_Angeles:20241219T203000
DTSTAMP:20260423T035037
CREATED:20241217T225146Z
LAST-MODIFIED:20241217T225146Z
UID:10018855-1734634800-1734640200@www.sinaitemple.org
SUMMARY:Hanukkah Sing-Along with Cantor Feldman and Others
DESCRIPTION:Led by the Director of the Los Angeles Jewish Community Children’s Choir\, Dr. Michelle Green Willner\, Sinai Temple’s Music Director\, Benjamin Fingerhut\, and Cantor Marcus Feldman. Enjoy delicious donuts as we celebrate with family-friendly music.
URL:https://www.sinaitemple.org/event/hanukkah-sing-along-with-cantor-feldman-and-others/
LOCATION:Kohn Chapel
CATEGORIES:Dor Chadash,Events,Holidays,Religious School,Teen Center
ATTACH;FMTTYPE=image/png:https://www.sinaitemple.org/wp-content/uploads/2024/12/Hanukkah-Sing-Along.png
END:VEVENT
BEGIN:VEVENT
DTSTART;TZID=America/Los_Angeles:20241226T170000
DTEND;TZID=America/Los_Angeles:20241226T180000
DTSTAMP:20260423T035037
CREATED:20241217T225532Z
LAST-MODIFIED:20241217T225532Z
UID:10018856-1735232400-1735236000@www.sinaitemple.org
SUMMARY:Westwood Hanukkah Community Candle Lighting
DESCRIPTION:Address will be provided upon registration \nJoin Rabbis Guzik and Sherman for a beautiful community Hanukkiah lighting.
URL:https://www.sinaitemple.org/event/westwood-hanukkah-community-candle-lighting/
LOCATION:Westwood\, CA\, United States
CATEGORIES:Chai Society,Dor Chadash,Events,Holiday Services,Holidays,Religious School,Sisterhood,Social Action,Teen Center
ATTACH;FMTTYPE=image/png:https://www.sinaitemple.org/wp-content/uploads/2024/12/Westwood-Hanukkah_CC.png
END:VEVENT
END:VCALENDAR