BEGIN:VCALENDAR
VERSION:2.0
PRODID:-//Sinai Temple - ECPv6.15.18//NONSGML v1.0//EN
CALSCALE:GREGORIAN
METHOD:PUBLISH
X-WR-CALNAME:Sinai Temple
X-ORIGINAL-URL:https://www.sinaitemple.org
X-WR-CALDESC:Events for Sinai Temple
REFRESH-INTERVAL;VALUE=DURATION:PT1H
X-Robots-Tag:noindex
X-PUBLISHED-TTL:PT1H
BEGIN:VTIMEZONE
TZID:America/Los_Angeles
BEGIN:DAYLIGHT
TZOFFSETFROM:-0800
TZOFFSETTO:-0700
TZNAME:PDT
DTSTART:20250309T100000
END:DAYLIGHT
BEGIN:STANDARD
TZOFFSETFROM:-0700
TZOFFSETTO:-0800
TZNAME:PST
DTSTART:20251102T090000
END:STANDARD
BEGIN:DAYLIGHT
TZOFFSETFROM:-0800
TZOFFSETTO:-0700
TZNAME:PDT
DTSTART:20260308T100000
END:DAYLIGHT
BEGIN:STANDARD
TZOFFSETFROM:-0700
TZOFFSETTO:-0800
TZNAME:PST
DTSTART:20261101T090000
END:STANDARD
BEGIN:DAYLIGHT
TZOFFSETFROM:-0800
TZOFFSETTO:-0700
TZNAME:PDT
DTSTART:20270314T100000
END:DAYLIGHT
BEGIN:STANDARD
TZOFFSETFROM:-0700
TZOFFSETTO:-0800
TZNAME:PST
DTSTART:20271107T090000
END:STANDARD
END:VTIMEZONE
BEGIN:VEVENT
DTSTART;TZID=America/Los_Angeles:20260503T100000
DTEND;TZID=America/Los_Angeles:20260503T130000
DTSTAMP:20260420T194551
CREATED:20260416T171847Z
LAST-MODIFIED:20260416T171847Z
UID:10033901-1777802400-1777813200@www.sinaitemple.org
SUMMARY:Mitzvah Day! & Beyond at Sinai Temple
DESCRIPTION:Sunday\, May 3 | 10:00 AM – 1:00 PM \n\n\n4th Floor patio | Sinai Temple \n\n\n\nJoin Sinai Temple for a day of giving back and community connection\, featuring hands-on service projects supporting organizations in Los Angeles and Israel alongside STARS Religious School student-led Israeli-style shuk. \n\n\n\nAll proceeds benefit Israel & STARS! \nRSVP HERE
URL:https://www.sinaitemple.org/event/mitzvah-day-beyond-at-sinai-temple/
LOCATION:Sinai Temple
CATEGORIES:Events,Religious School,Social Action
ATTACH;FMTTYPE=image/png:https://www.sinaitemple.org/wp-content/uploads/2026/04/Mitzvah-Market-2.png
END:VEVENT
END:VCALENDAR