BEGIN:VCALENDAR
VERSION:2.0
PRODID:-//Sinai Temple - ECPv6.15.18//NONSGML v1.0//EN
CALSCALE:GREGORIAN
METHOD:PUBLISH
X-WR-CALNAME:Sinai Temple
X-ORIGINAL-URL:https://www.sinaitemple.org
X-WR-CALDESC:Events for Sinai Temple
REFRESH-INTERVAL;VALUE=DURATION:PT1H
X-Robots-Tag:noindex
X-PUBLISHED-TTL:PT1H
BEGIN:VTIMEZONE
TZID:America/Los_Angeles
BEGIN:DAYLIGHT
TZOFFSETFROM:-0800
TZOFFSETTO:-0700
TZNAME:PDT
DTSTART:20160313T100000
END:DAYLIGHT
BEGIN:STANDARD
TZOFFSETFROM:-0700
TZOFFSETTO:-0800
TZNAME:PST
DTSTART:20161106T090000
END:STANDARD
BEGIN:DAYLIGHT
TZOFFSETFROM:-0800
TZOFFSETTO:-0700
TZNAME:PDT
DTSTART:20170312T100000
END:DAYLIGHT
BEGIN:STANDARD
TZOFFSETFROM:-0700
TZOFFSETTO:-0800
TZNAME:PST
DTSTART:20171105T090000
END:STANDARD
BEGIN:DAYLIGHT
TZOFFSETFROM:-0800
TZOFFSETTO:-0700
TZNAME:PDT
DTSTART:20180311T100000
END:DAYLIGHT
BEGIN:STANDARD
TZOFFSETFROM:-0700
TZOFFSETTO:-0800
TZNAME:PST
DTSTART:20181104T090000
END:STANDARD
END:VTIMEZONE
BEGIN:VEVENT
DTSTART;TZID=America/Los_Angeles:20171209T100000
DTEND;TZID=America/Los_Angeles:20171209T110000
DTSTAMP:20260420T231916
CREATED:20171107T184253Z
LAST-MODIFIED:20171107T184752Z
UID:10014787-1512813600-1512817200@www.sinaitemple.org
SUMMARY:STARS Shabbat
DESCRIPTION:Sinai Temple Religious School Shabbat. Led by K and 1st grade students.
URL:https://www.sinaitemple.org/event/stars-shabbat-2/
CATEGORIES:Religious School
ATTACH;FMTTYPE=image/jpeg:https://www.sinaitemple.org/wp-content/uploads/2015/12/religious-school.jpg
END:VEVENT
BEGIN:VEVENT
DTSTART;TZID=America/Los_Angeles:20171118T100000
DTEND;TZID=America/Los_Angeles:20171118T110000
DTSTAMP:20260420T231916
CREATED:20171107T184042Z
LAST-MODIFIED:20171107T184833Z
UID:10014011-1510999200-1511002800@www.sinaitemple.org
SUMMARY:STARS Shabbat
DESCRIPTION:Sinai Temple Religious School Shabbat. \nLed by 6th graders.
URL:https://www.sinaitemple.org/event/stars-shabbat/
CATEGORIES:Religious School
ATTACH;FMTTYPE=image/jpeg:https://www.sinaitemple.org/wp-content/uploads/2015/12/sinai-temple-religious-school.jpg
END:VEVENT
BEGIN:VEVENT
DTSTART;TZID=America/Los_Angeles:20170811T090000
DTEND;TZID=America/Los_Angeles:20170811T143000
DTSTAMP:20260420T231916
CREATED:20170406T195918Z
LAST-MODIFIED:20170406T202806Z
UID:10013406-1502442000-1502461800@www.sinaitemple.org
SUMMARY:Sinai Temple Basketball Camp
DESCRIPTION:STBC is now open to boys and girls entering 3rd-4th grade in association with Coach J. Located in the Weinberg and Rickles gyms\, STBC features fundamentals\, tournament-style games\, 3-point contests\, award ceremony\, celebrity guests\, sports trivia\, camp t-shirt\, and pizza party!
URL:https://www.sinaitemple.org/event/sinai-temple-basketball-camp-3/2017-08-11/
CATEGORIES:Religious School
ATTACH;FMTTYPE=image/jpeg:https://www.sinaitemple.org/wp-content/uploads/2017/04/STBC@2x.jpg
END:VEVENT
BEGIN:VEVENT
DTSTART;TZID=America/Los_Angeles:20170810T090000
DTEND;TZID=America/Los_Angeles:20170810T143000
DTSTAMP:20260420T231916
CREATED:20170406T195918Z
LAST-MODIFIED:20170406T202806Z
UID:10013405-1502355600-1502375400@www.sinaitemple.org
SUMMARY:Sinai Temple Basketball Camp
DESCRIPTION:STBC is now open to boys and girls entering 3rd-4th grade in association with Coach J. Located in the Weinberg and Rickles gyms\, STBC features fundamentals\, tournament-style games\, 3-point contests\, award ceremony\, celebrity guests\, sports trivia\, camp t-shirt\, and pizza party!
URL:https://www.sinaitemple.org/event/sinai-temple-basketball-camp-3/2017-08-10/
CATEGORIES:Religious School
ATTACH;FMTTYPE=image/jpeg:https://www.sinaitemple.org/wp-content/uploads/2017/04/STBC@2x.jpg
END:VEVENT
BEGIN:VEVENT
DTSTART;TZID=America/Los_Angeles:20170809T090000
DTEND;TZID=America/Los_Angeles:20170809T143000
DTSTAMP:20260420T231916
CREATED:20170406T195918Z
LAST-MODIFIED:20170406T202806Z
UID:10013404-1502269200-1502289000@www.sinaitemple.org
SUMMARY:Sinai Temple Basketball Camp
DESCRIPTION:STBC is now open to boys and girls entering 3rd-4th grade in association with Coach J. Located in the Weinberg and Rickles gyms\, STBC features fundamentals\, tournament-style games\, 3-point contests\, award ceremony\, celebrity guests\, sports trivia\, camp t-shirt\, and pizza party!
URL:https://www.sinaitemple.org/event/sinai-temple-basketball-camp-3/2017-08-09/
CATEGORIES:Religious School
ATTACH;FMTTYPE=image/jpeg:https://www.sinaitemple.org/wp-content/uploads/2017/04/STBC@2x.jpg
END:VEVENT
BEGIN:VEVENT
DTSTART;TZID=America/Los_Angeles:20170808T090000
DTEND;TZID=America/Los_Angeles:20170808T143000
DTSTAMP:20260420T231916
CREATED:20170406T195918Z
LAST-MODIFIED:20170406T202806Z
UID:10013403-1502182800-1502202600@www.sinaitemple.org
SUMMARY:Sinai Temple Basketball Camp
DESCRIPTION:STBC is now open to boys and girls entering 3rd-4th grade in association with Coach J. Located in the Weinberg and Rickles gyms\, STBC features fundamentals\, tournament-style games\, 3-point contests\, award ceremony\, celebrity guests\, sports trivia\, camp t-shirt\, and pizza party!
URL:https://www.sinaitemple.org/event/sinai-temple-basketball-camp-3/2017-08-08/
CATEGORIES:Religious School
ATTACH;FMTTYPE=image/jpeg:https://www.sinaitemple.org/wp-content/uploads/2017/04/STBC@2x.jpg
END:VEVENT
BEGIN:VEVENT
DTSTART;TZID=America/Los_Angeles:20170807T090000
DTEND;TZID=America/Los_Angeles:20170807T143000
DTSTAMP:20260420T231916
CREATED:20170406T195918Z
LAST-MODIFIED:20170406T202806Z
UID:10013402-1502096400-1502116200@www.sinaitemple.org
SUMMARY:Sinai Temple Basketball Camp
DESCRIPTION:STBC is now open to boys and girls entering 3rd-4th grade in association with Coach J. Located in the Weinberg and Rickles gyms\, STBC features fundamentals\, tournament-style games\, 3-point contests\, award ceremony\, celebrity guests\, sports trivia\, camp t-shirt\, and pizza party!
URL:https://www.sinaitemple.org/event/sinai-temple-basketball-camp-3/2017-08-07/
CATEGORIES:Religious School
ATTACH;FMTTYPE=image/jpeg:https://www.sinaitemple.org/wp-content/uploads/2017/04/STBC@2x.jpg
END:VEVENT
BEGIN:VEVENT
DTSTART;TZID=America/Los_Angeles:20170728T090000
DTEND;TZID=America/Los_Angeles:20170728T143000
DTSTAMP:20260420T231916
CREATED:20170406T195837Z
LAST-MODIFIED:20170406T202852Z
UID:10014332-1501232400-1501252200@www.sinaitemple.org
SUMMARY:Sinai Temple Basketball Camp
DESCRIPTION:STBC is now open to boys and girls entering 3rd-4th grade in association with Coach J. Located in the Weinberg and Rickles gyms\, STBC features fundamentals\, tournament-style games\, 3-point contests\, award ceremony\, celebrity guests\, sports trivia\, camp t-shirt\, and pizza party!
URL:https://www.sinaitemple.org/event/sinai-temple-basketball-camp-2/2017-07-28/
CATEGORIES:Religious School
ATTACH;FMTTYPE=image/jpeg:https://www.sinaitemple.org/wp-content/uploads/2017/04/STBC@2x.jpg
END:VEVENT
BEGIN:VEVENT
DTSTART;TZID=America/Los_Angeles:20170727T090000
DTEND;TZID=America/Los_Angeles:20170727T143000
DTSTAMP:20260420T231916
CREATED:20170406T195837Z
LAST-MODIFIED:20170406T202852Z
UID:10014331-1501146000-1501165800@www.sinaitemple.org
SUMMARY:Sinai Temple Basketball Camp
DESCRIPTION:STBC is now open to boys and girls entering 3rd-4th grade in association with Coach J. Located in the Weinberg and Rickles gyms\, STBC features fundamentals\, tournament-style games\, 3-point contests\, award ceremony\, celebrity guests\, sports trivia\, camp t-shirt\, and pizza party!
URL:https://www.sinaitemple.org/event/sinai-temple-basketball-camp-2/2017-07-27/
CATEGORIES:Religious School
ATTACH;FMTTYPE=image/jpeg:https://www.sinaitemple.org/wp-content/uploads/2017/04/STBC@2x.jpg
END:VEVENT
BEGIN:VEVENT
DTSTART;TZID=America/Los_Angeles:20170726T090000
DTEND;TZID=America/Los_Angeles:20170726T143000
DTSTAMP:20260420T231916
CREATED:20170406T195837Z
LAST-MODIFIED:20170406T202852Z
UID:10014330-1501059600-1501079400@www.sinaitemple.org
SUMMARY:Sinai Temple Basketball Camp
DESCRIPTION:STBC is now open to boys and girls entering 3rd-4th grade in association with Coach J. Located in the Weinberg and Rickles gyms\, STBC features fundamentals\, tournament-style games\, 3-point contests\, award ceremony\, celebrity guests\, sports trivia\, camp t-shirt\, and pizza party!
URL:https://www.sinaitemple.org/event/sinai-temple-basketball-camp-2/2017-07-26/
CATEGORIES:Religious School
ATTACH;FMTTYPE=image/jpeg:https://www.sinaitemple.org/wp-content/uploads/2017/04/STBC@2x.jpg
END:VEVENT
BEGIN:VEVENT
DTSTART;TZID=America/Los_Angeles:20170725T090000
DTEND;TZID=America/Los_Angeles:20170725T143000
DTSTAMP:20260420T231916
CREATED:20170406T195837Z
LAST-MODIFIED:20170406T202852Z
UID:10014329-1500973200-1500993000@www.sinaitemple.org
SUMMARY:Sinai Temple Basketball Camp
DESCRIPTION:STBC is now open to boys and girls entering 3rd-4th grade in association with Coach J. Located in the Weinberg and Rickles gyms\, STBC features fundamentals\, tournament-style games\, 3-point contests\, award ceremony\, celebrity guests\, sports trivia\, camp t-shirt\, and pizza party!
URL:https://www.sinaitemple.org/event/sinai-temple-basketball-camp-2/2017-07-25/
CATEGORIES:Religious School
ATTACH;FMTTYPE=image/jpeg:https://www.sinaitemple.org/wp-content/uploads/2017/04/STBC@2x.jpg
END:VEVENT
BEGIN:VEVENT
DTSTART;TZID=America/Los_Angeles:20170724T090000
DTEND;TZID=America/Los_Angeles:20170724T143000
DTSTAMP:20260420T231916
CREATED:20170406T195837Z
LAST-MODIFIED:20170406T202852Z
UID:10014328-1500886800-1500906600@www.sinaitemple.org
SUMMARY:Sinai Temple Basketball Camp
DESCRIPTION:STBC is now open to boys and girls entering 3rd-4th grade in association with Coach J. Located in the Weinberg and Rickles gyms\, STBC features fundamentals\, tournament-style games\, 3-point contests\, award ceremony\, celebrity guests\, sports trivia\, camp t-shirt\, and pizza party!
URL:https://www.sinaitemple.org/event/sinai-temple-basketball-camp-2/2017-07-24/
CATEGORIES:Religious School
ATTACH;FMTTYPE=image/jpeg:https://www.sinaitemple.org/wp-content/uploads/2017/04/STBC@2x.jpg
END:VEVENT
BEGIN:VEVENT
DTSTART;TZID=America/Los_Angeles:20170623T090000
DTEND;TZID=America/Los_Angeles:20170623T143000
DTSTAMP:20260420T231916
CREATED:20170406T195732Z
LAST-MODIFIED:20170406T202949Z
UID:10014327-1498208400-1498228200@www.sinaitemple.org
SUMMARY:Sinai Temple Basketball Camp
DESCRIPTION:STBC is now open to boys and girls entering 3rd-4th grade in association with Coach J. Located in the Weinberg and Rickles gyms\, STBC features fundamentals\, tournament-style games\, 3-point contests\, award ceremony\, celebrity guests\, sports trivia\, camp t-shirt\, and pizza party!
URL:https://www.sinaitemple.org/event/sinai-temple-basketball-camp/2017-06-23/
CATEGORIES:Religious School
ATTACH;FMTTYPE=image/jpeg:https://www.sinaitemple.org/wp-content/uploads/2017/04/STBC@2x.jpg
END:VEVENT
BEGIN:VEVENT
DTSTART;TZID=America/Los_Angeles:20170622T090000
DTEND;TZID=America/Los_Angeles:20170622T143000
DTSTAMP:20260420T231916
CREATED:20170406T195732Z
LAST-MODIFIED:20170406T202949Z
UID:10014326-1498122000-1498141800@www.sinaitemple.org
SUMMARY:Sinai Temple Basketball Camp
DESCRIPTION:STBC is now open to boys and girls entering 3rd-4th grade in association with Coach J. Located in the Weinberg and Rickles gyms\, STBC features fundamentals\, tournament-style games\, 3-point contests\, award ceremony\, celebrity guests\, sports trivia\, camp t-shirt\, and pizza party!
URL:https://www.sinaitemple.org/event/sinai-temple-basketball-camp/2017-06-22/
CATEGORIES:Religious School
ATTACH;FMTTYPE=image/jpeg:https://www.sinaitemple.org/wp-content/uploads/2017/04/STBC@2x.jpg
END:VEVENT
BEGIN:VEVENT
DTSTART;TZID=America/Los_Angeles:20170621T090000
DTEND;TZID=America/Los_Angeles:20170621T143000
DTSTAMP:20260420T231916
CREATED:20170406T195732Z
LAST-MODIFIED:20170406T202949Z
UID:10014325-1498035600-1498055400@www.sinaitemple.org
SUMMARY:Sinai Temple Basketball Camp
DESCRIPTION:STBC is now open to boys and girls entering 3rd-4th grade in association with Coach J. Located in the Weinberg and Rickles gyms\, STBC features fundamentals\, tournament-style games\, 3-point contests\, award ceremony\, celebrity guests\, sports trivia\, camp t-shirt\, and pizza party!
URL:https://www.sinaitemple.org/event/sinai-temple-basketball-camp/2017-06-21/
CATEGORIES:Religious School
ATTACH;FMTTYPE=image/jpeg:https://www.sinaitemple.org/wp-content/uploads/2017/04/STBC@2x.jpg
END:VEVENT
BEGIN:VEVENT
DTSTART;TZID=America/Los_Angeles:20170620T090000
DTEND;TZID=America/Los_Angeles:20170620T143000
DTSTAMP:20260420T231916
CREATED:20170406T195732Z
LAST-MODIFIED:20170406T202949Z
UID:10014324-1497949200-1497969000@www.sinaitemple.org
SUMMARY:Sinai Temple Basketball Camp
DESCRIPTION:STBC is now open to boys and girls entering 3rd-4th grade in association with Coach J. Located in the Weinberg and Rickles gyms\, STBC features fundamentals\, tournament-style games\, 3-point contests\, award ceremony\, celebrity guests\, sports trivia\, camp t-shirt\, and pizza party!
URL:https://www.sinaitemple.org/event/sinai-temple-basketball-camp/2017-06-20/
CATEGORIES:Religious School
ATTACH;FMTTYPE=image/jpeg:https://www.sinaitemple.org/wp-content/uploads/2017/04/STBC@2x.jpg
END:VEVENT
BEGIN:VEVENT
DTSTART;TZID=America/Los_Angeles:20170619T090000
DTEND;TZID=America/Los_Angeles:20170619T143000
DTSTAMP:20260420T231916
CREATED:20170406T195732Z
LAST-MODIFIED:20170406T202949Z
UID:10014323-1497862800-1497882600@www.sinaitemple.org
SUMMARY:Sinai Temple Basketball Camp
DESCRIPTION:STBC is now open to boys and girls entering 3rd-4th grade in association with Coach J. Located in the Weinberg and Rickles gyms\, STBC features fundamentals\, tournament-style games\, 3-point contests\, award ceremony\, celebrity guests\, sports trivia\, camp t-shirt\, and pizza party!
URL:https://www.sinaitemple.org/event/sinai-temple-basketball-camp/2017-06-19/
CATEGORIES:Religious School
ATTACH;FMTTYPE=image/jpeg:https://www.sinaitemple.org/wp-content/uploads/2017/04/STBC@2x.jpg
END:VEVENT
BEGIN:VEVENT
DTSTART;TZID=America/Los_Angeles:20170618T090000
DTEND;TZID=America/Los_Angeles:20170618T143000
DTSTAMP:20260420T231916
CREATED:20170406T195732Z
LAST-MODIFIED:20170406T202949Z
UID:10014322-1497776400-1497796200@www.sinaitemple.org
SUMMARY:Sinai Temple Basketball Camp
DESCRIPTION:STBC is now open to boys and girls entering 3rd-4th grade in association with Coach J. Located in the Weinberg and Rickles gyms\, STBC features fundamentals\, tournament-style games\, 3-point contests\, award ceremony\, celebrity guests\, sports trivia\, camp t-shirt\, and pizza party!
URL:https://www.sinaitemple.org/event/sinai-temple-basketball-camp/2017-06-18/
CATEGORIES:Religious School
ATTACH;FMTTYPE=image/jpeg:https://www.sinaitemple.org/wp-content/uploads/2017/04/STBC@2x.jpg
END:VEVENT
BEGIN:VEVENT
DTSTART;TZID=America/Los_Angeles:20170617T090000
DTEND;TZID=America/Los_Angeles:20170617T143000
DTSTAMP:20260420T231916
CREATED:20170406T195732Z
LAST-MODIFIED:20170406T202949Z
UID:10014321-1497690000-1497709800@www.sinaitemple.org
SUMMARY:Sinai Temple Basketball Camp
DESCRIPTION:STBC is now open to boys and girls entering 3rd-4th grade in association with Coach J. Located in the Weinberg and Rickles gyms\, STBC features fundamentals\, tournament-style games\, 3-point contests\, award ceremony\, celebrity guests\, sports trivia\, camp t-shirt\, and pizza party!
URL:https://www.sinaitemple.org/event/sinai-temple-basketball-camp/2017-06-17/
CATEGORIES:Religious School
ATTACH;FMTTYPE=image/jpeg:https://www.sinaitemple.org/wp-content/uploads/2017/04/STBC@2x.jpg
END:VEVENT
BEGIN:VEVENT
DTSTART;TZID=America/Los_Angeles:20170616T090000
DTEND;TZID=America/Los_Angeles:20170616T143000
DTSTAMP:20260420T231916
CREATED:20170406T195732Z
LAST-MODIFIED:20170406T202949Z
UID:10014320-1497603600-1497623400@www.sinaitemple.org
SUMMARY:Sinai Temple Basketball Camp
DESCRIPTION:STBC is now open to boys and girls entering 3rd-4th grade in association with Coach J. Located in the Weinberg and Rickles gyms\, STBC features fundamentals\, tournament-style games\, 3-point contests\, award ceremony\, celebrity guests\, sports trivia\, camp t-shirt\, and pizza party!
URL:https://www.sinaitemple.org/event/sinai-temple-basketball-camp/2017-06-16/
CATEGORIES:Religious School
ATTACH;FMTTYPE=image/jpeg:https://www.sinaitemple.org/wp-content/uploads/2017/04/STBC@2x.jpg
END:VEVENT
BEGIN:VEVENT
DTSTART;TZID=America/Los_Angeles:20170615T090000
DTEND;TZID=America/Los_Angeles:20170615T143000
DTSTAMP:20260420T231916
CREATED:20170406T195732Z
LAST-MODIFIED:20170406T202949Z
UID:10014319-1497517200-1497537000@www.sinaitemple.org
SUMMARY:Sinai Temple Basketball Camp
DESCRIPTION:STBC is now open to boys and girls entering 3rd-4th grade in association with Coach J. Located in the Weinberg and Rickles gyms\, STBC features fundamentals\, tournament-style games\, 3-point contests\, award ceremony\, celebrity guests\, sports trivia\, camp t-shirt\, and pizza party!
URL:https://www.sinaitemple.org/event/sinai-temple-basketball-camp/2017-06-15/
CATEGORIES:Religious School
ATTACH;FMTTYPE=image/jpeg:https://www.sinaitemple.org/wp-content/uploads/2017/04/STBC@2x.jpg
END:VEVENT
BEGIN:VEVENT
DTSTART;TZID=America/Los_Angeles:20170614T090000
DTEND;TZID=America/Los_Angeles:20170614T143000
DTSTAMP:20260420T231916
CREATED:20170406T195732Z
LAST-MODIFIED:20170406T202949Z
UID:10014318-1497430800-1497450600@www.sinaitemple.org
SUMMARY:Sinai Temple Basketball Camp
DESCRIPTION:STBC is now open to boys and girls entering 3rd-4th grade in association with Coach J. Located in the Weinberg and Rickles gyms\, STBC features fundamentals\, tournament-style games\, 3-point contests\, award ceremony\, celebrity guests\, sports trivia\, camp t-shirt\, and pizza party!
URL:https://www.sinaitemple.org/event/sinai-temple-basketball-camp/2017-06-14/
CATEGORIES:Religious School
ATTACH;FMTTYPE=image/jpeg:https://www.sinaitemple.org/wp-content/uploads/2017/04/STBC@2x.jpg
END:VEVENT
BEGIN:VEVENT
DTSTART;TZID=America/Los_Angeles:20170613T090000
DTEND;TZID=America/Los_Angeles:20170613T143000
DTSTAMP:20260420T231916
CREATED:20170406T195732Z
LAST-MODIFIED:20170406T202949Z
UID:10014317-1497344400-1497364200@www.sinaitemple.org
SUMMARY:Sinai Temple Basketball Camp
DESCRIPTION:STBC is now open to boys and girls entering 3rd-4th grade in association with Coach J. Located in the Weinberg and Rickles gyms\, STBC features fundamentals\, tournament-style games\, 3-point contests\, award ceremony\, celebrity guests\, sports trivia\, camp t-shirt\, and pizza party!
URL:https://www.sinaitemple.org/event/sinai-temple-basketball-camp/2017-06-13/
CATEGORIES:Religious School
ATTACH;FMTTYPE=image/jpeg:https://www.sinaitemple.org/wp-content/uploads/2017/04/STBC@2x.jpg
END:VEVENT
BEGIN:VEVENT
DTSTART;TZID=America/Los_Angeles:20170612T090000
DTEND;TZID=America/Los_Angeles:20170612T143000
DTSTAMP:20260420T231916
CREATED:20170406T195732Z
LAST-MODIFIED:20170406T202949Z
UID:10014316-1497258000-1497277800@www.sinaitemple.org
SUMMARY:Sinai Temple Basketball Camp
DESCRIPTION:STBC is now open to boys and girls entering 3rd-4th grade in association with Coach J. Located in the Weinberg and Rickles gyms\, STBC features fundamentals\, tournament-style games\, 3-point contests\, award ceremony\, celebrity guests\, sports trivia\, camp t-shirt\, and pizza party!
URL:https://www.sinaitemple.org/event/sinai-temple-basketball-camp/2017-06-12/
CATEGORIES:Religious School
ATTACH;FMTTYPE=image/jpeg:https://www.sinaitemple.org/wp-content/uploads/2017/04/STBC@2x.jpg
END:VEVENT
BEGIN:VEVENT
DTSTART;TZID=America/Los_Angeles:20170610T100000
DTEND;TZID=America/Los_Angeles:20170610T120000
DTSTAMP:20260420T231916
CREATED:20170405T160250Z
LAST-MODIFIED:20170406T193252Z
UID:10014018-1497088800-1497096000@www.sinaitemple.org
SUMMARY:STARS Shabbat Morning
DESCRIPTION:
URL:https://www.sinaitemple.org/event/stars-shabbat-morning/2017-06-10/
CATEGORIES:Religious School
ATTACH;FMTTYPE=image/jpeg:https://www.sinaitemple.org/wp-content/uploads/2017/04/STARSShabbat@2x.jpg
END:VEVENT
BEGIN:VEVENT
DTSTART;VALUE=DATE:20170528
DTEND;VALUE=DATE:20170530
DTSTAMP:20260420T231916
CREATED:20170406T194923Z
LAST-MODIFIED:20170406T194923Z
UID:10014315-1495929600-1496102399@www.sinaitemple.org
SUMMARY:STARS Religious School Family Camping Trip
DESCRIPTION:
URL:https://www.sinaitemple.org/event/stars-religious-school-family-camping-trip/
CATEGORIES:Religious School
ATTACH;FMTTYPE=image/jpeg:https://www.sinaitemple.org/wp-content/uploads/2017/04/STARSCampingTrip@2x.jpg
END:VEVENT
BEGIN:VEVENT
DTSTART;TZID=America/Los_Angeles:20170521T163000
DTEND;TZID=America/Los_Angeles:20170521T170000
DTSTAMP:20260420T231916
CREATED:20170426T215208Z
LAST-MODIFIED:20170426T215209Z
UID:10013424-1495384200-1495386000@www.sinaitemple.org
SUMMARY:Free Family Movie Night
DESCRIPTION:Walk the red carpet\, pick up some popcorn\, snack on some FREE PIZZA\, and snuggle in for a screening of “Sing” at Roxbury Park. Don’t forget your blanket! Recommended for kids ages 4-8. Community welcome! Bring a new family for a free raffle ticket.
URL:https://www.sinaitemple.org/event/free-family-movie-night/
LOCATION:Roxbury Park\, 471 S Roxbury Drive\, Los Angeles\, CA\, United States
CATEGORIES:Religious School
GEO:34.0570838;-118.4056691
X-APPLE-STRUCTURED-LOCATION;VALUE=URI;X-ADDRESS=Roxbury Park 471 S Roxbury Drive Los Angeles CA United States;X-APPLE-RADIUS=500;X-TITLE=471 S Roxbury Drive:geo:-118.4056691,34.0570838
END:VEVENT
BEGIN:VEVENT
DTSTART;TZID=America/Los_Angeles:20170519T183000
DTEND;TZID=America/Los_Angeles:20170519T200000
DTSTAMP:20260420T231916
CREATED:20170406T194630Z
LAST-MODIFIED:20170406T194630Z
UID:10014265-1495218600-1495224000@www.sinaitemple.org
SUMMARY:STARS Religious School 7th Grade Siyum Service & Shabbat Dinner
DESCRIPTION:
URL:https://www.sinaitemple.org/event/stars-religious-school-7th-grade-siyum-service-shabbat-dinner/
CATEGORIES:Religious School
ATTACH;FMTTYPE=image/jpeg:https://www.sinaitemple.org/wp-content/uploads/2017/04/STARSShabbat@2x.jpg
END:VEVENT
BEGIN:VEVENT
DTSTART;TZID=America/Los_Angeles:20170517T160000
DTEND;TZID=America/Los_Angeles:20170517T180000
DTSTAMP:20260420T231916
CREATED:20250708T002955Z
LAST-MODIFIED:20250708T002955Z
UID:10014254-1495036800-1495044000@www.sinaitemple.org
SUMMARY:STARS Religious School
DESCRIPTION:
URL:https://www.sinaitemple.org/event/stars-religious-school/2017-05-17/
CATEGORIES:Religious School
ATTACH;FMTTYPE=image/jpeg:https://www.sinaitemple.org/wp-content/uploads/2017/04/ReligiousSchool@2x.jpg
END:VEVENT
BEGIN:VEVENT
DTSTART;TZID=America/Los_Angeles:20170516T160000
DTEND;TZID=America/Los_Angeles:20170516T180000
DTSTAMP:20260420T231916
CREATED:20250708T002955Z
LAST-MODIFIED:20250708T002955Z
UID:10014253-1494950400-1494957600@www.sinaitemple.org
SUMMARY:STARS Religious School
DESCRIPTION:
URL:https://www.sinaitemple.org/event/stars-religious-school/2017-05-16/
CATEGORIES:Religious School
ATTACH;FMTTYPE=image/jpeg:https://www.sinaitemple.org/wp-content/uploads/2017/04/ReligiousSchool@2x.jpg
END:VEVENT
END:VCALENDAR