BEGIN:VCALENDAR
VERSION:2.0
PRODID:-//Sinai Temple - ECPv6.15.18//NONSGML v1.0//EN
CALSCALE:GREGORIAN
METHOD:PUBLISH
X-WR-CALNAME:Sinai Temple
X-ORIGINAL-URL:https://www.sinaitemple.org
X-WR-CALDESC:Events for Sinai Temple
REFRESH-INTERVAL;VALUE=DURATION:PT1H
X-Robots-Tag:noindex
X-PUBLISHED-TTL:PT1H
BEGIN:VTIMEZONE
TZID:America/Los_Angeles
BEGIN:DAYLIGHT
TZOFFSETFROM:-0800
TZOFFSETTO:-0700
TZNAME:PDT
DTSTART:20190310T100000
END:DAYLIGHT
BEGIN:STANDARD
TZOFFSETFROM:-0700
TZOFFSETTO:-0800
TZNAME:PST
DTSTART:20191103T090000
END:STANDARD
BEGIN:DAYLIGHT
TZOFFSETFROM:-0800
TZOFFSETTO:-0700
TZNAME:PDT
DTSTART:20200308T100000
END:DAYLIGHT
BEGIN:STANDARD
TZOFFSETFROM:-0700
TZOFFSETTO:-0800
TZNAME:PST
DTSTART:20201101T090000
END:STANDARD
BEGIN:DAYLIGHT
TZOFFSETFROM:-0800
TZOFFSETTO:-0700
TZNAME:PDT
DTSTART:20210314T100000
END:DAYLIGHT
BEGIN:STANDARD
TZOFFSETFROM:-0700
TZOFFSETTO:-0800
TZNAME:PST
DTSTART:20211107T090000
END:STANDARD
END:VTIMEZONE
BEGIN:VEVENT
DTSTART;TZID=America/Los_Angeles:20200831T190000
DTEND;TZID=America/Los_Angeles:20200831T200000
DTSTAMP:20260419T143229
CREATED:20200717T181015Z
LAST-MODIFIED:20200910T180618Z
UID:10019106-1598900400-1598904000@www.sinaitemple.org
SUMMARY:Av & Elul Learning with the Sinai Temple Clergy
DESCRIPTION:Your Sinai Temple clergy invite you to a 7-week High Holy Day learning series\, exclusive to Sinai Temple members. Each week\, the clergy will focus in on one prayer\, providing a different perspective each night of the week. All classes held at 7:00 p.m. via Zoom. \nKol Nidre – Click Here to Register\nSunday 8/2 Rabbi Rotenberg\, Monday 8/3 Rabbi Wolpe\, Tuesday 8/4 Rabbi Sherman\, Thursday 8/6 Cantor Feldman \nAvinu Malkeinu – Click Here to Register\nSunday 8/9 Rabbi Rotenberg\, Monday 8/10 Rabbi Wolpe\, Tuesday 8/11 Rabbi Sherman\, Thursday 8/13 Cantor Feldman \nUnatanetokef – Click Here to Register\nSunday 8/16 Rabbi Rotenberg\, Monday 8/17 Rabbi Wolpe\, Tuesday 8/18 Rabbi Sherman\,\nWednesday 8/19 Rabbi Guzik \nMalchuyot – Click Here to Register\nMonday 8/24 Rabbi Wolpe\, Tuesday 8/25 Rabbi Sherman\,\nWednesday 8/26 Rabbi Guzik \nZikronot – Click Here to Register\nSunday 8/30 Rabbi Rotenberg\, Monday 8/31 Rabbi Wolpe\, Tuesday 9/1 Rabbi Sherman\, Thursday 9/3 Cantor Feldman \nShofarot – Click Here to Register\nSunday 9/6 Rabbi Rotenberg\, Monday 9/7 Rabbi Wolpe\, Tuesday 9/8 Rabbi Sherman \nL’dor Vador – Click Here to Register\nTuesday 9/15 Rabbi Sherman
URL:https://www.sinaitemple.org/event/av-elul-learning-with-the-sinai-temple-clergy/2020-08-31/
LOCATION:Sinai Temple
CATEGORIES:Holidays,Learn at Sinai
ATTACH;FMTTYPE=image/jpeg:https://www.sinaitemple.org/wp-content/uploads/2020/07/AvElulCal.jpg
END:VEVENT
BEGIN:VEVENT
DTSTART;TZID=America/Los_Angeles:20200831T120000
DTEND;TZID=America/Los_Angeles:20200831T140000
DTSTAMP:20260419T143229
CREATED:20200720T171322Z
LAST-MODIFIED:20200720T171322Z
UID:10019138-1598875200-1598882400@www.sinaitemple.org
SUMMARY:Calligraphy Series with DeAnn Singh
DESCRIPTION:Join Sinai Temple Sisterhood and explore this popular and classic style of writing with DeAnn Singh! Open to all levels. Mondays from August 3-31. \nCLICK HERE TO REGISTER \n$100 for the series. Zoom link will be sent to those who register.
URL:https://www.sinaitemple.org/event/calligraphy-series-with-deann-singh-2/2020-08-31/
LOCATION:Sinai Temple
ATTACH;FMTTYPE=image/jpeg:https://www.sinaitemple.org/wp-content/uploads/2020/05/SinaiSisterhoodLogo-color.jpg
END:VEVENT
BEGIN:VEVENT
DTSTART;TZID=America/Los_Angeles:20200830T190000
DTEND;TZID=America/Los_Angeles:20200830T200000
DTSTAMP:20260419T143229
CREATED:20200717T181015Z
LAST-MODIFIED:20200910T180618Z
UID:10019105-1598814000-1598817600@www.sinaitemple.org
SUMMARY:Av & Elul Learning with the Sinai Temple Clergy
DESCRIPTION:Your Sinai Temple clergy invite you to a 7-week High Holy Day learning series\, exclusive to Sinai Temple members. Each week\, the clergy will focus in on one prayer\, providing a different perspective each night of the week. All classes held at 7:00 p.m. via Zoom. \nKol Nidre – Click Here to Register\nSunday 8/2 Rabbi Rotenberg\, Monday 8/3 Rabbi Wolpe\, Tuesday 8/4 Rabbi Sherman\, Thursday 8/6 Cantor Feldman \nAvinu Malkeinu – Click Here to Register\nSunday 8/9 Rabbi Rotenberg\, Monday 8/10 Rabbi Wolpe\, Tuesday 8/11 Rabbi Sherman\, Thursday 8/13 Cantor Feldman \nUnatanetokef – Click Here to Register\nSunday 8/16 Rabbi Rotenberg\, Monday 8/17 Rabbi Wolpe\, Tuesday 8/18 Rabbi Sherman\,\nWednesday 8/19 Rabbi Guzik \nMalchuyot – Click Here to Register\nMonday 8/24 Rabbi Wolpe\, Tuesday 8/25 Rabbi Sherman\,\nWednesday 8/26 Rabbi Guzik \nZikronot – Click Here to Register\nSunday 8/30 Rabbi Rotenberg\, Monday 8/31 Rabbi Wolpe\, Tuesday 9/1 Rabbi Sherman\, Thursday 9/3 Cantor Feldman \nShofarot – Click Here to Register\nSunday 9/6 Rabbi Rotenberg\, Monday 9/7 Rabbi Wolpe\, Tuesday 9/8 Rabbi Sherman \nL’dor Vador – Click Here to Register\nTuesday 9/15 Rabbi Sherman
URL:https://www.sinaitemple.org/event/av-elul-learning-with-the-sinai-temple-clergy/2020-08-30/
LOCATION:Sinai Temple
CATEGORIES:Holidays,Learn at Sinai
ATTACH;FMTTYPE=image/jpeg:https://www.sinaitemple.org/wp-content/uploads/2020/07/AvElulCal.jpg
END:VEVENT
BEGIN:VEVENT
DTSTART;TZID=America/Los_Angeles:20200829T211500
DTEND;TZID=America/Los_Angeles:20200829T214500
DTSTAMP:20260419T143229
CREATED:20200511T172556Z
LAST-MODIFIED:20200827T183519Z
UID:10014897-1598735700-1598737500@www.sinaitemple.org
SUMMARY:Hasidut with Rabbi Rotenberg
DESCRIPTION:Join Rabbi Sam Rotenberg for this virtual learning. Both via Zoom and YouTube\, Zoom link below. \nCLICK HERE TO JOIN
URL:https://www.sinaitemple.org/event/sinai-streamed-hasidut-jewish-mysticism-2/2020-08-29/
LOCATION:Sinai Temple
CATEGORIES:Learn at Sinai
ATTACH;FMTTYPE=image/jpeg:https://www.sinaitemple.org/wp-content/uploads/2020/03/RSR-Stained-Glass-scaled-e1605833911388.jpg
END:VEVENT
BEGIN:VEVENT
DTSTART;TZID=America/Los_Angeles:20200829T204500
DTEND;TZID=America/Los_Angeles:20200829T211500
DTSTAMP:20260419T143229
CREATED:20200317T153053Z
LAST-MODIFIED:20200826T182806Z
UID:10019004-1598733900-1598735700@www.sinaitemple.org
SUMMARY:Virtual Ma’ariv & Havdalah
DESCRIPTION:Join the Sinai Temple clergy for a virtual Ma’ariv and Havdalah service. \nClick HERE to gain access to the siddur to follow along online. \nCLICK HERE TO WATCH
URL:https://www.sinaitemple.org/event/virtual-maariv-havdallah-2020-05-23/2020-08-29/
LOCATION:10400 Wilshire Blvd\, Los Angeles\, CA\, 90024\, United States
END:VEVENT
BEGIN:VEVENT
DTSTART;TZID=America/Los_Angeles:20200829T093000
DTEND;TZID=America/Los_Angeles:20200829T104500
DTSTAMP:20260419T143229
CREATED:20170406T190706Z
LAST-MODIFIED:20201002T212629Z
UID:10018086-1598693400-1598697900@www.sinaitemple.org
SUMMARY:Torah at the Table
DESCRIPTION:A Torah study session\, to be finished in time for music and the Shabbat sermon. Available via Zoom only. Click the link below to join during the meeting time. \nCLICK HERE TO JOIN \n 
URL:https://www.sinaitemple.org/event/torah-at-the-table-2020-08-15/2020-08-29/
LOCATION:Blumenthal Library
ATTACH;FMTTYPE=image/jpeg:https://www.sinaitemple.org/wp-content/uploads/2017/04/TorahattheTable@2x.jpg
END:VEVENT
BEGIN:VEVENT
DTSTART;TZID=America/Los_Angeles:20200829T090000
DTEND;TZID=America/Los_Angeles:20200829T110000
DTSTAMP:20260419T143229
CREATED:20200117T171257Z
LAST-MODIFIED:20201104T193302Z
UID:10019114-1598691600-1598698800@www.sinaitemple.org
SUMMARY:Virtual Shabbat Service
DESCRIPTION:A family service led by the Sinai Temple Clergy.\nSermon at approximately 10:30 a.m. \nClick HERE to access the siddur to follow along. \nCLICK HERE TO WATCH
URL:https://www.sinaitemple.org/event/shabbat-service-3-2020-03-28-2020-08-22/2020-08-29/
LOCATION:CA\, United States
ATTACH;FMTTYPE=image/jpeg:https://www.sinaitemple.org/wp-content/uploads/2017/03/KohnChapel.jpg
END:VEVENT
BEGIN:VEVENT
DTSTART;TZID=America/Los_Angeles:20200828T174500
DTEND;TZID=America/Los_Angeles:20200828T181500
DTSTAMP:20260419T143229
CREATED:20200316T155534Z
LAST-MODIFIED:20200916T013937Z
UID:10018912-1598636700-1598638500@www.sinaitemple.org
SUMMARY:Kabbalat Shabbat Service
DESCRIPTION:Until further notice\, services will be available online only at www.youtube.com/user/SinaiTemplePresents \nEven though we will not be together physically\, the kaddish in the virtual minyan will fulfill your obligation. \nClick HERE to gain access to the siddur to follow along online.
URL:https://www.sinaitemple.org/event/virtual-daily-minyan-3-2020-03-27/2020-08-28/
LOCATION:10400 Wilshire Blvd\, Los Angeles\, CA\, 90024\, United States
ATTACH;FMTTYPE=image/jpeg:https://www.sinaitemple.org/wp-content/uploads/2020/03/IMG_3913-scaled-e1587572335827.jpg
END:VEVENT
BEGIN:VEVENT
DTSTART;TZID=America/Los_Angeles:20200828T120000
DTEND;TZID=America/Los_Angeles:20200828T130000
DTSTAMP:20260419T143229
CREATED:20200818T165907Z
LAST-MODIFIED:20200818T165907Z
UID:10019144-1598616000-1598619600@www.sinaitemple.org
SUMMARY:Torah Study: A Woman's Perspective
DESCRIPTION:Join women of all ages for a Torah study group via Zoom\, led by Rabbi Nicole Guzik. Explore historical and contemporary commentaries\, and how the Torah applies to our lives as women. \nCLICK HERE TO REGISTER
URL:https://www.sinaitemple.org/event/torah-study-a-womans-perspective-4/
LOCATION:Sinai Temple
CATEGORIES:Learn at Sinai,Sisterhood
ATTACH;FMTTYPE=image/jpeg:https://www.sinaitemple.org/wp-content/uploads/2020/03/RNG-stained-glass-with-glasses-scaled-e1587571665629.jpg
END:VEVENT
BEGIN:VEVENT
DTSTART;TZID=America/Los_Angeles:20200827T190000
DTEND;TZID=America/Los_Angeles:20200827T200000
DTSTAMP:20260419T143229
CREATED:20200805T223011Z
LAST-MODIFIED:20200805T223011Z
UID:10015229-1598554800-1598558400@www.sinaitemple.org
SUMMARY:Exploring Sacred Jewish Music with composer Steven Rothstein and Cantor Feldman
DESCRIPTION:Witness the birth of Symphony No.1: JUDAICA (Days of Awe)\, a newly commissioned symphonic work by Dr. Steven Rothstein\, Artistic Director of the Judaic Sacred Music Foundation\, which threads our most cherished High Holy Days melodies and liturgies through a rich and dynamic four-movement lyrical composition for our Age. \nCome and listen as Steve Rothstein and Cantor Marcus Feldman take you through the journey of bringing your favorite High Holy Days memories from the synagogue to the symphony. This event is exclusively for Sinai Temple members. \nCLICK HERE TO REGISTER
URL:https://www.sinaitemple.org/event/exploring-sacred-jewish-music-with-composer-steven-rothstein-and-cantor-feldman/
LOCATION:Sinai Temple
CATEGORIES:Learn at Sinai
ATTACH;FMTTYPE=image/jpeg:https://www.sinaitemple.org/wp-content/uploads/2020/08/8.27-event-calendar.jpg
END:VEVENT
BEGIN:VEVENT
DTSTART;TZID=America/Los_Angeles:20200827T160000
DTEND;TZID=America/Los_Angeles:20200827T163000
DTSTAMP:20260419T143229
CREATED:20200820T214249Z
LAST-MODIFIED:20200820T214249Z
UID:10019146-1598544000-1598545800@www.sinaitemple.org
SUMMARY:Zammer Time with Zamer J
DESCRIPTION:Join Zamer J for Dor Chadash’s Zammer Time! \nCLICK HERE TO WATCH
URL:https://www.sinaitemple.org/event/zammer-time-with-zamer-j-5/
LOCATION:Sinai Temple
CATEGORIES:Dor Chadash
ATTACH;FMTTYPE=image/jpeg:https://www.sinaitemple.org/wp-content/uploads/2020/03/DCforCal.jpg
END:VEVENT
BEGIN:VEVENT
DTSTART;TZID=America/Los_Angeles:20200827T123000
DTEND;TZID=America/Los_Angeles:20200827T133000
DTSTAMP:20260419T143229
CREATED:20200722T222416Z
LAST-MODIFIED:20200810T174921Z
UID:10019139-1598531400-1598535000@www.sinaitemple.org
SUMMARY:Book Club
DESCRIPTION:Join us for a virtual (via Zoom) book club led by Rachel Polansky\, Sinai Temple Programming Manager! We will be discussing Unorthodox: The Scandalous Rejection of My Hasidic Roots by Deborah Feldman. Click below to register for the class. All are welcomed. Be sure to get the book and start reading! \nCLICK HERE TO REGISTER
URL:https://www.sinaitemple.org/event/sinai-temple-book-club-4/
LOCATION:Sinai Temple
CATEGORIES:Events,Learn at Sinai
ATTACH;FMTTYPE=image/jpeg:https://www.sinaitemple.org/wp-content/uploads/2020/05/bookssquare.jpg
END:VEVENT
BEGIN:VEVENT
DTSTART;TZID=America/Los_Angeles:20200826T190000
DTEND;TZID=America/Los_Angeles:20200826T200000
DTSTAMP:20260419T143229
CREATED:20200717T181015Z
LAST-MODIFIED:20200910T180618Z
UID:10019104-1598468400-1598472000@www.sinaitemple.org
SUMMARY:Av & Elul Learning with the Sinai Temple Clergy
DESCRIPTION:Your Sinai Temple clergy invite you to a 7-week High Holy Day learning series\, exclusive to Sinai Temple members. Each week\, the clergy will focus in on one prayer\, providing a different perspective each night of the week. All classes held at 7:00 p.m. via Zoom. \nKol Nidre – Click Here to Register\nSunday 8/2 Rabbi Rotenberg\, Monday 8/3 Rabbi Wolpe\, Tuesday 8/4 Rabbi Sherman\, Thursday 8/6 Cantor Feldman \nAvinu Malkeinu – Click Here to Register\nSunday 8/9 Rabbi Rotenberg\, Monday 8/10 Rabbi Wolpe\, Tuesday 8/11 Rabbi Sherman\, Thursday 8/13 Cantor Feldman \nUnatanetokef – Click Here to Register\nSunday 8/16 Rabbi Rotenberg\, Monday 8/17 Rabbi Wolpe\, Tuesday 8/18 Rabbi Sherman\,\nWednesday 8/19 Rabbi Guzik \nMalchuyot – Click Here to Register\nMonday 8/24 Rabbi Wolpe\, Tuesday 8/25 Rabbi Sherman\,\nWednesday 8/26 Rabbi Guzik \nZikronot – Click Here to Register\nSunday 8/30 Rabbi Rotenberg\, Monday 8/31 Rabbi Wolpe\, Tuesday 9/1 Rabbi Sherman\, Thursday 9/3 Cantor Feldman \nShofarot – Click Here to Register\nSunday 9/6 Rabbi Rotenberg\, Monday 9/7 Rabbi Wolpe\, Tuesday 9/8 Rabbi Sherman \nL’dor Vador – Click Here to Register\nTuesday 9/15 Rabbi Sherman
URL:https://www.sinaitemple.org/event/av-elul-learning-with-the-sinai-temple-clergy/2020-08-26/
LOCATION:Sinai Temple
CATEGORIES:Holidays,Learn at Sinai
ATTACH;FMTTYPE=image/jpeg:https://www.sinaitemple.org/wp-content/uploads/2020/07/AvElulCal.jpg
END:VEVENT
BEGIN:VEVENT
DTSTART;TZID=America/Los_Angeles:20200826T093000
DTEND;TZID=America/Los_Angeles:20200826T103000
DTSTAMP:20260419T143229
CREATED:20200505T190904Z
LAST-MODIFIED:20250806T132618Z
UID:10019025-1598434200-1598437800@www.sinaitemple.org
SUMMARY:Sisterhood Presents The Balance Class
DESCRIPTION:Join Sinai Temple Sisterhood for The Balance Class: simple movements designed to grow your brain\, improve your balance and strengthen your immune system. Via Zoom only. \nCLICK HERE TO JOIN
URL:https://www.sinaitemple.org/event/sisterhood-presents-the-balance-class/2020-08-26/
LOCATION:Sinai Temple
CATEGORIES:Sisterhood
ATTACH;FMTTYPE=image/jpeg:https://www.sinaitemple.org/wp-content/uploads/2020/05/YogaFit.jpg
END:VEVENT
BEGIN:VEVENT
DTSTART;TZID=America/Los_Angeles:20200825T190000
DTEND;TZID=America/Los_Angeles:20200825T200000
DTSTAMP:20260419T143229
CREATED:20200717T181015Z
LAST-MODIFIED:20200910T180618Z
UID:10019103-1598382000-1598385600@www.sinaitemple.org
SUMMARY:Av & Elul Learning with the Sinai Temple Clergy
DESCRIPTION:Your Sinai Temple clergy invite you to a 7-week High Holy Day learning series\, exclusive to Sinai Temple members. Each week\, the clergy will focus in on one prayer\, providing a different perspective each night of the week. All classes held at 7:00 p.m. via Zoom. \nKol Nidre – Click Here to Register\nSunday 8/2 Rabbi Rotenberg\, Monday 8/3 Rabbi Wolpe\, Tuesday 8/4 Rabbi Sherman\, Thursday 8/6 Cantor Feldman \nAvinu Malkeinu – Click Here to Register\nSunday 8/9 Rabbi Rotenberg\, Monday 8/10 Rabbi Wolpe\, Tuesday 8/11 Rabbi Sherman\, Thursday 8/13 Cantor Feldman \nUnatanetokef – Click Here to Register\nSunday 8/16 Rabbi Rotenberg\, Monday 8/17 Rabbi Wolpe\, Tuesday 8/18 Rabbi Sherman\,\nWednesday 8/19 Rabbi Guzik \nMalchuyot – Click Here to Register\nMonday 8/24 Rabbi Wolpe\, Tuesday 8/25 Rabbi Sherman\,\nWednesday 8/26 Rabbi Guzik \nZikronot – Click Here to Register\nSunday 8/30 Rabbi Rotenberg\, Monday 8/31 Rabbi Wolpe\, Tuesday 9/1 Rabbi Sherman\, Thursday 9/3 Cantor Feldman \nShofarot – Click Here to Register\nSunday 9/6 Rabbi Rotenberg\, Monday 9/7 Rabbi Wolpe\, Tuesday 9/8 Rabbi Sherman \nL’dor Vador – Click Here to Register\nTuesday 9/15 Rabbi Sherman
URL:https://www.sinaitemple.org/event/av-elul-learning-with-the-sinai-temple-clergy/2020-08-25/
LOCATION:Sinai Temple
CATEGORIES:Holidays,Learn at Sinai
ATTACH;FMTTYPE=image/jpeg:https://www.sinaitemple.org/wp-content/uploads/2020/07/AvElulCal.jpg
END:VEVENT
BEGIN:VEVENT
DTSTART;TZID=America/Los_Angeles:20200825T180000
DTEND;TZID=America/Los_Angeles:20200825T190000
DTSTAMP:20260419T143229
CREATED:20200818T221448Z
LAST-MODIFIED:20200818T221448Z
UID:10019145-1598378400-1598382000@www.sinaitemple.org
SUMMARY:State of the Synagogue Zoom Meeting
DESCRIPTION:Join the Sinai Temple Clergy and Executive Committee for a\nState of the Synagogue Zoom meeting to discuss:\n\n\nCOVID and Your Membership in 20-21\nUpdate on the High Holy Day services and offerings\nFinancial situation of Sinai Temple\nWhy We Need Sinai\nWhy Sinai Needs You\n\nCLICK HERE TO REGISTER
URL:https://www.sinaitemple.org/event/state-of-the-synagogue-zoom-meeting/
LOCATION:Sinai Temple
ATTACH;FMTTYPE=image/jpeg:https://www.sinaitemple.org/wp-content/uploads/2020/08/Postcard-5-1-scaled-e1597788854283.jpg
END:VEVENT
BEGIN:VEVENT
DTSTART;TZID=America/Los_Angeles:20200825T150000
DTEND;TZID=America/Los_Angeles:20200825T160000
DTSTAMP:20260419T143229
CREATED:20200813T185356Z
LAST-MODIFIED:20200813T191231Z
UID:10019143-1598367600-1598371200@www.sinaitemple.org
SUMMARY:Determination. Comeback. Celebration of The Human Spirit.
DESCRIPTION:Join Rabbi Erez Sherman in conversation with Ariana Berlin via Zoom. \nA gymnast and hip hop dancer\, Ariana Berlin Rotstein was on track to become part of the Olympic gymnastics team before a career-shattering car accident. She is best-known for her comeback after that accident where\, after walking on to the UCLA Gymnastics Team in 2005\, she earned a full-ride scholarship and became an All-American and NCAA National Champion. Her story was adapted into the Netflix film\, Full Out. Ariana is now an Emmy-nominated producer for Fox Sports and has worked with some of the biggest names in sports including Kareem Abdul-Jabbar\, Kevin Durant\, Simone Biles and Dwyane Wade. Most recently\, Ariana has been working with Rabbi David Wolpe and Sinai Temple on their High Holy Day live production project. \nCLICK HERE TO Register
URL:https://www.sinaitemple.org/event/rabbi-sherman-in-conversation-with-ariana-berlin/
LOCATION:Sinai Temple
CATEGORIES:Learn at Sinai
ATTACH;FMTTYPE=image/jpeg:https://www.sinaitemple.org/wp-content/uploads/2020/08/Ariana-Berlin-graphic_final.jpg
END:VEVENT
BEGIN:VEVENT
DTSTART;TZID=America/Los_Angeles:20200825T133000
DTEND;TZID=America/Los_Angeles:20200825T150000
DTSTAMP:20260419T143229
CREATED:20200720T171014Z
LAST-MODIFIED:20200720T171014Z
UID:10019132-1598362200-1598367600@www.sinaitemple.org
SUMMARY:Watercolor Series with Deborah Pitt
DESCRIPTION:Join Sinai Temple Sisterhood for a Watercolor Painting series with Deborah Pitt\, Tuesdays from August 4-25. Learn fundamental watercolor painting skills in this fun and lively class! All levels welcomed. \nCLICK HERE TO REGISTER \n$50 for the series. Zoom link will be sent to those who register.
URL:https://www.sinaitemple.org/event/watercolor-series-with-deborah-pitt-2-2/2020-08-25/
LOCATION:Sinai Temple
CATEGORIES:Sisterhood
ATTACH;FMTTYPE=image/jpeg:https://www.sinaitemple.org/wp-content/uploads/2020/05/watercolor.jpg
END:VEVENT
BEGIN:VEVENT
DTSTART;TZID=America/Los_Angeles:20200824T190000
DTEND;TZID=America/Los_Angeles:20200824T200000
DTSTAMP:20260419T143229
CREATED:20200717T181015Z
LAST-MODIFIED:20200910T180618Z
UID:10019102-1598295600-1598299200@www.sinaitemple.org
SUMMARY:Av & Elul Learning with the Sinai Temple Clergy
DESCRIPTION:Your Sinai Temple clergy invite you to a 7-week High Holy Day learning series\, exclusive to Sinai Temple members. Each week\, the clergy will focus in on one prayer\, providing a different perspective each night of the week. All classes held at 7:00 p.m. via Zoom. \nKol Nidre – Click Here to Register\nSunday 8/2 Rabbi Rotenberg\, Monday 8/3 Rabbi Wolpe\, Tuesday 8/4 Rabbi Sherman\, Thursday 8/6 Cantor Feldman \nAvinu Malkeinu – Click Here to Register\nSunday 8/9 Rabbi Rotenberg\, Monday 8/10 Rabbi Wolpe\, Tuesday 8/11 Rabbi Sherman\, Thursday 8/13 Cantor Feldman \nUnatanetokef – Click Here to Register\nSunday 8/16 Rabbi Rotenberg\, Monday 8/17 Rabbi Wolpe\, Tuesday 8/18 Rabbi Sherman\,\nWednesday 8/19 Rabbi Guzik \nMalchuyot – Click Here to Register\nMonday 8/24 Rabbi Wolpe\, Tuesday 8/25 Rabbi Sherman\,\nWednesday 8/26 Rabbi Guzik \nZikronot – Click Here to Register\nSunday 8/30 Rabbi Rotenberg\, Monday 8/31 Rabbi Wolpe\, Tuesday 9/1 Rabbi Sherman\, Thursday 9/3 Cantor Feldman \nShofarot – Click Here to Register\nSunday 9/6 Rabbi Rotenberg\, Monday 9/7 Rabbi Wolpe\, Tuesday 9/8 Rabbi Sherman \nL’dor Vador – Click Here to Register\nTuesday 9/15 Rabbi Sherman
URL:https://www.sinaitemple.org/event/av-elul-learning-with-the-sinai-temple-clergy/2020-08-24/
LOCATION:Sinai Temple
CATEGORIES:Holidays,Learn at Sinai
ATTACH;FMTTYPE=image/jpeg:https://www.sinaitemple.org/wp-content/uploads/2020/07/AvElulCal.jpg
END:VEVENT
BEGIN:VEVENT
DTSTART;TZID=America/Los_Angeles:20200824T120000
DTEND;TZID=America/Los_Angeles:20200824T140000
DTSTAMP:20260419T143229
CREATED:20200720T171322Z
LAST-MODIFIED:20200720T171322Z
UID:10019137-1598270400-1598277600@www.sinaitemple.org
SUMMARY:Calligraphy Series with DeAnn Singh
DESCRIPTION:Join Sinai Temple Sisterhood and explore this popular and classic style of writing with DeAnn Singh! Open to all levels. Mondays from August 3-31. \nCLICK HERE TO REGISTER \n$100 for the series. Zoom link will be sent to those who register.
URL:https://www.sinaitemple.org/event/calligraphy-series-with-deann-singh-2/2020-08-24/
LOCATION:Sinai Temple
ATTACH;FMTTYPE=image/jpeg:https://www.sinaitemple.org/wp-content/uploads/2020/05/SinaiSisterhoodLogo-color.jpg
END:VEVENT
BEGIN:VEVENT
DTSTART;TZID=America/Los_Angeles:20200822T211500
DTEND;TZID=America/Los_Angeles:20200822T214500
DTSTAMP:20260419T143229
CREATED:20200511T172556Z
LAST-MODIFIED:20200827T183519Z
UID:10014896-1598130900-1598132700@www.sinaitemple.org
SUMMARY:Hasidut with Rabbi Rotenberg
DESCRIPTION:Join Rabbi Sam Rotenberg for this virtual learning. Both via Zoom and YouTube\, Zoom link below. \nCLICK HERE TO JOIN
URL:https://www.sinaitemple.org/event/sinai-streamed-hasidut-jewish-mysticism-2/2020-08-22/
LOCATION:Sinai Temple
CATEGORIES:Learn at Sinai
ATTACH;FMTTYPE=image/jpeg:https://www.sinaitemple.org/wp-content/uploads/2020/03/RSR-Stained-Glass-scaled-e1605833911388.jpg
END:VEVENT
BEGIN:VEVENT
DTSTART;TZID=America/Los_Angeles:20200822T204500
DTEND;TZID=America/Los_Angeles:20200822T211500
DTSTAMP:20260419T143229
CREATED:20200317T153053Z
LAST-MODIFIED:20200826T182806Z
UID:10019003-1598129100-1598130900@www.sinaitemple.org
SUMMARY:Virtual Ma’ariv & Havdalah
DESCRIPTION:Join the Sinai Temple clergy for a virtual Ma’ariv and Havdalah service. \nClick HERE to gain access to the siddur to follow along online. \nCLICK HERE TO WATCH
URL:https://www.sinaitemple.org/event/virtual-maariv-havdallah-2020-05-23/2020-08-22/
LOCATION:10400 Wilshire Blvd\, Los Angeles\, CA\, 90024\, United States
END:VEVENT
BEGIN:VEVENT
DTSTART;TZID=America/Los_Angeles:20200822T120000
DTEND;TZID=America/Los_Angeles:20200822T123000
DTSTAMP:20260419T143229
CREATED:20200805T224209Z
LAST-MODIFIED:20200805T224209Z
UID:10015230-1598097600-1598099400@www.sinaitemple.org
SUMMARY:Shabbat Shmooze with Rabbi Rotenberg
DESCRIPTION:Join Rabbi Sam Rotenberg for a “Shabbat Shmooze” after services on Saturday\, August 8. We’ll have the chance to connect with each other\, as well as take part in a community kiddush and motzi. \nCLICK HERE TO Register
URL:https://www.sinaitemple.org/event/shabbat-shmooze-with-rabbi-rotenberg-3/
LOCATION:Sinai Temple
CATEGORIES:Learn at Sinai
ATTACH;FMTTYPE=image/jpeg:https://www.sinaitemple.org/wp-content/uploads/2020/03/RSR-Stained-Glass-scaled-e1605833911388.jpg
END:VEVENT
BEGIN:VEVENT
DTSTART;TZID=America/Los_Angeles:20200822T100000
DTEND;TZID=America/Los_Angeles:20200822T103000
DTSTAMP:20260419T143229
CREATED:20170406T190234Z
LAST-MODIFIED:20170706T164934Z
UID:10014074-1598090400-1598092200@www.sinaitemple.org
SUMMARY:Shabbat Menucha
DESCRIPTION:Join Cantor Lisa Peicott in taking a moment to enjoy a moment of stillness with a meditative service focused on gratitude\, listening\, and healing. Give yourself a chance to reconnect with yourself\, your body\, and God. Come in regular synagogue attire. 
URL:https://www.sinaitemple.org/event/shabbat-menucha/2020-08-22/
END:VEVENT
BEGIN:VEVENT
DTSTART;TZID=America/Los_Angeles:20200822T093000
DTEND;TZID=America/Los_Angeles:20200822T113000
DTSTAMP:20260419T143229
CREATED:20200117T171257Z
LAST-MODIFIED:20200717T181856Z
UID:10014758-1598088600-1598095800@www.sinaitemple.org
SUMMARY:Virtual Shabbat Service
DESCRIPTION:A family service led by the Sinai Temple Clergy.\nSermon at  approximately 11:00 a.m. \nClick HERE to access the siddur to follow along. \nCLICK HERE TO WATCH
URL:https://www.sinaitemple.org/event/shabbat-service-3-2020-03-28/2020-08-22/
LOCATION:CA\, United States
ATTACH;FMTTYPE=image/jpeg:https://www.sinaitemple.org/wp-content/uploads/2017/03/KohnChapel.jpg
END:VEVENT
BEGIN:VEVENT
DTSTART;TZID=America/Los_Angeles:20200822T093000
DTEND;TZID=America/Los_Angeles:20200822T104500
DTSTAMP:20260419T143229
CREATED:20170406T190706Z
LAST-MODIFIED:20201002T212629Z
UID:10018085-1598088600-1598093100@www.sinaitemple.org
SUMMARY:Torah at the Table
DESCRIPTION:A Torah study session\, to be finished in time for music and the Shabbat sermon. Available via Zoom only. Click the link below to join during the meeting time. \nCLICK HERE TO JOIN \n 
URL:https://www.sinaitemple.org/event/torah-at-the-table-2020-08-15/2020-08-22/
LOCATION:Blumenthal Library
ATTACH;FMTTYPE=image/jpeg:https://www.sinaitemple.org/wp-content/uploads/2017/04/TorahattheTable@2x.jpg
END:VEVENT
BEGIN:VEVENT
DTSTART;TZID=America/Los_Angeles:20200822T090000
DTEND;TZID=America/Los_Angeles:20200822T110000
DTSTAMP:20260419T143229
CREATED:20200117T171257Z
LAST-MODIFIED:20201104T193302Z
UID:10019113-1598086800-1598094000@www.sinaitemple.org
SUMMARY:Virtual Shabbat Service
DESCRIPTION:A family service led by the Sinai Temple Clergy.\nSermon at approximately 10:30 a.m. \nClick HERE to access the siddur to follow along. \nCLICK HERE TO WATCH
URL:https://www.sinaitemple.org/event/shabbat-service-3-2020-03-28-2020-08-22/2020-08-22/
LOCATION:CA\, United States
ATTACH;FMTTYPE=image/jpeg:https://www.sinaitemple.org/wp-content/uploads/2017/03/KohnChapel.jpg
END:VEVENT
BEGIN:VEVENT
DTSTART;TZID=America/Los_Angeles:20200821T174500
DTEND;TZID=America/Los_Angeles:20200821T181500
DTSTAMP:20260419T143229
CREATED:20200316T155534Z
LAST-MODIFIED:20200916T013937Z
UID:10018911-1598031900-1598033700@www.sinaitemple.org
SUMMARY:Kabbalat Shabbat Service
DESCRIPTION:Until further notice\, services will be available online only at www.youtube.com/user/SinaiTemplePresents \nEven though we will not be together physically\, the kaddish in the virtual minyan will fulfill your obligation. \nClick HERE to gain access to the siddur to follow along online.
URL:https://www.sinaitemple.org/event/virtual-daily-minyan-3-2020-03-27/2020-08-21/
LOCATION:10400 Wilshire Blvd\, Los Angeles\, CA\, 90024\, United States
ATTACH;FMTTYPE=image/jpeg:https://www.sinaitemple.org/wp-content/uploads/2020/03/IMG_3913-scaled-e1587572335827.jpg
END:VEVENT
BEGIN:VEVENT
DTSTART;TZID=America/Los_Angeles:20200821T170000
DTEND;TZID=America/Los_Angeles:20200821T173000
DTSTAMP:20260419T143229
CREATED:20200729T231618Z
LAST-MODIFIED:20200817T194215Z
UID:10015218-1598029200-1598031000@www.sinaitemple.org
SUMMARY:Shabbat in the Park with Rabbi Rotenberg
DESCRIPTION:Join Rabbi Sam Rotenberg and Dor Chadash for an interactive\, musical Shabbat service! Tune in live on our Facebook page. \nCLICK HERE TO WATCH
URL:https://www.sinaitemple.org/event/jammies-n-jeans-with-rabbi-rotenberg/
LOCATION:Sinai Temple
CATEGORIES:Dor Chadash
ATTACH;FMTTYPE=image/jpeg:https://www.sinaitemple.org/wp-content/uploads/2020/03/DCforCal.jpg
END:VEVENT
BEGIN:VEVENT
DTSTART;TZID=America/Los_Angeles:20200820T190000
DTEND;TZID=America/Los_Angeles:20200820T200000
DTSTAMP:20260419T143229
CREATED:20200812T221258Z
LAST-MODIFIED:20200812T221258Z
UID:10019142-1597950000-1597953600@www.sinaitemple.org
SUMMARY:Lessons From The East Coast from a Sinai Temple Friend
DESCRIPTION:It’s a Rabbi Fruithandler Reunion! Join Rabbis Guzik and Fruithandler as they discuss Jewish life on the east coast\, special Sinai Temple memories\, and what Rabbi Fruithandler has learned through the pandemic. \nCLICK HERE TO WATCH
URL:https://www.sinaitemple.org/event/lessons-from-the-east-coast-from-a-sinai-temple-friend/
LOCATION:Sinai Temple
CATEGORIES:Learn at Sinai
ATTACH;FMTTYPE=image/jpeg:https://www.sinaitemple.org/wp-content/uploads/2020/08/rabbi-headshot-smiling-page-001-e1597270350412.jpg
END:VEVENT
END:VCALENDAR