BEGIN:VCALENDAR
VERSION:2.0
PRODID:-//Sinai Temple - ECPv6.15.18//NONSGML v1.0//EN
CALSCALE:GREGORIAN
METHOD:PUBLISH
X-ORIGINAL-URL:https://www.sinaitemple.org
X-WR-CALDESC:Events for Sinai Temple
REFRESH-INTERVAL;VALUE=DURATION:PT1H
X-Robots-Tag:noindex
X-PUBLISHED-TTL:PT1H
BEGIN:VTIMEZONE
TZID:America/Los_Angeles
BEGIN:DAYLIGHT
TZOFFSETFROM:-0800
TZOFFSETTO:-0700
TZNAME:PDT
DTSTART:20250309T100000
END:DAYLIGHT
BEGIN:STANDARD
TZOFFSETFROM:-0700
TZOFFSETTO:-0800
TZNAME:PST
DTSTART:20251102T090000
END:STANDARD
BEGIN:DAYLIGHT
TZOFFSETFROM:-0800
TZOFFSETTO:-0700
TZNAME:PDT
DTSTART:20260308T100000
END:DAYLIGHT
BEGIN:STANDARD
TZOFFSETFROM:-0700
TZOFFSETTO:-0800
TZNAME:PST
DTSTART:20261101T090000
END:STANDARD
BEGIN:DAYLIGHT
TZOFFSETFROM:-0800
TZOFFSETTO:-0700
TZNAME:PDT
DTSTART:20270314T100000
END:DAYLIGHT
BEGIN:STANDARD
TZOFFSETFROM:-0700
TZOFFSETTO:-0800
TZNAME:PST
DTSTART:20271107T090000
END:STANDARD
END:VTIMEZONE
BEGIN:VEVENT
DTSTART;TZID=America/Los_Angeles:20260701T073000
DTEND;TZID=America/Los_Angeles:20260701T080000
DTSTAMP:20260420T034306
CREATED:20250807T174950Z
LAST-MODIFIED:20250814T203539Z
UID:10028759-1782891000-1782892800@www.sinaitemple.org
SUMMARY:Daily Minyan
DESCRIPTION:In person in Kohn chapel and online on our YouTube channel.
URL:https://www.sinaitemple.org/event/daily-minyan-23/2026-07-01/
LOCATION:Kohn Chapel
CATEGORIES:Worship Services
END:VEVENT
BEGIN:VEVENT
DTSTART;TZID=America/Los_Angeles:20260701T093000
DTEND;TZID=America/Los_Angeles:20260701T103000
DTSTAMP:20260420T034306
CREATED:20250827T222718Z
LAST-MODIFIED:20260304T173057Z
UID:10023993-1782898200-1782901800@www.sinaitemple.org
SUMMARY:The Balance Class
DESCRIPTION:The 10/100 Program consists of six simple movements designed to grow your brain (neuroplasticity)\, improve your balance (proprioception) and strengthen your immune system. \nGroup Classes are FREE! Wednesdays from 9:30 -10:30 a.m. VIA ZOOM! \nClick HERE to join via Zoom during meeting time.
URL:https://www.sinaitemple.org/event/the-balance-class-2022-07-20-2/2026-07-01/
LOCATION:Sinai Temple
CATEGORIES:Events,Sisterhood
ATTACH;FMTTYPE=image/jpeg:https://www.sinaitemple.org/wp-content/uploads/2022/02/Untitled-design.jpg
END:VEVENT
BEGIN:VEVENT
DTSTART;TZID=America/Los_Angeles:20260701T103000
DTEND;TZID=America/Los_Angeles:20260701T120000
DTSTAMP:20260420T034306
CREATED:20251016T193001Z
LAST-MODIFIED:20251125T174414Z
UID:10033142-1782901800-1782907200@www.sinaitemple.org
SUMMARY:Art Workshop with Gail Rollman
DESCRIPTION:Wednesdays\, 10:30 AM–12:00 PM at Sinai | Weekly (Jewish holidays excepted) | $10 per class (materials included)Explore collage\, mixed media\, watercolor\, acrylic painting\, and crafts. Learn new techniques and have fun each week. Pay at the door. \nRSVP to Gail at garollman@yahoo.com.
URL:https://www.sinaitemple.org/event/art-workshop-with-gail-rollman-3/2026-07-01/
LOCATION:Sinai Temple
CATEGORIES:Sisterhood
ATTACH;FMTTYPE=image/jpeg:https://www.sinaitemple.org/wp-content/uploads/2025/10/Sushi-night-Amir-2.jpg
END:VEVENT
BEGIN:VEVENT
DTSTART;TZID=America/Los_Angeles:20260701T174500
DTEND;TZID=America/Los_Angeles:20260701T181500
DTSTAMP:20260420T034306
CREATED:20201223T214532Z
LAST-MODIFIED:20250814T203608Z
UID:10020816-1782927900-1782929700@www.sinaitemple.org
SUMMARY:Daily Minyan
DESCRIPTION:In person in Kohn chapel and online on our YouTube channel.
URL:https://www.sinaitemple.org/event/virtual-daily-minyan-12/2026-07-01/
LOCATION:Kohn Chapel
CATEGORIES:Worship Services
END:VEVENT
BEGIN:VEVENT
DTSTART;TZID=America/Los_Angeles:20260702T073000
DTEND;TZID=America/Los_Angeles:20260702T080000
DTSTAMP:20260420T034306
CREATED:20210917T195757Z
LAST-MODIFIED:20250814T203543Z
UID:10023086-1782977400-1782979200@www.sinaitemple.org
SUMMARY:Daily Minyan
DESCRIPTION:In person in Kohn chapel and online on our YouTube channel.
URL:https://www.sinaitemple.org/event/virtual-daily-minyan-20/2026-07-02/
LOCATION:Kohn Chapel
CATEGORIES:Worship Services
END:VEVENT
BEGIN:VEVENT
DTSTART;TZID=America/Los_Angeles:20260702T081500
DTEND;TZID=America/Los_Angeles:20260702T091500
DTSTAMP:20260420T034306
CREATED:20250915T180835Z
LAST-MODIFIED:20250915T180835Z
UID:10032560-1782980100-1782983700@www.sinaitemple.org
SUMMARY:Parents Parsha Class
DESCRIPTION:Every Thursday at 8:15am (outside of holidays) \nJoin us as Sinai Temple’s rotating clergy lead an in-depth exploration of the weekly Parsha. \n\n\nClass is in person. \n\n\n 
URL:https://www.sinaitemple.org/event/parents-parsha-class/2026-07-02/
LOCATION:Sinai Temple
CATEGORIES:Events
END:VEVENT
BEGIN:VEVENT
DTSTART;TZID=America/Los_Angeles:20260702T083000
DTEND;TZID=America/Los_Angeles:20260702T093000
DTSTAMP:20260420T034306
CREATED:20250902T175749Z
LAST-MODIFIED:20250902T175907Z
UID:10032288-1782981000-1782984600@www.sinaitemple.org
SUMMARY:Weekly Parsha Class
DESCRIPTION:Every Thursday at 8:30am (outside of holidays) \n\n\n\nJoin us as Sinai Temple’s rotating clergy lead an in-depth exploration of the weekly Parsha. \n\n\nClass is offered exclusively online. \n\n\nRegister to receive the broadcast link. \nRegister Here 
URL:https://www.sinaitemple.org/event/weekly-parsha-class/2026-07-02/
LOCATION:Zoom\, 10400 Wilshire Blvd\, Los Angeles\, CA\, 90024\, United States
CATEGORIES:Events
ATTACH;FMTTYPE=image/png:https://www.sinaitemple.org/wp-content/uploads/2025/09/Weekly-Parsha-Class-Flyer-.png
END:VEVENT
BEGIN:VEVENT
DTSTART;TZID=America/Los_Angeles:20260702T160000
DTEND;TZID=America/Los_Angeles:20260702T180000
DTSTAMP:20260420T034306
CREATED:20251016T192638Z
LAST-MODIFIED:20260113T230605Z
UID:10032882-1783008000-1783015200@www.sinaitemple.org
SUMMARY:Mah Jongg with Estelle Marco
DESCRIPTION:Thursdays\, 4:00–6:00 PM at Sinai | 8-week sessions | $100 per person \nFor beginners and intermediate players. Space is limited—first come\, first served. \nSession runs from September 11 to November 6. \nRSVP Here
URL:https://www.sinaitemple.org/event/mah-jongg-with-estelle-marco/2026-07-02/
LOCATION:Sinai Temple
CATEGORIES:Sisterhood
ATTACH;FMTTYPE=image/jpeg:https://www.sinaitemple.org/wp-content/uploads/2025/10/Sushi-night-Amir-1.jpg
END:VEVENT
BEGIN:VEVENT
DTSTART;TZID=America/Los_Angeles:20260702T174500
DTEND;TZID=America/Los_Angeles:20260702T181500
DTSTAMP:20260420T034306
CREATED:20250807T175230Z
LAST-MODIFIED:20250814T203547Z
UID:10029315-1783014300-1783016100@www.sinaitemple.org
SUMMARY:Daily Minyan
DESCRIPTION:In person in Kohn chapel and online on our YouTube channel.
URL:https://www.sinaitemple.org/event/daily-minyan-24/2026-07-02/
LOCATION:Kohn Chapel
CATEGORIES:Worship Services
END:VEVENT
BEGIN:VEVENT
DTSTART;TZID=America/Los_Angeles:20260703T073000
DTEND;TZID=America/Los_Angeles:20260703T080000
DTSTAMP:20260420T034306
CREATED:20201231T182859Z
LAST-MODIFIED:20250814T203550Z
UID:10021172-1783063800-1783065600@www.sinaitemple.org
SUMMARY:Daily Minyan
DESCRIPTION:In person in Kohn chapel and online on our YouTube channel.
URL:https://www.sinaitemple.org/event/virtual-daily-minyan-15/2026-07-03/
LOCATION:Kohn Chapel
CATEGORIES:Worship Services
END:VEVENT
BEGIN:VEVENT
DTSTART;TZID=America/Los_Angeles:20260703T174500
DTEND;TZID=America/Los_Angeles:20260703T181500
DTSTAMP:20260420T034306
CREATED:20251117T184919Z
LAST-MODIFIED:20251117T184919Z
UID:10030832-1783100700-1783102500@www.sinaitemple.org
SUMMARY:Daily Minyan
DESCRIPTION:In person in Kohn chapel and online on our YouTube channel.
URL:https://www.sinaitemple.org/event/daily-minyan-25-2/2026-07-03/
LOCATION:Kohn Chapel
CATEGORIES:Worship Services
END:VEVENT
BEGIN:VEVENT
DTSTART;TZID=America/Los_Angeles:20260703T174500
DTEND;TZID=America/Los_Angeles:20260703T184500
DTSTAMP:20260420T034306
CREATED:20210108T195503Z
LAST-MODIFIED:20250807T175953Z
UID:10021807-1783100700-1783104300@www.sinaitemple.org
SUMMARY:Kabbalat Shabbat Service
DESCRIPTION:Join us in person in Kohn Chapel or watch on our YouTube channel.
URL:https://www.sinaitemple.org/event/virtual-kabbalat-shabbat-service-2-2021-09-17/2026-07-03/
LOCATION:Sinai Temple
END:VEVENT
BEGIN:VEVENT
DTSTART;TZID=America/Los_Angeles:20260704T090000
DTEND;TZID=America/Los_Angeles:20260704T100000
DTSTAMP:20260420T034306
CREATED:20170406T190706Z
LAST-MODIFIED:20250814T203647Z
UID:10015141-1783155600-1783159200@www.sinaitemple.org
SUMMARY:Torah at the Table
DESCRIPTION:Torah at the Table is facilitated by lay leaders and runs every Saturday morning from 9:00-10:30 a.m. Held in Upper Traub or online. \nClick HERE to join via Zoom!
URL:https://www.sinaitemple.org/event/torah-at-the-table-2022-06-11/2026-07-04/
ATTACH;FMTTYPE=image/jpeg:https://www.sinaitemple.org/wp-content/uploads/2017/04/TorahattheTable@2x.jpg
END:VEVENT
BEGIN:VEVENT
DTSTART;TZID=America/Los_Angeles:20260704T090000
DTEND;TZID=America/Los_Angeles:20260704T110000
DTSTAMP:20260420T034306
CREATED:20201223T211515Z
LAST-MODIFIED:20250807T180357Z
UID:10019505-1783155600-1783162800@www.sinaitemple.org
SUMMARY:Shabbat Morning Service
DESCRIPTION:
URL:https://www.sinaitemple.org/event/shabbat-morning-service/2026-07-04/
LOCATION:Sinai Temple
CATEGORIES:Worship Services
END:VEVENT
BEGIN:VEVENT
DTSTART;TZID=America/Los_Angeles:20260704T210000
DTEND;TZID=America/Los_Angeles:20260704T213000
DTSTAMP:20260420T034306
CREATED:20220705T154054Z
LAST-MODIFIED:20250814T203557Z
UID:10017673-1783198800-1783200600@www.sinaitemple.org
SUMMARY:Daily Minyan
DESCRIPTION:Online ONLY. Click HERE to watch.
URL:https://www.sinaitemple.org/event/daily-minyan-11-2022-07-16/2026-07-04/
CATEGORIES:Worship Services
END:VEVENT
BEGIN:VEVENT
DTSTART;TZID=America/Los_Angeles:20260705T083000
DTEND;TZID=America/Los_Angeles:20260705T090000
DTSTAMP:20260420T034306
CREATED:20210813T180515Z
LAST-MODIFIED:20250814T203516Z
UID:10022506-1783240200-1783242000@www.sinaitemple.org
SUMMARY:Daily Minyan
DESCRIPTION:In person in Kohn chapel and online on our YouTube channel.
URL:https://www.sinaitemple.org/event/virtually-daily-minyan-2021-08-22/2026-07-05/
LOCATION:Kohn Chapel
CATEGORIES:Worship Services
END:VEVENT
BEGIN:VEVENT
DTSTART;TZID=America/Los_Angeles:20260705T174500
DTEND;TZID=America/Los_Angeles:20260705T184500
DTSTAMP:20260420T034306
CREATED:20260213T174655Z
LAST-MODIFIED:20260410T182919Z
UID:10033596-1783273500-1783277100@www.sinaitemple.org
SUMMARY:Evening Minyan
DESCRIPTION:In person in Kohn chapel and online on our YouTube channel.
URL:https://www.sinaitemple.org/event/evening-minyan/2026-07-05/
LOCATION:Kohn Chapel
CATEGORIES:Worship Services
END:VEVENT
BEGIN:VEVENT
DTSTART;TZID=America/Los_Angeles:20260706T073000
DTEND;TZID=America/Los_Angeles:20260706T080000
DTSTAMP:20260420T034306
CREATED:20201223T212659Z
LAST-MODIFIED:20250814T203521Z
UID:10015742-1783323000-1783324800@www.sinaitemple.org
SUMMARY:Daily Minyan
DESCRIPTION:In person in Kohn chapel and online on our YouTube channel.
URL:https://www.sinaitemple.org/event/virtual-daily-minyan-6-2022-11-07/2026-07-06/
LOCATION:Kohn Chapel
CATEGORIES:Worship Services
END:VEVENT
BEGIN:VEVENT
DTSTART;TZID=America/Los_Angeles:20260706T100000
DTEND;TZID=America/Los_Angeles:20260706T120000
DTSTAMP:20260420T034306
CREATED:20251016T192307Z
LAST-MODIFIED:20251016T192307Z
UID:10032621-1783332000-1783339200@www.sinaitemple.org
SUMMARY:Calligraphy with DeAnn Singh
DESCRIPTION:Learn different pen point styles\, how to address invitations\, and create a small book using the Japanese stab binding technique. Click here to read a profile on DeAnn from ShoutoutLA. \nClick here to read a profile on DeAnn from ShoutoutLA.
URL:https://www.sinaitemple.org/event/calligraphy-with-deann-singh/2026-07-06/
LOCATION:Sinai Temple
CATEGORIES:Sisterhood
ATTACH;FMTTYPE=image/png:https://www.sinaitemple.org/wp-content/uploads/2025/10/Sushi-night-Amir-10.png
END:VEVENT
BEGIN:VEVENT
DTSTART;TZID=America/Los_Angeles:20260706T174500
DTEND;TZID=America/Los_Angeles:20260706T181500
DTSTAMP:20260420T034306
CREATED:20251117T185130Z
LAST-MODIFIED:20251117T185131Z
UID:10019831-1783359900-1783361700@www.sinaitemple.org
SUMMARY:Daily Minyan
DESCRIPTION:In person in Kohn chapel and online on our YouTube channel.
URL:https://www.sinaitemple.org/event/virtual-daily-minyan-7-2/2026-07-06/
LOCATION:Kohn Chapel
CATEGORIES:Worship Services
END:VEVENT
BEGIN:VEVENT
DTSTART;TZID=America/Los_Angeles:20260707T073000
DTEND;TZID=America/Los_Angeles:20260707T080000
DTSTAMP:20260420T034306
CREATED:20221219T190023Z
LAST-MODIFIED:20250814T203532Z
UID:10018310-1783409400-1783411200@www.sinaitemple.org
SUMMARY:Daily Minyan
DESCRIPTION:In person in Kohn chapel and online on our YouTube channel.
URL:https://www.sinaitemple.org/event/daily-minyan-16/2026-07-07/
LOCATION:Kohn Chapel
CATEGORIES:Worship Services
END:VEVENT
BEGIN:VEVENT
DTSTART;TZID=America/Los_Angeles:20260707T174500
DTEND;TZID=America/Los_Angeles:20260707T181500
DTSTAMP:20260420T034306
CREATED:20220801T162701Z
LAST-MODIFIED:20250814T203535Z
UID:10017942-1783446300-1783448100@www.sinaitemple.org
SUMMARY:Daily Minyan
DESCRIPTION:In person in Kohn chapel and online on our YouTube channel.
URL:https://www.sinaitemple.org/event/daily-minyan-15/2026-07-07/
LOCATION:Kohn Chapel
CATEGORIES:Worship Services
END:VEVENT
BEGIN:VEVENT
DTSTART;TZID=America/Los_Angeles:20260708T073000
DTEND;TZID=America/Los_Angeles:20260708T080000
DTSTAMP:20260420T034306
CREATED:20250807T174950Z
LAST-MODIFIED:20250814T203539Z
UID:10028760-1783495800-1783497600@www.sinaitemple.org
SUMMARY:Daily Minyan
DESCRIPTION:In person in Kohn chapel and online on our YouTube channel.
URL:https://www.sinaitemple.org/event/daily-minyan-23/2026-07-08/
LOCATION:Kohn Chapel
CATEGORIES:Worship Services
END:VEVENT
BEGIN:VEVENT
DTSTART;TZID=America/Los_Angeles:20260708T093000
DTEND;TZID=America/Los_Angeles:20260708T103000
DTSTAMP:20260420T034306
CREATED:20250827T222718Z
LAST-MODIFIED:20260304T173057Z
UID:10023994-1783503000-1783506600@www.sinaitemple.org
SUMMARY:The Balance Class
DESCRIPTION:The 10/100 Program consists of six simple movements designed to grow your brain (neuroplasticity)\, improve your balance (proprioception) and strengthen your immune system. \nGroup Classes are FREE! Wednesdays from 9:30 -10:30 a.m. VIA ZOOM! \nClick HERE to join via Zoom during meeting time.
URL:https://www.sinaitemple.org/event/the-balance-class-2022-07-20-2/2026-07-08/
LOCATION:Sinai Temple
CATEGORIES:Events,Sisterhood
ATTACH;FMTTYPE=image/jpeg:https://www.sinaitemple.org/wp-content/uploads/2022/02/Untitled-design.jpg
END:VEVENT
BEGIN:VEVENT
DTSTART;TZID=America/Los_Angeles:20260708T103000
DTEND;TZID=America/Los_Angeles:20260708T120000
DTSTAMP:20260420T034306
CREATED:20251016T193001Z
LAST-MODIFIED:20251125T174414Z
UID:10033143-1783506600-1783512000@www.sinaitemple.org
SUMMARY:Art Workshop with Gail Rollman
DESCRIPTION:Wednesdays\, 10:30 AM–12:00 PM at Sinai | Weekly (Jewish holidays excepted) | $10 per class (materials included)Explore collage\, mixed media\, watercolor\, acrylic painting\, and crafts. Learn new techniques and have fun each week. Pay at the door. \nRSVP to Gail at garollman@yahoo.com.
URL:https://www.sinaitemple.org/event/art-workshop-with-gail-rollman-3/2026-07-08/
LOCATION:Sinai Temple
CATEGORIES:Sisterhood
ATTACH;FMTTYPE=image/jpeg:https://www.sinaitemple.org/wp-content/uploads/2025/10/Sushi-night-Amir-2.jpg
END:VEVENT
BEGIN:VEVENT
DTSTART;TZID=America/Los_Angeles:20260708T174500
DTEND;TZID=America/Los_Angeles:20260708T181500
DTSTAMP:20260420T034306
CREATED:20201223T214532Z
LAST-MODIFIED:20250814T203608Z
UID:10020817-1783532700-1783534500@www.sinaitemple.org
SUMMARY:Daily Minyan
DESCRIPTION:In person in Kohn chapel and online on our YouTube channel.
URL:https://www.sinaitemple.org/event/virtual-daily-minyan-12/2026-07-08/
LOCATION:Kohn Chapel
CATEGORIES:Worship Services
END:VEVENT
BEGIN:VEVENT
DTSTART;TZID=America/Los_Angeles:20260709T073000
DTEND;TZID=America/Los_Angeles:20260709T080000
DTSTAMP:20260420T034306
CREATED:20210917T195757Z
LAST-MODIFIED:20250814T203543Z
UID:10023087-1783582200-1783584000@www.sinaitemple.org
SUMMARY:Daily Minyan
DESCRIPTION:In person in Kohn chapel and online on our YouTube channel.
URL:https://www.sinaitemple.org/event/virtual-daily-minyan-20/2026-07-09/
LOCATION:Kohn Chapel
CATEGORIES:Worship Services
END:VEVENT
BEGIN:VEVENT
DTSTART;TZID=America/Los_Angeles:20260709T081500
DTEND;TZID=America/Los_Angeles:20260709T091500
DTSTAMP:20260420T034306
CREATED:20250915T180835Z
LAST-MODIFIED:20250915T180835Z
UID:10032561-1783584900-1783588500@www.sinaitemple.org
SUMMARY:Parents Parsha Class
DESCRIPTION:Every Thursday at 8:15am (outside of holidays) \nJoin us as Sinai Temple’s rotating clergy lead an in-depth exploration of the weekly Parsha. \n\n\nClass is in person. \n\n\n 
URL:https://www.sinaitemple.org/event/parents-parsha-class/2026-07-09/
LOCATION:Sinai Temple
CATEGORIES:Events
END:VEVENT
BEGIN:VEVENT
DTSTART;TZID=America/Los_Angeles:20260709T083000
DTEND;TZID=America/Los_Angeles:20260709T093000
DTSTAMP:20260420T034306
CREATED:20250902T175749Z
LAST-MODIFIED:20250902T175907Z
UID:10032289-1783585800-1783589400@www.sinaitemple.org
SUMMARY:Weekly Parsha Class
DESCRIPTION:Every Thursday at 8:30am (outside of holidays) \n\n\n\nJoin us as Sinai Temple’s rotating clergy lead an in-depth exploration of the weekly Parsha. \n\n\nClass is offered exclusively online. \n\n\nRegister to receive the broadcast link. \nRegister Here 
URL:https://www.sinaitemple.org/event/weekly-parsha-class/2026-07-09/
LOCATION:Zoom\, 10400 Wilshire Blvd\, Los Angeles\, CA\, 90024\, United States
CATEGORIES:Events
ATTACH;FMTTYPE=image/png:https://www.sinaitemple.org/wp-content/uploads/2025/09/Weekly-Parsha-Class-Flyer-.png
END:VEVENT
BEGIN:VEVENT
DTSTART;TZID=America/Los_Angeles:20260709T160000
DTEND;TZID=America/Los_Angeles:20260709T180000
DTSTAMP:20260420T034306
CREATED:20251016T192638Z
LAST-MODIFIED:20260113T230605Z
UID:10032883-1783612800-1783620000@www.sinaitemple.org
SUMMARY:Mah Jongg with Estelle Marco
DESCRIPTION:Thursdays\, 4:00–6:00 PM at Sinai | 8-week sessions | $100 per person \nFor beginners and intermediate players. Space is limited—first come\, first served. \nSession runs from September 11 to November 6. \nRSVP Here
URL:https://www.sinaitemple.org/event/mah-jongg-with-estelle-marco/2026-07-09/
LOCATION:Sinai Temple
CATEGORIES:Sisterhood
ATTACH;FMTTYPE=image/jpeg:https://www.sinaitemple.org/wp-content/uploads/2025/10/Sushi-night-Amir-1.jpg
END:VEVENT
END:VCALENDAR