BEGIN:VCALENDAR
VERSION:2.0
PRODID:-//Sinai Temple - ECPv6.15.18//NONSGML v1.0//EN
CALSCALE:GREGORIAN
METHOD:PUBLISH
X-ORIGINAL-URL:https://www.sinaitemple.org
X-WR-CALDESC:Events for Sinai Temple
REFRESH-INTERVAL;VALUE=DURATION:PT1H
X-Robots-Tag:noindex
X-PUBLISHED-TTL:PT1H
BEGIN:VTIMEZONE
TZID:America/Los_Angeles
BEGIN:DAYLIGHT
TZOFFSETFROM:-0800
TZOFFSETTO:-0700
TZNAME:PDT
DTSTART:20200308T100000
END:DAYLIGHT
BEGIN:STANDARD
TZOFFSETFROM:-0700
TZOFFSETTO:-0800
TZNAME:PST
DTSTART:20201101T090000
END:STANDARD
BEGIN:DAYLIGHT
TZOFFSETFROM:-0800
TZOFFSETTO:-0700
TZNAME:PDT
DTSTART:20210314T100000
END:DAYLIGHT
BEGIN:STANDARD
TZOFFSETFROM:-0700
TZOFFSETTO:-0800
TZNAME:PST
DTSTART:20211107T090000
END:STANDARD
BEGIN:DAYLIGHT
TZOFFSETFROM:-0800
TZOFFSETTO:-0700
TZNAME:PDT
DTSTART:20220313T100000
END:DAYLIGHT
BEGIN:STANDARD
TZOFFSETFROM:-0700
TZOFFSETTO:-0800
TZNAME:PST
DTSTART:20221106T090000
END:STANDARD
END:VTIMEZONE
BEGIN:VEVENT
DTSTART;TZID=America/Los_Angeles:20210208T120000
DTEND;TZID=America/Los_Angeles:20210208T130000
DTSTAMP:20260422T201139
CREATED:20201224T165125Z
LAST-MODIFIED:20201224T165125Z
UID:10020877-1612785600-1612789200@www.sinaitemple.org
SUMMARY:Calligraphy Series with DeAnn Singh
DESCRIPTION:Click HERE to register. $120 for the 6-class series. No class January 18 and February 15.
URL:https://www.sinaitemple.org/event/calligraphy-series-with-deann-singh-4/2021-02-08/
LOCATION:Sinai Temple
END:VEVENT
BEGIN:VEVENT
DTSTART;TZID=America/Los_Angeles:20210208T174500
DTEND;TZID=America/Los_Angeles:20210208T181500
DTSTAMP:20260422T201139
CREATED:20201223T213547Z
LAST-MODIFIED:20250814T203527Z
UID:10019564-1612806300-1612808100@www.sinaitemple.org
SUMMARY:Daily Minyan
DESCRIPTION:In person in Kohn chapel and online on our YouTube channel.
URL:https://www.sinaitemple.org/event/virtual-daily-minyan-7/2021-02-08/
LOCATION:Kohn Chapel
CATEGORIES:Worship Services
END:VEVENT
BEGIN:VEVENT
DTSTART;TZID=America/Los_Angeles:20210210T174500
DTEND;TZID=America/Los_Angeles:20210210T181500
DTSTAMP:20260422T201139
CREATED:20201223T214532Z
LAST-MODIFIED:20250814T203608Z
UID:10020561-1612979100-1612980900@www.sinaitemple.org
SUMMARY:Daily Minyan
DESCRIPTION:In person in Kohn chapel and online on our YouTube channel.
URL:https://www.sinaitemple.org/event/virtual-daily-minyan-12/2021-02-10/
LOCATION:Kohn Chapel
CATEGORIES:Worship Services
END:VEVENT
BEGIN:VEVENT
DTSTART;TZID=America/Los_Angeles:20210211T090000
DTEND;TZID=America/Los_Angeles:20210211T100000
DTSTAMP:20260422T201139
CREATED:20201014T155248Z
LAST-MODIFIED:20210603T174935Z
UID:10015265-1613034000-1613037600@www.sinaitemple.org
SUMMARY:Thursday Morning Torah with Rabbi Wolpe
DESCRIPTION:Join Rabbi Wolpe every Thursday morning for a lively Torah study! \nCLICK HERE TO WATCH
URL:https://www.sinaitemple.org/event/thursday-morning-torah-with-rabbi-wolpe-3/2021-02-11/
LOCATION:Sinai Temple
CATEGORIES:Learn at Sinai
ATTACH;FMTTYPE=image/jpeg:https://www.sinaitemple.org/wp-content/uploads/2017/04/RabbiDavidWolpe@2x.jpg
END:VEVENT
BEGIN:VEVENT
DTSTART;TZID=America/Los_Angeles:20210211T190000
DTEND;TZID=America/Los_Angeles:20210211T200000
DTSTAMP:20260422T201139
CREATED:20210108T190514Z
LAST-MODIFIED:20210208T170214Z
UID:10021234-1613070000-1613073600@www.sinaitemple.org
SUMMARY:Who Knows One? Game Show
DESCRIPTION:We’re taking Jewish geography to a whole new level! Six of our Sinai Temple members will compete against each other in this hilarious quarantine game show hosted by Micah Hart. \nWho can reach their connection the fastest? Who fill find the CHOSEN ONE? \nWatch LIVE on our Facebook page or YouTube channel.
URL:https://www.sinaitemple.org/event/who-knows-one-gameshow/
LOCATION:Sinai Temple
CATEGORIES:Events
ATTACH;FMTTYPE=image/png:https://www.sinaitemple.org/wp-content/uploads/2021/01/Who-Knows-One_V3.png
END:VEVENT
BEGIN:VEVENT
DTSTART;TZID=America/Los_Angeles:20210212T073000
DTEND;TZID=America/Los_Angeles:20210212T080000
DTSTAMP:20260422T201139
CREATED:20201231T182859Z
LAST-MODIFIED:20250814T203550Z
UID:10020898-1613115000-1613116800@www.sinaitemple.org
SUMMARY:Daily Minyan
DESCRIPTION:In person in Kohn chapel and online on our YouTube channel.
URL:https://www.sinaitemple.org/event/virtual-daily-minyan-15/2021-02-12/
LOCATION:Kohn Chapel
CATEGORIES:Worship Services
END:VEVENT
BEGIN:VEVENT
DTSTART;TZID=America/Los_Angeles:20210213T090000
DTEND;TZID=America/Los_Angeles:20210213T110000
DTSTAMP:20260422T201139
CREATED:20201223T211515Z
LAST-MODIFIED:20250807T180357Z
UID:10019229-1613206800-1613214000@www.sinaitemple.org
SUMMARY:Shabbat Morning Service
DESCRIPTION:
URL:https://www.sinaitemple.org/event/shabbat-morning-service/2021-02-13/
LOCATION:Sinai Temple
CATEGORIES:Worship Services
END:VEVENT
BEGIN:VEVENT
DTSTART;TZID=America/Los_Angeles:20210213T183000
DTEND;TZID=America/Los_Angeles:20210213T190000
DTSTAMP:20260422T201139
CREATED:20201231T032540Z
LAST-MODIFIED:20201231T032752Z
UID:10020888-1613241000-1613242800@www.sinaitemple.org
SUMMARY:Evening Minyan and Havdalah
DESCRIPTION:
URL:https://www.sinaitemple.org/event/evening-minyan-and-havdalah/2021-02-13/
LOCATION:Sinai Temple
END:VEVENT
BEGIN:VEVENT
DTSTART;TZID=America/Los_Angeles:20210213T200000
DTEND;TZID=America/Los_Angeles:20210213T203000
DTSTAMP:20260422T201139
CREATED:20201231T032540Z
LAST-MODIFIED:20210104T185027Z
UID:10020889-1613246400-1613248200@www.sinaitemple.org
SUMMARY:Evening Minyan and Havdalah
DESCRIPTION:
URL:https://www.sinaitemple.org/event/evening-minyan-and-havdalah-2021-02-13/2021-02-13/
LOCATION:Sinai Temple
END:VEVENT
BEGIN:VEVENT
DTSTART;TZID=America/Los_Angeles:20210214T160000
DTEND;TZID=America/Los_Angeles:20210214T170000
DTSTAMP:20260422T201139
CREATED:20210208T170412Z
LAST-MODIFIED:20210208T170412Z
UID:10022174-1613318400-1613322000@www.sinaitemple.org
SUMMARY:With All Your Heart
DESCRIPTION:Join Sinai Temple\, Craig Taubman\, and friends THIS SUNDAY\, February 14 at 4:00 p.m. PST for “With All Your Heart\,” a celebration of our neuro-diverse young people who sing\, live\, and love with all their heart and soul. We’ll stream LIVE on our streaming page\, Facebook page\, and YouTube Channel. Register at http://ow.ly/ydDg50Duv9b \nClick HERE to watch the event promo video.
URL:https://www.sinaitemple.org/event/with-all-your-heart/
LOCATION:Sinai Temple
CATEGORIES:Events
ATTACH;FMTTYPE=image/png:https://www.sinaitemple.org/wp-content/uploads/2021/02/Screen-Shot-2021-01-21-at-10.33.51-AM.png
END:VEVENT
BEGIN:VEVENT
DTSTART;TZID=America/Los_Angeles:20210215T174500
DTEND;TZID=America/Los_Angeles:20210215T181500
DTSTAMP:20260422T201139
CREATED:20201223T213547Z
LAST-MODIFIED:20250814T203527Z
UID:10019565-1613411100-1613412900@www.sinaitemple.org
SUMMARY:Daily Minyan
DESCRIPTION:In person in Kohn chapel and online on our YouTube channel.
URL:https://www.sinaitemple.org/event/virtual-daily-minyan-7/2021-02-15/
LOCATION:Kohn Chapel
CATEGORIES:Worship Services
END:VEVENT
BEGIN:VEVENT
DTSTART;TZID=America/Los_Angeles:20210216T193000
DTEND;TZID=America/Los_Angeles:20210216T203000
DTSTAMP:20260422T201139
CREATED:20210108T190653Z
LAST-MODIFIED:20210208T171635Z
UID:10021235-1613503800-1613507400@www.sinaitemple.org
SUMMARY:Israel Center Program: Understanding the Kneset & Israel's Upcoming Elections
DESCRIPTION:Speaker: Tomer Persico \nClick here to register.
URL:https://www.sinaitemple.org/event/israel-center-program-understanding-the-kneset-in-2021-and-beyond/
LOCATION:Sinai Temple
CATEGORIES:Events,Israel Center
ATTACH;FMTTYPE=image/jpeg:https://www.sinaitemple.org/wp-content/uploads/2021/01/Understanding-the-Knesset.jpg
END:VEVENT
BEGIN:VEVENT
DTSTART;TZID=America/Los_Angeles:20210216T193000
DTEND;TZID=America/Los_Angeles:20210216T210000
DTSTAMP:20260422T201139
CREATED:20170406T192008Z
LAST-MODIFIED:20170814T192349Z
UID:10014179-1613503800-1613509200@www.sinaitemple.org
SUMMARY:Chai Society Meeting
DESCRIPTION:
URL:https://www.sinaitemple.org/event/chai-society-meeting/2021-02-16/
CATEGORIES:Chai Society
ATTACH;FMTTYPE=image/jpeg:https://www.sinaitemple.org/wp-content/uploads/2017/04/ChaiSociety@2x.jpg
END:VEVENT
BEGIN:VEVENT
DTSTART;TZID=America/Los_Angeles:20210217T131500
DTEND;TZID=America/Los_Angeles:20210217T151500
DTSTAMP:20260422T201139
CREATED:20210205T204216Z
LAST-MODIFIED:20210205T204216Z
UID:10022162-1613567700-1613574900@www.sinaitemple.org
SUMMARY:Watercolor Class with Deborah Pitt
DESCRIPTION:Learn fundamental watercolor painting skills in this fun and lively class! All levels welcomed. The class will take place on Wednesdays from 1:15-3:15 p.m. running from February 17-March 24. The cost is $120 per person for the 6-part series. Register and pay HERE. Zoom link will be sent to those who register.
URL:https://www.sinaitemple.org/event/watercolor-class-with-deborah-pitt/2021-02-17/
LOCATION:Sinai Temple
CATEGORIES:Learn at Sinai,Sisterhood
END:VEVENT
BEGIN:VEVENT
DTSTART;TZID=America/Los_Angeles:20210217T174500
DTEND;TZID=America/Los_Angeles:20210217T181500
DTSTAMP:20260422T201139
CREATED:20201223T214532Z
LAST-MODIFIED:20250814T203608Z
UID:10020562-1613583900-1613585700@www.sinaitemple.org
SUMMARY:Daily Minyan
DESCRIPTION:In person in Kohn chapel and online on our YouTube channel.
URL:https://www.sinaitemple.org/event/virtual-daily-minyan-12/2021-02-17/
LOCATION:Kohn Chapel
CATEGORIES:Worship Services
END:VEVENT
BEGIN:VEVENT
DTSTART;TZID=America/Los_Angeles:20210217T190000
DTEND;TZID=America/Los_Angeles:20210217T200000
DTSTAMP:20260422T201139
CREATED:20210128T210151Z
LAST-MODIFIED:20210128T210152Z
UID:10022161-1613588400-1613592000@www.sinaitemple.org
SUMMARY:Watch and Kibbitz: Disobedience
DESCRIPTION:  \nFrom Sebastián Lelio\, the director of the Academy Award-winning A Fantastic Woman\, Disobedience follows a womanas she returns to the community that shunned herdecades earlier for an attraction to a childhood friend.Once back\, their passions reignite as they explore theboundaries of faith and sexuality.  \nJoin Rachel Polansky\, Sinai Temple’s Program Manager\, foran interactive discussion on the film.  \nPlease try to watch in advance. Click HERE to register.
URL:https://www.sinaitemple.org/event/watch-and-kibbitz-disobedience/
LOCATION:Sinai Temple
CATEGORIES:Events,Sisterhood
ATTACH;FMTTYPE=image/png:https://www.sinaitemple.org/wp-content/uploads/2021/01/Watch-and-Kibbitz-Disobedience.png
END:VEVENT
BEGIN:VEVENT
DTSTART;TZID=America/Los_Angeles:20210218T090000
DTEND;TZID=America/Los_Angeles:20210218T100000
DTSTAMP:20260422T201139
CREATED:20201014T155248Z
LAST-MODIFIED:20210603T174935Z
UID:10015266-1613638800-1613642400@www.sinaitemple.org
SUMMARY:Thursday Morning Torah with Rabbi Wolpe
DESCRIPTION:Join Rabbi Wolpe every Thursday morning for a lively Torah study! \nCLICK HERE TO WATCH
URL:https://www.sinaitemple.org/event/thursday-morning-torah-with-rabbi-wolpe-3/2021-02-18/
LOCATION:Sinai Temple
CATEGORIES:Learn at Sinai
ATTACH;FMTTYPE=image/jpeg:https://www.sinaitemple.org/wp-content/uploads/2017/04/RabbiDavidWolpe@2x.jpg
END:VEVENT
BEGIN:VEVENT
DTSTART;TZID=America/Los_Angeles:20210218T120000
DTEND;TZID=America/Los_Angeles:20210218T130000
DTSTAMP:20260422T201139
CREATED:20210112T223438Z
LAST-MODIFIED:20210209T222220Z
UID:10022156-1613649600-1613653200@www.sinaitemple.org
SUMMARY:A Woman's Perspective with Rabbi Guzik
DESCRIPTION:Join women of all ages for a Torah study group via Zoom\, led by Rabbi Nicole Guzik. Explore historical and contemporary commentaries\, and how the Torah applies to our lives as women. \nClick HERE to register.
URL:https://www.sinaitemple.org/event/a-womans-perspective-with-rabbi-guzik-2/
LOCATION:Sinai Temple
CATEGORIES:Learn at Sinai
ATTACH;FMTTYPE=image/jpeg:https://www.sinaitemple.org/wp-content/uploads/2021/01/A-Womans-Perspective-with-RNG_V2.jpg
END:VEVENT
BEGIN:VEVENT
DTSTART;TZID=America/Los_Angeles:20210218T190000
DTEND;TZID=America/Los_Angeles:20210218T200000
DTSTAMP:20260422T201139
CREATED:20210108T190803Z
LAST-MODIFIED:20210127T214455Z
UID:10021236-1613674800-1613678400@www.sinaitemple.org
SUMMARY:Virtual Kibbitz & Comedy Night
DESCRIPTION:“When you’re hungry\, sing. When you hurt\, laugh” (Jewish Proverb).  \nThe pandemic has been incredibly challenging for so many of us\, butour culture is known for finding the light in the darkest of moments.  \nJoin us for an unforgettable evening and come prepared to laugh HARD with comedians Mark Schiff and Wendy Liebman!  \nClick HERE to register.
URL:https://www.sinaitemple.org/event/cocktails-comedy/
LOCATION:Sinai Temple
CATEGORIES:Events
ATTACH;FMTTYPE=image/png:https://www.sinaitemple.org/wp-content/uploads/2021/01/Sinai-Temple-Comedy-Night.png
END:VEVENT
BEGIN:VEVENT
DTSTART;TZID=America/Los_Angeles:20210219T073000
DTEND;TZID=America/Los_Angeles:20210219T080000
DTSTAMP:20260422T201139
CREATED:20201231T182859Z
LAST-MODIFIED:20250814T203550Z
UID:10020899-1613719800-1613721600@www.sinaitemple.org
SUMMARY:Daily Minyan
DESCRIPTION:In person in Kohn chapel and online on our YouTube channel.
URL:https://www.sinaitemple.org/event/virtual-daily-minyan-15/2021-02-19/
LOCATION:Kohn Chapel
CATEGORIES:Worship Services
END:VEVENT
BEGIN:VEVENT
DTSTART;TZID=America/Los_Angeles:20210219T174500
DTEND;TZID=America/Los_Angeles:20210219T184500
DTSTAMP:20260422T201139
CREATED:20201223T211157Z
LAST-MODIFIED:20201223T211158Z
UID:10019219-1613756700-1613760300@www.sinaitemple.org
SUMMARY:Virtual Kabbalat Shabbat Service
DESCRIPTION:
URL:https://www.sinaitemple.org/event/virtual-kabbalat-shabbat-service/2021-02-19/
LOCATION:Sinai Temple
END:VEVENT
BEGIN:VEVENT
DTSTART;TZID=America/Los_Angeles:20210220T090000
DTEND;TZID=America/Los_Angeles:20210220T110000
DTSTAMP:20260422T201139
CREATED:20201223T211515Z
LAST-MODIFIED:20250807T180357Z
UID:10019230-1613811600-1613818800@www.sinaitemple.org
SUMMARY:Shabbat Morning Service
DESCRIPTION:
URL:https://www.sinaitemple.org/event/shabbat-morning-service/2021-02-20/
LOCATION:Sinai Temple
CATEGORIES:Worship Services
END:VEVENT
BEGIN:VEVENT
DTSTART;TZID=America/Los_Angeles:20210220T200000
DTEND;TZID=America/Los_Angeles:20210220T203000
DTSTAMP:20260422T201139
CREATED:20201231T032540Z
LAST-MODIFIED:20210104T185027Z
UID:10020890-1613851200-1613853000@www.sinaitemple.org
SUMMARY:Evening Minyan and Havdalah
DESCRIPTION:
URL:https://www.sinaitemple.org/event/evening-minyan-and-havdalah-2021-02-13/2021-02-20/
LOCATION:Sinai Temple
END:VEVENT
BEGIN:VEVENT
DTSTART;TZID=America/Los_Angeles:20210221T140000
DTEND;TZID=America/Los_Angeles:20210221T150000
DTSTAMP:20260422T201139
CREATED:20210108T190947Z
LAST-MODIFIED:20210209T222408Z
UID:10021237-1613916000-1613919600@www.sinaitemple.org
SUMMARY:Emotional Well Being and Healthy Coping During the COVID-19 Pandemic
DESCRIPTION:Speaker: Dr. Shannon Arbel \nClick here to register.
URL:https://www.sinaitemple.org/event/emotional-well-being-and-healthy-coping-during-the-covid-19-pandemic-2/
LOCATION:Sinai Temple
CATEGORIES:Events
ATTACH;FMTTYPE=image/jpeg:https://www.sinaitemple.org/wp-content/uploads/2021/01/Emotional-Well-Being.jpg
END:VEVENT
BEGIN:VEVENT
DTSTART;TZID=America/Los_Angeles:20210222T120000
DTEND;TZID=America/Los_Angeles:20210222T130000
DTSTAMP:20260422T201139
CREATED:20201224T165125Z
LAST-MODIFIED:20201224T165125Z
UID:10020878-1613995200-1613998800@www.sinaitemple.org
SUMMARY:Calligraphy Series with DeAnn Singh
DESCRIPTION:Click HERE to register. $120 for the 6-class series. No class January 18 and February 15.
URL:https://www.sinaitemple.org/event/calligraphy-series-with-deann-singh-4/2021-02-22/
LOCATION:Sinai Temple
END:VEVENT
BEGIN:VEVENT
DTSTART;TZID=America/Los_Angeles:20210222T174500
DTEND;TZID=America/Los_Angeles:20210222T181500
DTSTAMP:20260422T201139
CREATED:20201223T213547Z
LAST-MODIFIED:20250814T203527Z
UID:10019566-1614015900-1614017700@www.sinaitemple.org
SUMMARY:Daily Minyan
DESCRIPTION:In person in Kohn chapel and online on our YouTube channel.
URL:https://www.sinaitemple.org/event/virtual-daily-minyan-7/2021-02-22/
LOCATION:Kohn Chapel
CATEGORIES:Worship Services
END:VEVENT
BEGIN:VEVENT
DTSTART;TZID=America/Los_Angeles:20210222T183000
DTEND;TZID=America/Los_Angeles:20210222T191500
DTSTAMP:20260422T201139
CREATED:20210113T233253Z
LAST-MODIFIED:20210209T222559Z
UID:10022158-1614018600-1614021300@www.sinaitemple.org
SUMMARY:Matanot L'Evyonim Prep
DESCRIPTION:Join us in a special mitzvah for Purim: offering tzedaka to those in need. Together\, we’ll create kits for the homeless. On zoom\, we will make the kits in our own homes\, connect through our packing\, and deliver the kits at our leisure. Recommended items to include in a large ziplock: socks\, deodorant\, chapstick\, bottled water\, granola bars\, toothpaste\, toothbrush\, sunscreen\, masks\, bandaids or bandages\, wet wipes.\n\nClick HERE to register.
URL:https://www.sinaitemple.org/event/matanot-levyonim-prep/
LOCATION:Sinai Temple
CATEGORIES:Events,Holidays
ATTACH;FMTTYPE=image/jpeg:https://www.sinaitemple.org/wp-content/uploads/2021/01/Matanot-LEvyonim.jpg
END:VEVENT
BEGIN:VEVENT
DTSTART;TZID=America/Los_Angeles:20210223T183000
DTEND;TZID=America/Los_Angeles:20210223T193000
DTSTAMP:20260422T201139
CREATED:20210111T225931Z
LAST-MODIFIED:20210209T222713Z
UID:10022155-1614105000-1614108600@www.sinaitemple.org
SUMMARY:Community Hamentashen Bake
DESCRIPTION:Let’s get together as a Sinai Temple community and learn to bake hamentaschen with Julie Himelstein of Sid + Rye Treats. \nClick HERE to register.
URL:https://www.sinaitemple.org/event/community-hamantashen-bake/
LOCATION:Sinai Temple
CATEGORIES:Events,Holidays
ATTACH;FMTTYPE=image/jpeg:https://www.sinaitemple.org/wp-content/uploads/2021/01/Hamentaschen-Bake.jpg
END:VEVENT
BEGIN:VEVENT
DTSTART;TZID=America/Los_Angeles:20210224T131500
DTEND;TZID=America/Los_Angeles:20210224T151500
DTSTAMP:20260422T201139
CREATED:20210205T204216Z
LAST-MODIFIED:20210205T204216Z
UID:10022163-1614172500-1614179700@www.sinaitemple.org
SUMMARY:Watercolor Class with Deborah Pitt
DESCRIPTION:Learn fundamental watercolor painting skills in this fun and lively class! All levels welcomed. The class will take place on Wednesdays from 1:15-3:15 p.m. running from February 17-March 24. The cost is $120 per person for the 6-part series. Register and pay HERE. Zoom link will be sent to those who register.
URL:https://www.sinaitemple.org/event/watercolor-class-with-deborah-pitt/2021-02-24/
LOCATION:Sinai Temple
CATEGORIES:Learn at Sinai,Sisterhood
END:VEVENT
BEGIN:VEVENT
DTSTART;TZID=America/Los_Angeles:20210224T174500
DTEND;TZID=America/Los_Angeles:20210224T181500
DTSTAMP:20260422T201139
CREATED:20201223T214532Z
LAST-MODIFIED:20250814T203608Z
UID:10020563-1614188700-1614190500@www.sinaitemple.org
SUMMARY:Daily Minyan
DESCRIPTION:In person in Kohn chapel and online on our YouTube channel.
URL:https://www.sinaitemple.org/event/virtual-daily-minyan-12/2021-02-24/
LOCATION:Kohn Chapel
CATEGORIES:Worship Services
END:VEVENT
END:VCALENDAR