BEGIN:VCALENDAR
VERSION:2.0
PRODID:-//Sinai Temple - ECPv6.15.18//NONSGML v1.0//EN
CALSCALE:GREGORIAN
METHOD:PUBLISH
X-WR-CALNAME:Sinai Temple
X-ORIGINAL-URL:https://www.sinaitemple.org
X-WR-CALDESC:Events for Sinai Temple
REFRESH-INTERVAL;VALUE=DURATION:PT1H
X-Robots-Tag:noindex
X-PUBLISHED-TTL:PT1H
BEGIN:VTIMEZONE
TZID:America/Los_Angeles
BEGIN:DAYLIGHT
TZOFFSETFROM:-0800
TZOFFSETTO:-0700
TZNAME:PDT
DTSTART:20200308T100000
END:DAYLIGHT
BEGIN:STANDARD
TZOFFSETFROM:-0700
TZOFFSETTO:-0800
TZNAME:PST
DTSTART:20201101T090000
END:STANDARD
BEGIN:DAYLIGHT
TZOFFSETFROM:-0800
TZOFFSETTO:-0700
TZNAME:PDT
DTSTART:20210314T100000
END:DAYLIGHT
BEGIN:STANDARD
TZOFFSETFROM:-0700
TZOFFSETTO:-0800
TZNAME:PST
DTSTART:20211107T090000
END:STANDARD
BEGIN:DAYLIGHT
TZOFFSETFROM:-0800
TZOFFSETTO:-0700
TZNAME:PDT
DTSTART:20220313T100000
END:DAYLIGHT
BEGIN:STANDARD
TZOFFSETFROM:-0700
TZOFFSETTO:-0800
TZNAME:PST
DTSTART:20221106T090000
END:STANDARD
END:VTIMEZONE
BEGIN:VEVENT
DTSTART;TZID=America/Los_Angeles:20210226T174500
DTEND;TZID=America/Los_Angeles:20210226T184500
DTSTAMP:20260423T011623
CREATED:20201223T211157Z
LAST-MODIFIED:20201223T211158Z
UID:10019220-1614361500-1614365100@www.sinaitemple.org
SUMMARY:Virtual Kabbalat Shabbat Service
DESCRIPTION:
URL:https://www.sinaitemple.org/event/virtual-kabbalat-shabbat-service/2021-02-26/
LOCATION:Sinai Temple
END:VEVENT
BEGIN:VEVENT
DTSTART;TZID=America/Los_Angeles:20210227T090000
DTEND;TZID=America/Los_Angeles:20210227T110000
DTSTAMP:20260423T011623
CREATED:20201223T211515Z
LAST-MODIFIED:20250807T180357Z
UID:10019231-1614416400-1614423600@www.sinaitemple.org
SUMMARY:Shabbat Morning Service
DESCRIPTION:
URL:https://www.sinaitemple.org/event/shabbat-morning-service/2021-02-27/
LOCATION:Sinai Temple
CATEGORIES:Worship Services
END:VEVENT
BEGIN:VEVENT
DTSTART;TZID=America/Los_Angeles:20210227T100000
DTEND;TZID=America/Los_Angeles:20210227T103000
DTSTAMP:20260423T011623
CREATED:20170406T190234Z
LAST-MODIFIED:20170706T164934Z
UID:10014080-1614420000-1614421800@www.sinaitemple.org
SUMMARY:Shabbat Menucha
DESCRIPTION:Join Cantor Lisa Peicott in taking a moment to enjoy a moment of stillness with a meditative service focused on gratitude\, listening\, and healing. Give yourself a chance to reconnect with yourself\, your body\, and God. Come in regular synagogue attire. 
URL:https://www.sinaitemple.org/event/shabbat-menucha/2021-02-27/
END:VEVENT
BEGIN:VEVENT
DTSTART;TZID=America/Los_Angeles:20210227T200000
DTEND;TZID=America/Los_Angeles:20210227T203000
DTSTAMP:20260423T011623
CREATED:20201231T032540Z
LAST-MODIFIED:20210104T185027Z
UID:10020891-1614456000-1614457800@www.sinaitemple.org
SUMMARY:Evening Minyan and Havdalah
DESCRIPTION:
URL:https://www.sinaitemple.org/event/evening-minyan-and-havdalah-2021-02-13/2021-02-27/
LOCATION:Sinai Temple
END:VEVENT
BEGIN:VEVENT
DTSTART;TZID=America/Los_Angeles:20210227T200000
DTEND;TZID=America/Los_Angeles:20210227T203000
DTSTAMP:20260423T011623
CREATED:20210222T163036Z
LAST-MODIFIED:20210222T163643Z
UID:10015421-1614456000-1614457800@www.sinaitemple.org
SUMMARY:Virtual Community Havdalah with Rabbi Rotenberg
DESCRIPTION:Click HERE to register.
URL:https://www.sinaitemple.org/event/virtual-community-havdalah-with-rabbi-rotenberg/
LOCATION:Sinai Temple
CATEGORIES:Events
ATTACH;FMTTYPE=image/png:https://www.sinaitemple.org/wp-content/uploads/2021/02/Community-Havdalah.png
END:VEVENT
BEGIN:VEVENT
DTSTART;TZID=America/Los_Angeles:20210301T174500
DTEND;TZID=America/Los_Angeles:20210301T181500
DTSTAMP:20260423T011623
CREATED:20201223T213547Z
LAST-MODIFIED:20250814T203527Z
UID:10019567-1614620700-1614622500@www.sinaitemple.org
SUMMARY:Daily Minyan
DESCRIPTION:In person in Kohn chapel and online on our YouTube channel.
URL:https://www.sinaitemple.org/event/virtual-daily-minyan-7/2021-03-01/
LOCATION:Kohn Chapel
CATEGORIES:Worship Services
END:VEVENT
BEGIN:VEVENT
DTSTART;TZID=America/Los_Angeles:20210302T123000
DTEND;TZID=America/Los_Angeles:20210302T133000
DTSTAMP:20260423T011623
CREATED:20201014T155519Z
LAST-MODIFIED:20201014T155520Z
UID:10015285-1614688200-1614691800@www.sinaitemple.org
SUMMARY:Lunch and Learn Series with Rabbi Wolpe
DESCRIPTION:Join Rabbi Wolpe on the first Tuesday of each month for a Lunch and Learn series! The topic of this series is “A Jewish View of the Seven Deadly Sins.” \nCLICK HERE TO WATCH
URL:https://www.sinaitemple.org/event/lunch-and-learn-series-with-rabbi-wolpe/2021-03-02/
LOCATION:Sinai Temple
CATEGORIES:Learn at Sinai
ATTACH;FMTTYPE=image/jpeg:https://www.sinaitemple.org/wp-content/uploads/2017/04/RabbiDavidWolpe@2x.jpg
END:VEVENT
BEGIN:VEVENT
DTSTART;TZID=America/Los_Angeles:20210302T183000
DTEND;TZID=America/Los_Angeles:20210302T193000
DTSTAMP:20260423T011623
CREATED:20210217T233134Z
LAST-MODIFIED:20210223T220057Z
UID:10022178-1614709800-1614713400@www.sinaitemple.org
SUMMARY:Men's Club Event: Molecules\, Medicine\, & Curing Diseases
DESCRIPTION:Click HERE to register.
URL:https://www.sinaitemple.org/event/mens-club-event-molecules-medicine-curing-diseases/
LOCATION:Sinai Temple
CATEGORIES:Learn at Sinai,Men's Club
ATTACH;FMTTYPE=image/png:https://www.sinaitemple.org/wp-content/uploads/2021/02/Mens-Club-March-Event.png
END:VEVENT
BEGIN:VEVENT
DTSTART;TZID=America/Los_Angeles:20210303T131500
DTEND;TZID=America/Los_Angeles:20210303T151500
DTSTAMP:20260423T011623
CREATED:20210205T204216Z
LAST-MODIFIED:20210205T204216Z
UID:10022164-1614777300-1614784500@www.sinaitemple.org
SUMMARY:Watercolor Class with Deborah Pitt
DESCRIPTION:Learn fundamental watercolor painting skills in this fun and lively class! All levels welcomed. The class will take place on Wednesdays from 1:15-3:15 p.m. running from February 17-March 24. The cost is $120 per person for the 6-part series. Register and pay HERE. Zoom link will be sent to those who register.
URL:https://www.sinaitemple.org/event/watercolor-class-with-deborah-pitt/2021-03-03/
LOCATION:Sinai Temple
CATEGORIES:Learn at Sinai,Sisterhood
END:VEVENT
BEGIN:VEVENT
DTSTART;TZID=America/Los_Angeles:20210303T174500
DTEND;TZID=America/Los_Angeles:20210303T181500
DTSTAMP:20260423T011623
CREATED:20201223T214532Z
LAST-MODIFIED:20250814T203608Z
UID:10020564-1614793500-1614795300@www.sinaitemple.org
SUMMARY:Daily Minyan
DESCRIPTION:In person in Kohn chapel and online on our YouTube channel.
URL:https://www.sinaitemple.org/event/virtual-daily-minyan-12/2021-03-03/
LOCATION:Kohn Chapel
CATEGORIES:Worship Services
END:VEVENT
BEGIN:VEVENT
DTSTART;TZID=America/Los_Angeles:20210304T090000
DTEND;TZID=America/Los_Angeles:20210304T100000
DTSTAMP:20260423T011623
CREATED:20201014T155248Z
LAST-MODIFIED:20210603T174935Z
UID:10015268-1614848400-1614852000@www.sinaitemple.org
SUMMARY:Thursday Morning Torah with Rabbi Wolpe
DESCRIPTION:Join Rabbi Wolpe every Thursday morning for a lively Torah study! \nCLICK HERE TO WATCH
URL:https://www.sinaitemple.org/event/thursday-morning-torah-with-rabbi-wolpe-3/2021-03-04/
LOCATION:Sinai Temple
CATEGORIES:Learn at Sinai
ATTACH;FMTTYPE=image/jpeg:https://www.sinaitemple.org/wp-content/uploads/2017/04/RabbiDavidWolpe@2x.jpg
END:VEVENT
BEGIN:VEVENT
DTSTART;TZID=America/Los_Angeles:20210305T073000
DTEND;TZID=America/Los_Angeles:20210305T080000
DTSTAMP:20260423T011623
CREATED:20201231T182859Z
LAST-MODIFIED:20250814T203550Z
UID:10020901-1614929400-1614931200@www.sinaitemple.org
SUMMARY:Daily Minyan
DESCRIPTION:In person in Kohn chapel and online on our YouTube channel.
URL:https://www.sinaitemple.org/event/virtual-daily-minyan-15/2021-03-05/
LOCATION:Kohn Chapel
CATEGORIES:Worship Services
END:VEVENT
BEGIN:VEVENT
DTSTART;TZID=America/Los_Angeles:20210305T174500
DTEND;TZID=America/Los_Angeles:20210305T184500
DTSTAMP:20260423T011623
CREATED:20201223T211157Z
LAST-MODIFIED:20201223T211158Z
UID:10019221-1614966300-1614969900@www.sinaitemple.org
SUMMARY:Virtual Kabbalat Shabbat Service
DESCRIPTION:
URL:https://www.sinaitemple.org/event/virtual-kabbalat-shabbat-service/2021-03-05/
LOCATION:Sinai Temple
END:VEVENT
BEGIN:VEVENT
DTSTART;TZID=America/Los_Angeles:20210306T090000
DTEND;TZID=America/Los_Angeles:20210306T110000
DTSTAMP:20260423T011623
CREATED:20201223T211515Z
LAST-MODIFIED:20250807T180357Z
UID:10019232-1615021200-1615028400@www.sinaitemple.org
SUMMARY:Shabbat Morning Service
DESCRIPTION:
URL:https://www.sinaitemple.org/event/shabbat-morning-service/2021-03-06/
LOCATION:Sinai Temple
CATEGORIES:Worship Services
END:VEVENT
BEGIN:VEVENT
DTSTART;TZID=America/Los_Angeles:20210306T200000
DTEND;TZID=America/Los_Angeles:20210306T203000
DTSTAMP:20260423T011623
CREATED:20201231T032540Z
LAST-MODIFIED:20210104T185027Z
UID:10020892-1615060800-1615062600@www.sinaitemple.org
SUMMARY:Evening Minyan and Havdalah
DESCRIPTION:
URL:https://www.sinaitemple.org/event/evening-minyan-and-havdalah-2021-02-13/2021-03-06/
LOCATION:Sinai Temple
END:VEVENT
BEGIN:VEVENT
DTSTART;TZID=America/Los_Angeles:20210308T174500
DTEND;TZID=America/Los_Angeles:20210308T181500
DTSTAMP:20260423T011623
CREATED:20201223T213547Z
LAST-MODIFIED:20250814T203527Z
UID:10019568-1615225500-1615227300@www.sinaitemple.org
SUMMARY:Daily Minyan
DESCRIPTION:In person in Kohn chapel and online on our YouTube channel.
URL:https://www.sinaitemple.org/event/virtual-daily-minyan-7/2021-03-08/
LOCATION:Kohn Chapel
CATEGORIES:Worship Services
END:VEVENT
BEGIN:VEVENT
DTSTART;TZID=America/Los_Angeles:20210309T120000
DTEND;TZID=America/Los_Angeles:20210309T130000
DTSTAMP:20260423T011623
CREATED:20210125T214419Z
LAST-MODIFIED:20210308T163353Z
UID:10015410-1615291200-1615294800@www.sinaitemple.org
SUMMARY:Midrash and Learning with Maggid Elias Ramer (Part 1)
DESCRIPTION:How do we read and understand our sacred texts\, some of them written more than three thousand years ago? We do this through midrashim\, both legal and narrative – the word midrash coming from a Hebrew root that means “to interpret.” For example\, Adam’s first wife Lilith doesn’t appear in the Torah – but she comes to life in midrashim\, as do the tales of Elijah the Prophet\, who visits our homes on Passover.   \nIn the first class we’ll be exploring what midrashim are\, why they are\, and\, with a focus on narrative midrashim\, you’ll be hearing a few old stories and a few new ones\, chosen to illuminate the ways that we and our ancestors sought and seek to make sense of puzzling\, contradictory\, or fragmentary texts. We’ll be doing this with some attention to the collective journey we’ll soon be taking in celebrating Passover\, the primary story-telling holiday of the year.   \nIn the second class you’ll be hearing a few more stories\, and then you’ll have the opportunity to write a midrash of your own – which may be grounded in Torah\, Tanach\, or any other Jewish text including novels\, poems\, and even films. Note-taking is always welcome\, and please bring something to write on and with to the second class. The first class is required to participate in the second class. Please join us even if you’ve never written a story before in your life – and please bring a photograph of one of your ancestors with you.   \nClick HERE to register for both part 1 and part 2.
URL:https://www.sinaitemple.org/event/midrash-and-learning-with-maggid-elias-ramer-part-1/
LOCATION:Sinai Temple
CATEGORIES:Events,Learn at Sinai
ATTACH;FMTTYPE=image/png:https://www.sinaitemple.org/wp-content/uploads/2021/01/Maggid-Elias-Ramer.png
END:VEVENT
BEGIN:VEVENT
DTSTART;TZID=America/Los_Angeles:20210310T131500
DTEND;TZID=America/Los_Angeles:20210310T151500
DTSTAMP:20260423T011623
CREATED:20210205T204216Z
LAST-MODIFIED:20210205T204216Z
UID:10022165-1615382100-1615389300@www.sinaitemple.org
SUMMARY:Watercolor Class with Deborah Pitt
DESCRIPTION:Learn fundamental watercolor painting skills in this fun and lively class! All levels welcomed. The class will take place on Wednesdays from 1:15-3:15 p.m. running from February 17-March 24. The cost is $120 per person for the 6-part series. Register and pay HERE. Zoom link will be sent to those who register.
URL:https://www.sinaitemple.org/event/watercolor-class-with-deborah-pitt/2021-03-10/
LOCATION:Sinai Temple
CATEGORIES:Learn at Sinai,Sisterhood
END:VEVENT
BEGIN:VEVENT
DTSTART;TZID=America/Los_Angeles:20210310T174500
DTEND;TZID=America/Los_Angeles:20210310T181500
DTSTAMP:20260423T011623
CREATED:20201223T214532Z
LAST-MODIFIED:20250814T203608Z
UID:10020565-1615398300-1615400100@www.sinaitemple.org
SUMMARY:Daily Minyan
DESCRIPTION:In person in Kohn chapel and online on our YouTube channel.
URL:https://www.sinaitemple.org/event/virtual-daily-minyan-12/2021-03-10/
LOCATION:Kohn Chapel
CATEGORIES:Worship Services
END:VEVENT
BEGIN:VEVENT
DTSTART;TZID=America/Los_Angeles:20210311T090000
DTEND;TZID=America/Los_Angeles:20210311T100000
DTSTAMP:20260423T011623
CREATED:20201014T155248Z
LAST-MODIFIED:20210603T174935Z
UID:10015269-1615453200-1615456800@www.sinaitemple.org
SUMMARY:Thursday Morning Torah with Rabbi Wolpe
DESCRIPTION:Join Rabbi Wolpe every Thursday morning for a lively Torah study! \nCLICK HERE TO WATCH
URL:https://www.sinaitemple.org/event/thursday-morning-torah-with-rabbi-wolpe-3/2021-03-11/
LOCATION:Sinai Temple
CATEGORIES:Learn at Sinai
ATTACH;FMTTYPE=image/jpeg:https://www.sinaitemple.org/wp-content/uploads/2017/04/RabbiDavidWolpe@2x.jpg
END:VEVENT
BEGIN:VEVENT
DTSTART;TZID=America/Los_Angeles:20210311T150000
DTEND;TZID=America/Los_Angeles:20210311T160000
DTSTAMP:20260423T011623
CREATED:20210125T214534Z
LAST-MODIFIED:20210304T195048Z
UID:10015411-1615474800-1615478400@www.sinaitemple.org
SUMMARY:Midrash and Meaning with Maggid Elias Ramer (Part 2)
DESCRIPTION:How do we read and understand our sacred texts\, some of them written more than three thousand years ago? We do this through midrashim\, both legal and narrative – the word midrash coming from a Hebrew root that means “to interpret.” For example\, Adam’s first wife Lilith doesn’t appear in the Torah – but she comes to life in midrashim\, as do the tales of Elijah the Prophet\, who visits our homes on Passover.   \nIn the first class we’ll be exploring what midrashim are\, why they are\, and\, with a focus on narrative midrashim\, you’ll be hearing a few old stories and a few new ones\, chosen to illuminate the ways that we and our ancestors sought and seek to make sense of puzzling\, contradictory\, or fragmentary texts. We’ll be doing this with some attention to the collective journey we’ll soon be taking in celebrating Passover\, the primary story-telling holiday of the year.   \nIn the second class you’ll be hearing a few more stories\, and then you’ll have the opportunity to write a midrash of your own – which may be grounded in Torah\, Tanach\, or any other Jewish text including novels\, poems\, and even films. Note-taking is always welcome\, and please bring something to write on and with to the second class. The first class is required to participate in the second class. Please join us even if you’ve never written a story before in your life – and please bring a photograph of one of your ancestors with you.   \nClick HERE to register for both part 1 and part 2.
URL:https://www.sinaitemple.org/event/midrash-and-meaning-with-maggid-elias-ramer-part-2/
LOCATION:Sinai Temple
CATEGORIES:Events,Learn at Sinai
ATTACH;FMTTYPE=image/png:https://www.sinaitemple.org/wp-content/uploads/2021/01/Maggid-Elias-Ramer.png
END:VEVENT
BEGIN:VEVENT
DTSTART;TZID=America/Los_Angeles:20210311T190000
DTEND;TZID=America/Los_Angeles:20210311T200000
DTSTAMP:20260423T011623
CREATED:20210125T214956Z
LAST-MODIFIED:20210309T223249Z
UID:10015412-1615489200-1615492800@www.sinaitemple.org
SUMMARY:Bridging Differences with Joel Stein
DESCRIPTION:Join Rabbi Wolpe and Joel Stein to hear about how to respectfully engage as a community while maintaining one’s own true identity. \nClick HERE to register.
URL:https://www.sinaitemple.org/event/bridging-differences-with-joel-stein/
LOCATION:Sinai Temple
CATEGORIES:Events,Learn at Sinai
ATTACH;FMTTYPE=image/png:https://www.sinaitemple.org/wp-content/uploads/2021/01/Bridging-Differences-with-Joel-Stein.png
END:VEVENT
BEGIN:VEVENT
DTSTART;TZID=America/Los_Angeles:20210312T073000
DTEND;TZID=America/Los_Angeles:20210312T080000
DTSTAMP:20260423T011623
CREATED:20201231T182859Z
LAST-MODIFIED:20250814T203550Z
UID:10020902-1615534200-1615536000@www.sinaitemple.org
SUMMARY:Daily Minyan
DESCRIPTION:In person in Kohn chapel and online on our YouTube channel.
URL:https://www.sinaitemple.org/event/virtual-daily-minyan-15/2021-03-12/
LOCATION:Kohn Chapel
CATEGORIES:Worship Services
END:VEVENT
BEGIN:VEVENT
DTSTART;TZID=America/Los_Angeles:20210313T090000
DTEND;TZID=America/Los_Angeles:20210313T120000
DTSTAMP:20260423T011623
CREATED:20201223T211515Z
LAST-MODIFIED:20210303T185335Z
UID:10015361-1615626000-1615636800@www.sinaitemple.org
SUMMARY:The Feit Family Shabbat Live
DESCRIPTION:Service at 9:30 a.m. | Shabbat Live at 11:00 a.m.\n\nJoin Rabbi David Wolpe and Craig Taubman for words\, music\, and prayer! We’ll stream LIVE on our Streaming site\, Facebook page\, and YouTube channel.\n\nThis program is generously sponsored by Sinai Temple\, CraignCo\, and the Feit Family. \n \nClick HERE to register. 
URL:https://www.sinaitemple.org/event/shabbat-morning-service-2021-03-13/
LOCATION:Sinai Temple
END:VEVENT
BEGIN:VEVENT
DTSTART;TZID=America/Los_Angeles:20210313T200000
DTEND;TZID=America/Los_Angeles:20210313T203000
DTSTAMP:20260423T011623
CREATED:20201231T032540Z
LAST-MODIFIED:20210104T185027Z
UID:10020893-1615665600-1615667400@www.sinaitemple.org
SUMMARY:Evening Minyan and Havdalah
DESCRIPTION:
URL:https://www.sinaitemple.org/event/evening-minyan-and-havdalah-2021-02-13/2021-03-13/
LOCATION:Sinai Temple
END:VEVENT
BEGIN:VEVENT
DTSTART;TZID=America/Los_Angeles:20210313T203000
DTEND;TZID=America/Los_Angeles:20210313T210000
DTSTAMP:20260423T011623
CREATED:20210312T211449Z
LAST-MODIFIED:20210312T211449Z
UID:10022186-1615667400-1615669200@www.sinaitemple.org
SUMMARY:Hasidut with Rabbi Rotenberg
DESCRIPTION:
URL:https://www.sinaitemple.org/event/hasidut-with-rabbi-rotenberg-2/
LOCATION:Sinai Temple
CATEGORIES:Events,Learn at Sinai
END:VEVENT
BEGIN:VEVENT
DTSTART;TZID=America/Los_Angeles:20210315T174500
DTEND;TZID=America/Los_Angeles:20210315T181500
DTSTAMP:20260423T011623
CREATED:20201223T213547Z
LAST-MODIFIED:20250814T203527Z
UID:10019569-1615830300-1615832100@www.sinaitemple.org
SUMMARY:Daily Minyan
DESCRIPTION:In person in Kohn chapel and online on our YouTube channel.
URL:https://www.sinaitemple.org/event/virtual-daily-minyan-7/2021-03-15/
LOCATION:Kohn Chapel
CATEGORIES:Worship Services
END:VEVENT
BEGIN:VEVENT
DTSTART;TZID=America/Los_Angeles:20210315T190000
DTEND;TZID=America/Los_Angeles:20210315T190000
DTSTAMP:20260423T011623
CREATED:20210226T000031Z
LAST-MODIFIED:20210302T165657Z
UID:10015425-1615834800-1615834800@www.sinaitemple.org
SUMMARY:Sinai Temple: Our COVID Update & Reopening Status
DESCRIPTION:With Rabbi David Wolpe\, Jamie Berman\, and Howard Lesner \nClick HERE to register. Please submit your questions to Gary Fayman\, Communications Manager\, at gfayman@sinaitemple.org.
URL:https://www.sinaitemple.org/event/sinai-temple-town-hall/
LOCATION:Sinai Temple
CATEGORIES:Events
ATTACH;FMTTYPE=image/png:https://www.sinaitemple.org/wp-content/uploads/2021/02/March-15-Town-Hall.png
END:VEVENT
BEGIN:VEVENT
DTSTART;TZID=America/Los_Angeles:20210316T120000
DTEND;TZID=America/Los_Angeles:20210316T130000
DTSTAMP:20260423T011623
CREATED:20210222T182729Z
LAST-MODIFIED:20210222T182729Z
UID:10015423-1615896000-1615899600@www.sinaitemple.org
SUMMARY:Illuminating Passover: Rabbi Wolpe In Conversation with Mark Gerson
DESCRIPTION:Join Rabbi David Wolpe and Mark Gerson as they discuss Gerson’s new book\, The Telling\, just in time for Passover. \nAll registrants will receive a complimentary copy of the book! \nClick HERE to register.
URL:https://www.sinaitemple.org/event/illuminating-passover-rabbi-wolpe-in-conversation-with-mark-gerson/
LOCATION:Sinai Temple
CATEGORIES:Events,Learn at Sinai
ATTACH;FMTTYPE=image/png:https://www.sinaitemple.org/wp-content/uploads/2021/02/RDW-Mark-Gerson-Event.png
END:VEVENT
BEGIN:VEVENT
DTSTART;TZID=America/Los_Angeles:20210316T193000
DTEND;TZID=America/Los_Angeles:20210316T203000
DTSTAMP:20260423T011623
CREATED:20210304T232014Z
LAST-MODIFIED:20210309T221930Z
UID:10015428-1615923000-1615926600@www.sinaitemple.org
SUMMARY:What Will Your Haggadah Look Like This Year?
DESCRIPTION:Join us for a virtual tour of the Seidler-Feller Family collection of haggadot and the stories they tell. \nYou are encouraged to have a Haggadah with you for the presentation. \nClick HERE to register.
URL:https://www.sinaitemple.org/event/what-will-your-haggadah-look-like-this-year/
LOCATION:Sinai Temple
CATEGORIES:Events,Learn at Sinai
ATTACH;FMTTYPE=image/png:https://www.sinaitemple.org/wp-content/uploads/2021/03/Rabbi-Chaim-Seidler-Feller.png
END:VEVENT
END:VCALENDAR