BEGIN:VCALENDAR
VERSION:2.0
PRODID:-//Sinai Temple - ECPv6.15.18//NONSGML v1.0//EN
CALSCALE:GREGORIAN
METHOD:PUBLISH
X-WR-CALNAME:Sinai Temple
X-ORIGINAL-URL:https://www.sinaitemple.org
X-WR-CALDESC:Events for Sinai Temple
REFRESH-INTERVAL;VALUE=DURATION:PT1H
X-Robots-Tag:noindex
X-PUBLISHED-TTL:PT1H
BEGIN:VTIMEZONE
TZID:America/Los_Angeles
BEGIN:DAYLIGHT
TZOFFSETFROM:-0800
TZOFFSETTO:-0700
TZNAME:PDT
DTSTART:20260308T100000
END:DAYLIGHT
BEGIN:STANDARD
TZOFFSETFROM:-0700
TZOFFSETTO:-0800
TZNAME:PST
DTSTART:20261101T090000
END:STANDARD
BEGIN:DAYLIGHT
TZOFFSETFROM:-0800
TZOFFSETTO:-0700
TZNAME:PDT
DTSTART:20270314T100000
END:DAYLIGHT
BEGIN:STANDARD
TZOFFSETFROM:-0700
TZOFFSETTO:-0800
TZNAME:PST
DTSTART:20271107T090000
END:STANDARD
BEGIN:DAYLIGHT
TZOFFSETFROM:-0800
TZOFFSETTO:-0700
TZNAME:PDT
DTSTART:20280312T100000
END:DAYLIGHT
BEGIN:STANDARD
TZOFFSETFROM:-0700
TZOFFSETTO:-0800
TZNAME:PST
DTSTART:20281105T090000
END:STANDARD
END:VTIMEZONE
BEGIN:VEVENT
DTSTART;TZID=America/Los_Angeles:20270304T160000
DTEND;TZID=America/Los_Angeles:20270304T180000
DTSTAMP:20260423T023746
CREATED:20251016T192638Z
LAST-MODIFIED:20260420T232209Z
UID:10032917-1804176000-1804183200@www.sinaitemple.org
SUMMARY:Mah Jongg with Estelle Marco
DESCRIPTION:Thursdays\, 4:00–6:00 PM at Sinai | 8-week sessions | $100 per person \nFor beginners and intermediate players. Space is limited—first come\, first served. \nSession runs from April 16 to June 4. \nRSVP Here
URL:https://www.sinaitemple.org/event/mah-jongg-with-estelle-marco/2027-03-04/
LOCATION:Sinai Temple
CATEGORIES:Sisterhood
ATTACH;FMTTYPE=image/jpeg:https://www.sinaitemple.org/wp-content/uploads/2025/10/Sushi-night-Amir-1.jpg
END:VEVENT
BEGIN:VEVENT
DTSTART;TZID=America/Los_Angeles:20270308T120000
DTEND;TZID=America/Los_Angeles:20270308T140000
DTSTAMP:20260423T023746
CREATED:20251016T192307Z
LAST-MODIFIED:20260420T193211Z
UID:10033974-1804507200-1804514400@www.sinaitemple.org
SUMMARY:Calligraphy with DeAnn Singh
DESCRIPTION:Learn different pen point styles\, how to address invitations\, and create a small book using the Japanese stab binding technique. Click here to read a profile on DeAnn from ShoutoutLA. \nClick here to read a profile on DeAnn from ShoutoutLA.
URL:https://www.sinaitemple.org/event/calligraphy-with-deann-singh/2027-03-08/
LOCATION:Sinai Temple
CATEGORIES:Sisterhood
ATTACH;FMTTYPE=image/png:https://www.sinaitemple.org/wp-content/uploads/2025/10/Sushi-night-Amir-10.png
END:VEVENT
BEGIN:VEVENT
DTSTART;TZID=America/Los_Angeles:20270310T093000
DTEND;TZID=America/Los_Angeles:20270310T103000
DTSTAMP:20260423T023746
CREATED:20250827T222718Z
LAST-MODIFIED:20260304T173057Z
UID:10024029-1804671000-1804674600@www.sinaitemple.org
SUMMARY:The Balance Class
DESCRIPTION:The 10/100 Program consists of six simple movements designed to grow your brain (neuroplasticity)\, improve your balance (proprioception) and strengthen your immune system. \nGroup Classes are FREE! Wednesdays from 9:30 -10:30 a.m. VIA ZOOM! \nClick HERE to join via Zoom during meeting time.
URL:https://www.sinaitemple.org/event/the-balance-class-2022-07-20-2/2027-03-10/
LOCATION:Sinai Temple
CATEGORIES:Events,Sisterhood
ATTACH;FMTTYPE=image/jpeg:https://www.sinaitemple.org/wp-content/uploads/2022/02/Untitled-design.jpg
END:VEVENT
BEGIN:VEVENT
DTSTART;TZID=America/Los_Angeles:20270310T103000
DTEND;TZID=America/Los_Angeles:20270310T120000
DTSTAMP:20260423T023746
CREATED:20251016T193001Z
LAST-MODIFIED:20251125T174414Z
UID:10033178-1804674600-1804680000@www.sinaitemple.org
SUMMARY:Art Workshop with Gail Rollman
DESCRIPTION:Wednesdays\, 10:30 AM–12:00 PM at Sinai | Weekly (Jewish holidays excepted) | $10 per class (materials included)Explore collage\, mixed media\, watercolor\, acrylic painting\, and crafts. Learn new techniques and have fun each week. Pay at the door. \nRSVP to Gail at garollman@yahoo.com.
URL:https://www.sinaitemple.org/event/art-workshop-with-gail-rollman-3/2027-03-10/
LOCATION:Sinai Temple
CATEGORIES:Sisterhood
ATTACH;FMTTYPE=image/jpeg:https://www.sinaitemple.org/wp-content/uploads/2025/10/Sushi-night-Amir-2.jpg
END:VEVENT
BEGIN:VEVENT
DTSTART;TZID=America/Los_Angeles:20270311T160000
DTEND;TZID=America/Los_Angeles:20270311T180000
DTSTAMP:20260423T023746
CREATED:20251016T192638Z
LAST-MODIFIED:20260420T232209Z
UID:10032918-1804780800-1804788000@www.sinaitemple.org
SUMMARY:Mah Jongg with Estelle Marco
DESCRIPTION:Thursdays\, 4:00–6:00 PM at Sinai | 8-week sessions | $100 per person \nFor beginners and intermediate players. Space is limited—first come\, first served. \nSession runs from April 16 to June 4. \nRSVP Here
URL:https://www.sinaitemple.org/event/mah-jongg-with-estelle-marco/2027-03-11/
LOCATION:Sinai Temple
CATEGORIES:Sisterhood
ATTACH;FMTTYPE=image/jpeg:https://www.sinaitemple.org/wp-content/uploads/2025/10/Sushi-night-Amir-1.jpg
END:VEVENT
BEGIN:VEVENT
DTSTART;TZID=America/Los_Angeles:20270315T120000
DTEND;TZID=America/Los_Angeles:20270315T140000
DTSTAMP:20260423T023746
CREATED:20251016T192307Z
LAST-MODIFIED:20260420T193211Z
UID:10033975-1805112000-1805119200@www.sinaitemple.org
SUMMARY:Calligraphy with DeAnn Singh
DESCRIPTION:Learn different pen point styles\, how to address invitations\, and create a small book using the Japanese stab binding technique. Click here to read a profile on DeAnn from ShoutoutLA. \nClick here to read a profile on DeAnn from ShoutoutLA.
URL:https://www.sinaitemple.org/event/calligraphy-with-deann-singh/2027-03-15/
LOCATION:Sinai Temple
CATEGORIES:Sisterhood
ATTACH;FMTTYPE=image/png:https://www.sinaitemple.org/wp-content/uploads/2025/10/Sushi-night-Amir-10.png
END:VEVENT
BEGIN:VEVENT
DTSTART;TZID=America/Los_Angeles:20270317T093000
DTEND;TZID=America/Los_Angeles:20270317T103000
DTSTAMP:20260423T023746
CREATED:20250827T222718Z
LAST-MODIFIED:20260304T173057Z
UID:10024030-1805275800-1805279400@www.sinaitemple.org
SUMMARY:The Balance Class
DESCRIPTION:The 10/100 Program consists of six simple movements designed to grow your brain (neuroplasticity)\, improve your balance (proprioception) and strengthen your immune system. \nGroup Classes are FREE! Wednesdays from 9:30 -10:30 a.m. VIA ZOOM! \nClick HERE to join via Zoom during meeting time.
URL:https://www.sinaitemple.org/event/the-balance-class-2022-07-20-2/2027-03-17/
LOCATION:Sinai Temple
CATEGORIES:Events,Sisterhood
ATTACH;FMTTYPE=image/jpeg:https://www.sinaitemple.org/wp-content/uploads/2022/02/Untitled-design.jpg
END:VEVENT
BEGIN:VEVENT
DTSTART;TZID=America/Los_Angeles:20270317T103000
DTEND;TZID=America/Los_Angeles:20270317T120000
DTSTAMP:20260423T023746
CREATED:20251016T193001Z
LAST-MODIFIED:20251125T174414Z
UID:10033179-1805279400-1805284800@www.sinaitemple.org
SUMMARY:Art Workshop with Gail Rollman
DESCRIPTION:Wednesdays\, 10:30 AM–12:00 PM at Sinai | Weekly (Jewish holidays excepted) | $10 per class (materials included)Explore collage\, mixed media\, watercolor\, acrylic painting\, and crafts. Learn new techniques and have fun each week. Pay at the door. \nRSVP to Gail at garollman@yahoo.com.
URL:https://www.sinaitemple.org/event/art-workshop-with-gail-rollman-3/2027-03-17/
LOCATION:Sinai Temple
CATEGORIES:Sisterhood
ATTACH;FMTTYPE=image/jpeg:https://www.sinaitemple.org/wp-content/uploads/2025/10/Sushi-night-Amir-2.jpg
END:VEVENT
BEGIN:VEVENT
DTSTART;TZID=America/Los_Angeles:20270318T160000
DTEND;TZID=America/Los_Angeles:20270318T180000
DTSTAMP:20260423T023746
CREATED:20251016T192638Z
LAST-MODIFIED:20260420T232209Z
UID:10032919-1805385600-1805392800@www.sinaitemple.org
SUMMARY:Mah Jongg with Estelle Marco
DESCRIPTION:Thursdays\, 4:00–6:00 PM at Sinai | 8-week sessions | $100 per person \nFor beginners and intermediate players. Space is limited—first come\, first served. \nSession runs from April 16 to June 4. \nRSVP Here
URL:https://www.sinaitemple.org/event/mah-jongg-with-estelle-marco/2027-03-18/
LOCATION:Sinai Temple
CATEGORIES:Sisterhood
ATTACH;FMTTYPE=image/jpeg:https://www.sinaitemple.org/wp-content/uploads/2025/10/Sushi-night-Amir-1.jpg
END:VEVENT
BEGIN:VEVENT
DTSTART;TZID=America/Los_Angeles:20270322T120000
DTEND;TZID=America/Los_Angeles:20270322T140000
DTSTAMP:20260423T023746
CREATED:20251016T192307Z
LAST-MODIFIED:20260420T193211Z
UID:10033976-1805716800-1805724000@www.sinaitemple.org
SUMMARY:Calligraphy with DeAnn Singh
DESCRIPTION:Learn different pen point styles\, how to address invitations\, and create a small book using the Japanese stab binding technique. Click here to read a profile on DeAnn from ShoutoutLA. \nClick here to read a profile on DeAnn from ShoutoutLA.
URL:https://www.sinaitemple.org/event/calligraphy-with-deann-singh/2027-03-22/
LOCATION:Sinai Temple
CATEGORIES:Sisterhood
ATTACH;FMTTYPE=image/png:https://www.sinaitemple.org/wp-content/uploads/2025/10/Sushi-night-Amir-10.png
END:VEVENT
BEGIN:VEVENT
DTSTART;TZID=America/Los_Angeles:20270324T093000
DTEND;TZID=America/Los_Angeles:20270324T103000
DTSTAMP:20260423T023746
CREATED:20250827T222718Z
LAST-MODIFIED:20260304T173057Z
UID:10024031-1805880600-1805884200@www.sinaitemple.org
SUMMARY:The Balance Class
DESCRIPTION:The 10/100 Program consists of six simple movements designed to grow your brain (neuroplasticity)\, improve your balance (proprioception) and strengthen your immune system. \nGroup Classes are FREE! Wednesdays from 9:30 -10:30 a.m. VIA ZOOM! \nClick HERE to join via Zoom during meeting time.
URL:https://www.sinaitemple.org/event/the-balance-class-2022-07-20-2/2027-03-24/
LOCATION:Sinai Temple
CATEGORIES:Events,Sisterhood
ATTACH;FMTTYPE=image/jpeg:https://www.sinaitemple.org/wp-content/uploads/2022/02/Untitled-design.jpg
END:VEVENT
BEGIN:VEVENT
DTSTART;TZID=America/Los_Angeles:20270324T103000
DTEND;TZID=America/Los_Angeles:20270324T120000
DTSTAMP:20260423T023746
CREATED:20251016T193001Z
LAST-MODIFIED:20251125T174414Z
UID:10033180-1805884200-1805889600@www.sinaitemple.org
SUMMARY:Art Workshop with Gail Rollman
DESCRIPTION:Wednesdays\, 10:30 AM–12:00 PM at Sinai | Weekly (Jewish holidays excepted) | $10 per class (materials included)Explore collage\, mixed media\, watercolor\, acrylic painting\, and crafts. Learn new techniques and have fun each week. Pay at the door. \nRSVP to Gail at garollman@yahoo.com.
URL:https://www.sinaitemple.org/event/art-workshop-with-gail-rollman-3/2027-03-24/
LOCATION:Sinai Temple
CATEGORIES:Sisterhood
ATTACH;FMTTYPE=image/jpeg:https://www.sinaitemple.org/wp-content/uploads/2025/10/Sushi-night-Amir-2.jpg
END:VEVENT
BEGIN:VEVENT
DTSTART;TZID=America/Los_Angeles:20270325T160000
DTEND;TZID=America/Los_Angeles:20270325T180000
DTSTAMP:20260423T023746
CREATED:20251016T192638Z
LAST-MODIFIED:20260420T232209Z
UID:10032920-1805990400-1805997600@www.sinaitemple.org
SUMMARY:Mah Jongg with Estelle Marco
DESCRIPTION:Thursdays\, 4:00–6:00 PM at Sinai | 8-week sessions | $100 per person \nFor beginners and intermediate players. Space is limited—first come\, first served. \nSession runs from April 16 to June 4. \nRSVP Here
URL:https://www.sinaitemple.org/event/mah-jongg-with-estelle-marco/2027-03-25/
LOCATION:Sinai Temple
CATEGORIES:Sisterhood
ATTACH;FMTTYPE=image/jpeg:https://www.sinaitemple.org/wp-content/uploads/2025/10/Sushi-night-Amir-1.jpg
END:VEVENT
BEGIN:VEVENT
DTSTART;TZID=America/Los_Angeles:20270329T120000
DTEND;TZID=America/Los_Angeles:20270329T140000
DTSTAMP:20260423T023746
CREATED:20251016T192307Z
LAST-MODIFIED:20260420T193211Z
UID:10033977-1806321600-1806328800@www.sinaitemple.org
SUMMARY:Calligraphy with DeAnn Singh
DESCRIPTION:Learn different pen point styles\, how to address invitations\, and create a small book using the Japanese stab binding technique. Click here to read a profile on DeAnn from ShoutoutLA. \nClick here to read a profile on DeAnn from ShoutoutLA.
URL:https://www.sinaitemple.org/event/calligraphy-with-deann-singh/2027-03-29/
LOCATION:Sinai Temple
CATEGORIES:Sisterhood
ATTACH;FMTTYPE=image/png:https://www.sinaitemple.org/wp-content/uploads/2025/10/Sushi-night-Amir-10.png
END:VEVENT
BEGIN:VEVENT
DTSTART;TZID=America/Los_Angeles:20270331T093000
DTEND;TZID=America/Los_Angeles:20270331T103000
DTSTAMP:20260423T023746
CREATED:20250827T222718Z
LAST-MODIFIED:20260304T173057Z
UID:10024032-1806485400-1806489000@www.sinaitemple.org
SUMMARY:The Balance Class
DESCRIPTION:The 10/100 Program consists of six simple movements designed to grow your brain (neuroplasticity)\, improve your balance (proprioception) and strengthen your immune system. \nGroup Classes are FREE! Wednesdays from 9:30 -10:30 a.m. VIA ZOOM! \nClick HERE to join via Zoom during meeting time.
URL:https://www.sinaitemple.org/event/the-balance-class-2022-07-20-2/2027-03-31/
LOCATION:Sinai Temple
CATEGORIES:Events,Sisterhood
ATTACH;FMTTYPE=image/jpeg:https://www.sinaitemple.org/wp-content/uploads/2022/02/Untitled-design.jpg
END:VEVENT
BEGIN:VEVENT
DTSTART;TZID=America/Los_Angeles:20270331T103000
DTEND;TZID=America/Los_Angeles:20270331T120000
DTSTAMP:20260423T023746
CREATED:20251016T193001Z
LAST-MODIFIED:20251125T174414Z
UID:10033181-1806489000-1806494400@www.sinaitemple.org
SUMMARY:Art Workshop with Gail Rollman
DESCRIPTION:Wednesdays\, 10:30 AM–12:00 PM at Sinai | Weekly (Jewish holidays excepted) | $10 per class (materials included)Explore collage\, mixed media\, watercolor\, acrylic painting\, and crafts. Learn new techniques and have fun each week. Pay at the door. \nRSVP to Gail at garollman@yahoo.com.
URL:https://www.sinaitemple.org/event/art-workshop-with-gail-rollman-3/2027-03-31/
LOCATION:Sinai Temple
CATEGORIES:Sisterhood
ATTACH;FMTTYPE=image/jpeg:https://www.sinaitemple.org/wp-content/uploads/2025/10/Sushi-night-Amir-2.jpg
END:VEVENT
BEGIN:VEVENT
DTSTART;TZID=America/Los_Angeles:20270401T160000
DTEND;TZID=America/Los_Angeles:20270401T180000
DTSTAMP:20260423T023746
CREATED:20251016T192638Z
LAST-MODIFIED:20260420T232209Z
UID:10032921-1806595200-1806602400@www.sinaitemple.org
SUMMARY:Mah Jongg with Estelle Marco
DESCRIPTION:Thursdays\, 4:00–6:00 PM at Sinai | 8-week sessions | $100 per person \nFor beginners and intermediate players. Space is limited—first come\, first served. \nSession runs from April 16 to June 4. \nRSVP Here
URL:https://www.sinaitemple.org/event/mah-jongg-with-estelle-marco/2027-04-01/
LOCATION:Sinai Temple
CATEGORIES:Sisterhood
ATTACH;FMTTYPE=image/jpeg:https://www.sinaitemple.org/wp-content/uploads/2025/10/Sushi-night-Amir-1.jpg
END:VEVENT
BEGIN:VEVENT
DTSTART;TZID=America/Los_Angeles:20270405T120000
DTEND;TZID=America/Los_Angeles:20270405T140000
DTSTAMP:20260423T023746
CREATED:20251016T192307Z
LAST-MODIFIED:20260420T193211Z
UID:10033978-1806926400-1806933600@www.sinaitemple.org
SUMMARY:Calligraphy with DeAnn Singh
DESCRIPTION:Learn different pen point styles\, how to address invitations\, and create a small book using the Japanese stab binding technique. Click here to read a profile on DeAnn from ShoutoutLA. \nClick here to read a profile on DeAnn from ShoutoutLA.
URL:https://www.sinaitemple.org/event/calligraphy-with-deann-singh/2027-04-05/
LOCATION:Sinai Temple
CATEGORIES:Sisterhood
ATTACH;FMTTYPE=image/png:https://www.sinaitemple.org/wp-content/uploads/2025/10/Sushi-night-Amir-10.png
END:VEVENT
BEGIN:VEVENT
DTSTART;TZID=America/Los_Angeles:20270407T093000
DTEND;TZID=America/Los_Angeles:20270407T103000
DTSTAMP:20260423T023746
CREATED:20250827T222718Z
LAST-MODIFIED:20260304T173057Z
UID:10024033-1807090200-1807093800@www.sinaitemple.org
SUMMARY:The Balance Class
DESCRIPTION:The 10/100 Program consists of six simple movements designed to grow your brain (neuroplasticity)\, improve your balance (proprioception) and strengthen your immune system. \nGroup Classes are FREE! Wednesdays from 9:30 -10:30 a.m. VIA ZOOM! \nClick HERE to join via Zoom during meeting time.
URL:https://www.sinaitemple.org/event/the-balance-class-2022-07-20-2/2027-04-07/
LOCATION:Sinai Temple
CATEGORIES:Events,Sisterhood
ATTACH;FMTTYPE=image/jpeg:https://www.sinaitemple.org/wp-content/uploads/2022/02/Untitled-design.jpg
END:VEVENT
BEGIN:VEVENT
DTSTART;TZID=America/Los_Angeles:20270407T103000
DTEND;TZID=America/Los_Angeles:20270407T120000
DTSTAMP:20260423T023746
CREATED:20251016T193001Z
LAST-MODIFIED:20251125T174414Z
UID:10033182-1807093800-1807099200@www.sinaitemple.org
SUMMARY:Art Workshop with Gail Rollman
DESCRIPTION:Wednesdays\, 10:30 AM–12:00 PM at Sinai | Weekly (Jewish holidays excepted) | $10 per class (materials included)Explore collage\, mixed media\, watercolor\, acrylic painting\, and crafts. Learn new techniques and have fun each week. Pay at the door. \nRSVP to Gail at garollman@yahoo.com.
URL:https://www.sinaitemple.org/event/art-workshop-with-gail-rollman-3/2027-04-07/
LOCATION:Sinai Temple
CATEGORIES:Sisterhood
ATTACH;FMTTYPE=image/jpeg:https://www.sinaitemple.org/wp-content/uploads/2025/10/Sushi-night-Amir-2.jpg
END:VEVENT
BEGIN:VEVENT
DTSTART;TZID=America/Los_Angeles:20270408T160000
DTEND;TZID=America/Los_Angeles:20270408T180000
DTSTAMP:20260423T023746
CREATED:20251016T192638Z
LAST-MODIFIED:20260420T232209Z
UID:10032922-1807200000-1807207200@www.sinaitemple.org
SUMMARY:Mah Jongg with Estelle Marco
DESCRIPTION:Thursdays\, 4:00–6:00 PM at Sinai | 8-week sessions | $100 per person \nFor beginners and intermediate players. Space is limited—first come\, first served. \nSession runs from April 16 to June 4. \nRSVP Here
URL:https://www.sinaitemple.org/event/mah-jongg-with-estelle-marco/2027-04-08/
LOCATION:Sinai Temple
CATEGORIES:Sisterhood
ATTACH;FMTTYPE=image/jpeg:https://www.sinaitemple.org/wp-content/uploads/2025/10/Sushi-night-Amir-1.jpg
END:VEVENT
BEGIN:VEVENT
DTSTART;TZID=America/Los_Angeles:20270412T120000
DTEND;TZID=America/Los_Angeles:20270412T140000
DTSTAMP:20260423T023746
CREATED:20251016T192307Z
LAST-MODIFIED:20260420T193211Z
UID:10033979-1807531200-1807538400@www.sinaitemple.org
SUMMARY:Calligraphy with DeAnn Singh
DESCRIPTION:Learn different pen point styles\, how to address invitations\, and create a small book using the Japanese stab binding technique. Click here to read a profile on DeAnn from ShoutoutLA. \nClick here to read a profile on DeAnn from ShoutoutLA.
URL:https://www.sinaitemple.org/event/calligraphy-with-deann-singh/2027-04-12/
LOCATION:Sinai Temple
CATEGORIES:Sisterhood
ATTACH;FMTTYPE=image/png:https://www.sinaitemple.org/wp-content/uploads/2025/10/Sushi-night-Amir-10.png
END:VEVENT
BEGIN:VEVENT
DTSTART;TZID=America/Los_Angeles:20270414T093000
DTEND;TZID=America/Los_Angeles:20270414T103000
DTSTAMP:20260423T023746
CREATED:20250827T222718Z
LAST-MODIFIED:20260304T173057Z
UID:10024034-1807695000-1807698600@www.sinaitemple.org
SUMMARY:The Balance Class
DESCRIPTION:The 10/100 Program consists of six simple movements designed to grow your brain (neuroplasticity)\, improve your balance (proprioception) and strengthen your immune system. \nGroup Classes are FREE! Wednesdays from 9:30 -10:30 a.m. VIA ZOOM! \nClick HERE to join via Zoom during meeting time.
URL:https://www.sinaitemple.org/event/the-balance-class-2022-07-20-2/2027-04-14/
LOCATION:Sinai Temple
CATEGORIES:Events,Sisterhood
ATTACH;FMTTYPE=image/jpeg:https://www.sinaitemple.org/wp-content/uploads/2022/02/Untitled-design.jpg
END:VEVENT
BEGIN:VEVENT
DTSTART;TZID=America/Los_Angeles:20270414T103000
DTEND;TZID=America/Los_Angeles:20270414T120000
DTSTAMP:20260423T023746
CREATED:20251016T193001Z
LAST-MODIFIED:20251125T174414Z
UID:10033183-1807698600-1807704000@www.sinaitemple.org
SUMMARY:Art Workshop with Gail Rollman
DESCRIPTION:Wednesdays\, 10:30 AM–12:00 PM at Sinai | Weekly (Jewish holidays excepted) | $10 per class (materials included)Explore collage\, mixed media\, watercolor\, acrylic painting\, and crafts. Learn new techniques and have fun each week. Pay at the door. \nRSVP to Gail at garollman@yahoo.com.
URL:https://www.sinaitemple.org/event/art-workshop-with-gail-rollman-3/2027-04-14/
LOCATION:Sinai Temple
CATEGORIES:Sisterhood
ATTACH;FMTTYPE=image/jpeg:https://www.sinaitemple.org/wp-content/uploads/2025/10/Sushi-night-Amir-2.jpg
END:VEVENT
BEGIN:VEVENT
DTSTART;TZID=America/Los_Angeles:20270415T160000
DTEND;TZID=America/Los_Angeles:20270415T180000
DTSTAMP:20260423T023746
CREATED:20251016T192638Z
LAST-MODIFIED:20260420T232209Z
UID:10032923-1807804800-1807812000@www.sinaitemple.org
SUMMARY:Mah Jongg with Estelle Marco
DESCRIPTION:Thursdays\, 4:00–6:00 PM at Sinai | 8-week sessions | $100 per person \nFor beginners and intermediate players. Space is limited—first come\, first served. \nSession runs from April 16 to June 4. \nRSVP Here
URL:https://www.sinaitemple.org/event/mah-jongg-with-estelle-marco/2027-04-15/
LOCATION:Sinai Temple
CATEGORIES:Sisterhood
ATTACH;FMTTYPE=image/jpeg:https://www.sinaitemple.org/wp-content/uploads/2025/10/Sushi-night-Amir-1.jpg
END:VEVENT
BEGIN:VEVENT
DTSTART;TZID=America/Los_Angeles:20270419T120000
DTEND;TZID=America/Los_Angeles:20270419T140000
DTSTAMP:20260423T023746
CREATED:20251016T192307Z
LAST-MODIFIED:20260420T193211Z
UID:10033980-1808136000-1808143200@www.sinaitemple.org
SUMMARY:Calligraphy with DeAnn Singh
DESCRIPTION:Learn different pen point styles\, how to address invitations\, and create a small book using the Japanese stab binding technique. Click here to read a profile on DeAnn from ShoutoutLA. \nClick here to read a profile on DeAnn from ShoutoutLA.
URL:https://www.sinaitemple.org/event/calligraphy-with-deann-singh/2027-04-19/
LOCATION:Sinai Temple
CATEGORIES:Sisterhood
ATTACH;FMTTYPE=image/png:https://www.sinaitemple.org/wp-content/uploads/2025/10/Sushi-night-Amir-10.png
END:VEVENT
BEGIN:VEVENT
DTSTART;TZID=America/Los_Angeles:20270421T093000
DTEND;TZID=America/Los_Angeles:20270421T103000
DTSTAMP:20260423T023746
CREATED:20250827T222718Z
LAST-MODIFIED:20260304T173057Z
UID:10024035-1808299800-1808303400@www.sinaitemple.org
SUMMARY:The Balance Class
DESCRIPTION:The 10/100 Program consists of six simple movements designed to grow your brain (neuroplasticity)\, improve your balance (proprioception) and strengthen your immune system. \nGroup Classes are FREE! Wednesdays from 9:30 -10:30 a.m. VIA ZOOM! \nClick HERE to join via Zoom during meeting time.
URL:https://www.sinaitemple.org/event/the-balance-class-2022-07-20-2/2027-04-21/
LOCATION:Sinai Temple
CATEGORIES:Events,Sisterhood
ATTACH;FMTTYPE=image/jpeg:https://www.sinaitemple.org/wp-content/uploads/2022/02/Untitled-design.jpg
END:VEVENT
BEGIN:VEVENT
DTSTART;TZID=America/Los_Angeles:20270421T103000
DTEND;TZID=America/Los_Angeles:20270421T120000
DTSTAMP:20260423T023746
CREATED:20251016T193001Z
LAST-MODIFIED:20251125T174414Z
UID:10033184-1808303400-1808308800@www.sinaitemple.org
SUMMARY:Art Workshop with Gail Rollman
DESCRIPTION:Wednesdays\, 10:30 AM–12:00 PM at Sinai | Weekly (Jewish holidays excepted) | $10 per class (materials included)Explore collage\, mixed media\, watercolor\, acrylic painting\, and crafts. Learn new techniques and have fun each week. Pay at the door. \nRSVP to Gail at garollman@yahoo.com.
URL:https://www.sinaitemple.org/event/art-workshop-with-gail-rollman-3/2027-04-21/
LOCATION:Sinai Temple
CATEGORIES:Sisterhood
ATTACH;FMTTYPE=image/jpeg:https://www.sinaitemple.org/wp-content/uploads/2025/10/Sushi-night-Amir-2.jpg
END:VEVENT
BEGIN:VEVENT
DTSTART;TZID=America/Los_Angeles:20270422T160000
DTEND;TZID=America/Los_Angeles:20270422T180000
DTSTAMP:20260423T023746
CREATED:20251016T192638Z
LAST-MODIFIED:20260420T232209Z
UID:10032924-1808409600-1808416800@www.sinaitemple.org
SUMMARY:Mah Jongg with Estelle Marco
DESCRIPTION:Thursdays\, 4:00–6:00 PM at Sinai | 8-week sessions | $100 per person \nFor beginners and intermediate players. Space is limited—first come\, first served. \nSession runs from April 16 to June 4. \nRSVP Here
URL:https://www.sinaitemple.org/event/mah-jongg-with-estelle-marco/2027-04-22/
LOCATION:Sinai Temple
CATEGORIES:Sisterhood
ATTACH;FMTTYPE=image/jpeg:https://www.sinaitemple.org/wp-content/uploads/2025/10/Sushi-night-Amir-1.jpg
END:VEVENT
BEGIN:VEVENT
DTSTART;TZID=America/Los_Angeles:20270426T120000
DTEND;TZID=America/Los_Angeles:20270426T140000
DTSTAMP:20260423T023746
CREATED:20251016T192307Z
LAST-MODIFIED:20260420T193211Z
UID:10033981-1808740800-1808748000@www.sinaitemple.org
SUMMARY:Calligraphy with DeAnn Singh
DESCRIPTION:Learn different pen point styles\, how to address invitations\, and create a small book using the Japanese stab binding technique. Click here to read a profile on DeAnn from ShoutoutLA. \nClick here to read a profile on DeAnn from ShoutoutLA.
URL:https://www.sinaitemple.org/event/calligraphy-with-deann-singh/2027-04-26/
LOCATION:Sinai Temple
CATEGORIES:Sisterhood
ATTACH;FMTTYPE=image/png:https://www.sinaitemple.org/wp-content/uploads/2025/10/Sushi-night-Amir-10.png
END:VEVENT
END:VCALENDAR