BEGIN:VCALENDAR
VERSION:2.0
PRODID:-//Sinai Temple - ECPv6.15.18//NONSGML v1.0//EN
CALSCALE:GREGORIAN
METHOD:PUBLISH
X-ORIGINAL-URL:https://www.sinaitemple.org
X-WR-CALDESC:Events for Sinai Temple
REFRESH-INTERVAL;VALUE=DURATION:PT1H
X-Robots-Tag:noindex
X-PUBLISHED-TTL:PT1H
BEGIN:VTIMEZONE
TZID:America/Los_Angeles
BEGIN:DAYLIGHT
TZOFFSETFROM:-0800
TZOFFSETTO:-0700
TZNAME:PDT
DTSTART:20270314T100000
END:DAYLIGHT
BEGIN:STANDARD
TZOFFSETFROM:-0700
TZOFFSETTO:-0800
TZNAME:PST
DTSTART:20271107T090000
END:STANDARD
BEGIN:DAYLIGHT
TZOFFSETFROM:-0800
TZOFFSETTO:-0700
TZNAME:PDT
DTSTART:20280312T100000
END:DAYLIGHT
BEGIN:STANDARD
TZOFFSETFROM:-0700
TZOFFSETTO:-0800
TZNAME:PST
DTSTART:20281105T090000
END:STANDARD
BEGIN:DAYLIGHT
TZOFFSETFROM:-0800
TZOFFSETTO:-0700
TZNAME:PDT
DTSTART:20290311T100000
END:DAYLIGHT
BEGIN:STANDARD
TZOFFSETFROM:-0700
TZOFFSETTO:-0800
TZNAME:PST
DTSTART:20291104T090000
END:STANDARD
END:VTIMEZONE
BEGIN:VEVENT
DTSTART;TZID=America/Los_Angeles:20280204T174500
DTEND;TZID=America/Los_Angeles:20280204T181500
DTSTAMP:20260420T021610
CREATED:20251117T184919Z
LAST-MODIFIED:20251117T184919Z
UID:10030915-1833299100-1833300900@www.sinaitemple.org
SUMMARY:Daily Minyan
DESCRIPTION:In person in Kohn chapel and online on our YouTube channel.
URL:https://www.sinaitemple.org/event/daily-minyan-25-2/2028-02-04/
LOCATION:Kohn Chapel
CATEGORIES:Worship Services
END:VEVENT
BEGIN:VEVENT
DTSTART;TZID=America/Los_Angeles:20280204T174500
DTEND;TZID=America/Los_Angeles:20280204T184500
DTSTAMP:20260420T021610
CREATED:20210108T195503Z
LAST-MODIFIED:20250807T175953Z
UID:10030203-1833299100-1833302700@www.sinaitemple.org
SUMMARY:Kabbalat Shabbat Service
DESCRIPTION:Join us in person in Kohn Chapel or watch on our YouTube channel.
URL:https://www.sinaitemple.org/event/virtual-kabbalat-shabbat-service-2-2021-09-17/2028-02-04/
LOCATION:Sinai Temple
END:VEVENT
BEGIN:VEVENT
DTSTART;TZID=America/Los_Angeles:20280205T090000
DTEND;TZID=America/Los_Angeles:20280205T100000
DTSTAMP:20260420T021610
CREATED:20170406T190706Z
LAST-MODIFIED:20250814T203647Z
UID:10031076-1833354000-1833357600@www.sinaitemple.org
SUMMARY:Torah at the Table
DESCRIPTION:Torah at the Table is facilitated by lay leaders and runs every Saturday morning from 9:00-10:30 a.m. Held in Upper Traub or online. \nClick HERE to join via Zoom!
URL:https://www.sinaitemple.org/event/torah-at-the-table-2022-06-11/2028-02-05/
ATTACH;FMTTYPE=image/jpeg:https://www.sinaitemple.org/wp-content/uploads/2017/04/TorahattheTable@2x.jpg
END:VEVENT
BEGIN:VEVENT
DTSTART;TZID=America/Los_Angeles:20280205T090000
DTEND;TZID=America/Los_Angeles:20280205T110000
DTSTAMP:20260420T021610
CREATED:20201223T211515Z
LAST-MODIFIED:20250807T180357Z
UID:10026998-1833354000-1833361200@www.sinaitemple.org
SUMMARY:Shabbat Morning Service
DESCRIPTION:
URL:https://www.sinaitemple.org/event/shabbat-morning-service/2028-02-05/
LOCATION:Sinai Temple
CATEGORIES:Worship Services
END:VEVENT
BEGIN:VEVENT
DTSTART;TZID=America/Los_Angeles:20280205T210000
DTEND;TZID=America/Los_Angeles:20280205T213000
DTSTAMP:20260420T021610
CREATED:20220705T154054Z
LAST-MODIFIED:20250814T203557Z
UID:10031398-1833397200-1833399000@www.sinaitemple.org
SUMMARY:Daily Minyan
DESCRIPTION:Online ONLY. Click HERE to watch.
URL:https://www.sinaitemple.org/event/daily-minyan-11-2022-07-16/2028-02-05/
CATEGORIES:Worship Services
END:VEVENT
BEGIN:VEVENT
DTSTART;TZID=America/Los_Angeles:20280206T083000
DTEND;TZID=America/Los_Angeles:20280206T090000
DTSTAMP:20260420T021610
CREATED:20210813T180515Z
LAST-MODIFIED:20250814T203516Z
UID:10027159-1833438600-1833440400@www.sinaitemple.org
SUMMARY:Daily Minyan
DESCRIPTION:In person in Kohn chapel and online on our YouTube channel.
URL:https://www.sinaitemple.org/event/virtually-daily-minyan-2021-08-22/2028-02-06/
LOCATION:Kohn Chapel
CATEGORIES:Worship Services
END:VEVENT
BEGIN:VEVENT
DTSTART;TZID=America/Los_Angeles:20280206T174500
DTEND;TZID=America/Los_Angeles:20280206T184500
DTSTAMP:20260420T021610
CREATED:20260213T174655Z
LAST-MODIFIED:20260410T182919Z
UID:10033679-1833471900-1833475500@www.sinaitemple.org
SUMMARY:Evening Minyan
DESCRIPTION:In person in Kohn chapel and online on our YouTube channel.
URL:https://www.sinaitemple.org/event/evening-minyan/2028-02-06/
LOCATION:Kohn Chapel
CATEGORIES:Worship Services
END:VEVENT
BEGIN:VEVENT
DTSTART;TZID=America/Los_Angeles:20280207T073000
DTEND;TZID=America/Los_Angeles:20280207T080000
DTSTAMP:20260420T021610
CREATED:20201223T212659Z
LAST-MODIFIED:20250814T203521Z
UID:10026037-1833521400-1833523200@www.sinaitemple.org
SUMMARY:Daily Minyan
DESCRIPTION:In person in Kohn chapel and online on our YouTube channel.
URL:https://www.sinaitemple.org/event/virtual-daily-minyan-6-2022-11-07/2028-02-07/
LOCATION:Kohn Chapel
CATEGORIES:Worship Services
END:VEVENT
BEGIN:VEVENT
DTSTART;TZID=America/Los_Angeles:20280207T100000
DTEND;TZID=America/Los_Angeles:20280207T120000
DTSTAMP:20260420T021610
CREATED:20251016T192307Z
LAST-MODIFIED:20251016T192307Z
UID:10032704-1833530400-1833537600@www.sinaitemple.org
SUMMARY:Calligraphy with DeAnn Singh
DESCRIPTION:Learn different pen point styles\, how to address invitations\, and create a small book using the Japanese stab binding technique. Click here to read a profile on DeAnn from ShoutoutLA. \nClick here to read a profile on DeAnn from ShoutoutLA.
URL:https://www.sinaitemple.org/event/calligraphy-with-deann-singh/2028-02-07/
LOCATION:Sinai Temple
CATEGORIES:Sisterhood
ATTACH;FMTTYPE=image/png:https://www.sinaitemple.org/wp-content/uploads/2025/10/Sushi-night-Amir-10.png
END:VEVENT
BEGIN:VEVENT
DTSTART;TZID=America/Los_Angeles:20280207T174500
DTEND;TZID=America/Los_Angeles:20280207T181500
DTSTAMP:20260420T021610
CREATED:20251117T185130Z
LAST-MODIFIED:20251117T185131Z
UID:10026838-1833558300-1833560100@www.sinaitemple.org
SUMMARY:Daily Minyan
DESCRIPTION:In person in Kohn chapel and online on our YouTube channel.
URL:https://www.sinaitemple.org/event/virtual-daily-minyan-7-2/2028-02-07/
LOCATION:Kohn Chapel
CATEGORIES:Worship Services
END:VEVENT
BEGIN:VEVENT
DTSTART;TZID=America/Los_Angeles:20280208T073000
DTEND;TZID=America/Los_Angeles:20280208T080000
DTSTAMP:20260420T021610
CREATED:20221219T190023Z
LAST-MODIFIED:20250814T203532Z
UID:10026678-1833607800-1833609600@www.sinaitemple.org
SUMMARY:Daily Minyan
DESCRIPTION:In person in Kohn chapel and online on our YouTube channel.
URL:https://www.sinaitemple.org/event/daily-minyan-16/2028-02-08/
LOCATION:Kohn Chapel
CATEGORIES:Worship Services
END:VEVENT
BEGIN:VEVENT
DTSTART;TZID=America/Los_Angeles:20280208T174500
DTEND;TZID=America/Los_Angeles:20280208T181500
DTSTAMP:20260420T021610
CREATED:20220801T162701Z
LAST-MODIFIED:20250814T203535Z
UID:10028287-1833644700-1833646500@www.sinaitemple.org
SUMMARY:Daily Minyan
DESCRIPTION:In person in Kohn chapel and online on our YouTube channel.
URL:https://www.sinaitemple.org/event/daily-minyan-15/2028-02-08/
LOCATION:Kohn Chapel
CATEGORIES:Worship Services
END:VEVENT
BEGIN:VEVENT
DTSTART;TZID=America/Los_Angeles:20280209T073000
DTEND;TZID=America/Los_Angeles:20280209T080000
DTSTAMP:20260420T021610
CREATED:20250807T174950Z
LAST-MODIFIED:20250814T203539Z
UID:10028843-1833694200-1833696000@www.sinaitemple.org
SUMMARY:Daily Minyan
DESCRIPTION:In person in Kohn chapel and online on our YouTube channel.
URL:https://www.sinaitemple.org/event/daily-minyan-23/2028-02-09/
LOCATION:Kohn Chapel
CATEGORIES:Worship Services
END:VEVENT
BEGIN:VEVENT
DTSTART;TZID=America/Los_Angeles:20280209T093000
DTEND;TZID=America/Los_Angeles:20280209T103000
DTSTAMP:20260420T021610
CREATED:20250827T222718Z
LAST-MODIFIED:20260304T173057Z
UID:10029559-1833701400-1833705000@www.sinaitemple.org
SUMMARY:The Balance Class
DESCRIPTION:The 10/100 Program consists of six simple movements designed to grow your brain (neuroplasticity)\, improve your balance (proprioception) and strengthen your immune system. \nGroup Classes are FREE! Wednesdays from 9:30 -10:30 a.m. VIA ZOOM! \nClick HERE to join via Zoom during meeting time.
URL:https://www.sinaitemple.org/event/the-balance-class-2022-07-20-2/2028-02-09/
LOCATION:Sinai Temple
CATEGORIES:Events,Sisterhood
ATTACH;FMTTYPE=image/jpeg:https://www.sinaitemple.org/wp-content/uploads/2022/02/Untitled-design.jpg
END:VEVENT
BEGIN:VEVENT
DTSTART;TZID=America/Los_Angeles:20280209T103000
DTEND;TZID=America/Los_Angeles:20280209T120000
DTSTAMP:20260420T021610
CREATED:20251016T193001Z
LAST-MODIFIED:20251125T174414Z
UID:10033226-1833705000-1833710400@www.sinaitemple.org
SUMMARY:Art Workshop with Gail Rollman
DESCRIPTION:Wednesdays\, 10:30 AM–12:00 PM at Sinai | Weekly (Jewish holidays excepted) | $10 per class (materials included)Explore collage\, mixed media\, watercolor\, acrylic painting\, and crafts. Learn new techniques and have fun each week. Pay at the door. \nRSVP to Gail at garollman@yahoo.com.
URL:https://www.sinaitemple.org/event/art-workshop-with-gail-rollman-3/2028-02-09/
LOCATION:Sinai Temple
CATEGORIES:Sisterhood
ATTACH;FMTTYPE=image/jpeg:https://www.sinaitemple.org/wp-content/uploads/2025/10/Sushi-night-Amir-2.jpg
END:VEVENT
BEGIN:VEVENT
DTSTART;TZID=America/Los_Angeles:20280209T174500
DTEND;TZID=America/Los_Angeles:20280209T181500
DTSTAMP:20260420T021610
CREATED:20201223T214532Z
LAST-MODIFIED:20250814T203608Z
UID:10026358-1833731100-1833732900@www.sinaitemple.org
SUMMARY:Daily Minyan
DESCRIPTION:In person in Kohn chapel and online on our YouTube channel.
URL:https://www.sinaitemple.org/event/virtual-daily-minyan-12/2028-02-09/
LOCATION:Kohn Chapel
CATEGORIES:Worship Services
END:VEVENT
BEGIN:VEVENT
DTSTART;TZID=America/Los_Angeles:20280210T073000
DTEND;TZID=America/Los_Angeles:20280210T080000
DTSTAMP:20260420T021610
CREATED:20210917T195757Z
LAST-MODIFIED:20250814T203543Z
UID:10026198-1833780600-1833782400@www.sinaitemple.org
SUMMARY:Daily Minyan
DESCRIPTION:In person in Kohn chapel and online on our YouTube channel.
URL:https://www.sinaitemple.org/event/virtual-daily-minyan-20/2028-02-10/
LOCATION:Kohn Chapel
CATEGORIES:Worship Services
END:VEVENT
BEGIN:VEVENT
DTSTART;TZID=America/Los_Angeles:20280210T083000
DTEND;TZID=America/Los_Angeles:20280210T093000
DTSTAMP:20260420T021610
CREATED:20250902T175749Z
LAST-MODIFIED:20250902T175907Z
UID:10032372-1833784200-1833787800@www.sinaitemple.org
SUMMARY:Weekly Parsha Class
DESCRIPTION:Every Thursday at 8:30am (outside of holidays) \n\n\n\nJoin us as Sinai Temple’s rotating clergy lead an in-depth exploration of the weekly Parsha. \n\n\nClass is offered exclusively online. \n\n\nRegister to receive the broadcast link. \nRegister Here 
URL:https://www.sinaitemple.org/event/weekly-parsha-class/2028-02-10/
LOCATION:Zoom\, 10400 Wilshire Blvd\, Los Angeles\, CA\, 90024\, United States
CATEGORIES:Events
ATTACH;FMTTYPE=image/png:https://www.sinaitemple.org/wp-content/uploads/2025/09/Weekly-Parsha-Class-Flyer-.png
END:VEVENT
BEGIN:VEVENT
DTSTART;TZID=America/Los_Angeles:20280210T160000
DTEND;TZID=America/Los_Angeles:20280210T180000
DTSTAMP:20260420T021610
CREATED:20251016T192638Z
LAST-MODIFIED:20260113T230605Z
UID:10032966-1833811200-1833818400@www.sinaitemple.org
SUMMARY:Mah Jongg with Estelle Marco
DESCRIPTION:Thursdays\, 4:00–6:00 PM at Sinai | 8-week sessions | $100 per person \nFor beginners and intermediate players. Space is limited—first come\, first served. \nSession runs from September 11 to November 6. \nRSVP Here
URL:https://www.sinaitemple.org/event/mah-jongg-with-estelle-marco/2028-02-10/
LOCATION:Sinai Temple
CATEGORIES:Sisterhood
ATTACH;FMTTYPE=image/jpeg:https://www.sinaitemple.org/wp-content/uploads/2025/10/Sushi-night-Amir-1.jpg
END:VEVENT
BEGIN:VEVENT
DTSTART;TZID=America/Los_Angeles:20280210T174500
DTEND;TZID=America/Los_Angeles:20280210T181500
DTSTAMP:20260420T021610
CREATED:20250807T175230Z
LAST-MODIFIED:20250814T203547Z
UID:10029399-1833817500-1833819300@www.sinaitemple.org
SUMMARY:Daily Minyan
DESCRIPTION:In person in Kohn chapel and online on our YouTube channel.
URL:https://www.sinaitemple.org/event/daily-minyan-24/2028-02-10/
LOCATION:Kohn Chapel
CATEGORIES:Worship Services
END:VEVENT
BEGIN:VEVENT
DTSTART;TZID=America/Los_Angeles:20280211T073000
DTEND;TZID=America/Los_Angeles:20280211T080000
DTSTAMP:20260420T021610
CREATED:20201231T182859Z
LAST-MODIFIED:20250814T203550Z
UID:10029882-1833867000-1833868800@www.sinaitemple.org
SUMMARY:Daily Minyan
DESCRIPTION:In person in Kohn chapel and online on our YouTube channel.
URL:https://www.sinaitemple.org/event/virtual-daily-minyan-15/2028-02-11/
LOCATION:Kohn Chapel
CATEGORIES:Worship Services
END:VEVENT
BEGIN:VEVENT
DTSTART;TZID=America/Los_Angeles:20280211T174500
DTEND;TZID=America/Los_Angeles:20280211T181500
DTSTAMP:20260420T021610
CREATED:20251117T184919Z
LAST-MODIFIED:20251117T184919Z
UID:10030916-1833903900-1833905700@www.sinaitemple.org
SUMMARY:Daily Minyan
DESCRIPTION:In person in Kohn chapel and online on our YouTube channel.
URL:https://www.sinaitemple.org/event/daily-minyan-25-2/2028-02-11/
LOCATION:Kohn Chapel
CATEGORIES:Worship Services
END:VEVENT
BEGIN:VEVENT
DTSTART;TZID=America/Los_Angeles:20280211T174500
DTEND;TZID=America/Los_Angeles:20280211T184500
DTSTAMP:20260420T021610
CREATED:20210108T195503Z
LAST-MODIFIED:20250807T175953Z
UID:10030204-1833903900-1833907500@www.sinaitemple.org
SUMMARY:Kabbalat Shabbat Service
DESCRIPTION:Join us in person in Kohn Chapel or watch on our YouTube channel.
URL:https://www.sinaitemple.org/event/virtual-kabbalat-shabbat-service-2-2021-09-17/2028-02-11/
LOCATION:Sinai Temple
END:VEVENT
BEGIN:VEVENT
DTSTART;TZID=America/Los_Angeles:20280212T090000
DTEND;TZID=America/Los_Angeles:20280212T100000
DTSTAMP:20260420T021610
CREATED:20170406T190706Z
LAST-MODIFIED:20250814T203647Z
UID:10031077-1833958800-1833962400@www.sinaitemple.org
SUMMARY:Torah at the Table
DESCRIPTION:Torah at the Table is facilitated by lay leaders and runs every Saturday morning from 9:00-10:30 a.m. Held in Upper Traub or online. \nClick HERE to join via Zoom!
URL:https://www.sinaitemple.org/event/torah-at-the-table-2022-06-11/2028-02-12/
ATTACH;FMTTYPE=image/jpeg:https://www.sinaitemple.org/wp-content/uploads/2017/04/TorahattheTable@2x.jpg
END:VEVENT
BEGIN:VEVENT
DTSTART;TZID=America/Los_Angeles:20280212T090000
DTEND;TZID=America/Los_Angeles:20280212T110000
DTSTAMP:20260420T021610
CREATED:20201223T211515Z
LAST-MODIFIED:20250807T180357Z
UID:10026999-1833958800-1833966000@www.sinaitemple.org
SUMMARY:Shabbat Morning Service
DESCRIPTION:
URL:https://www.sinaitemple.org/event/shabbat-morning-service/2028-02-12/
LOCATION:Sinai Temple
CATEGORIES:Worship Services
END:VEVENT
BEGIN:VEVENT
DTSTART;TZID=America/Los_Angeles:20280212T210000
DTEND;TZID=America/Los_Angeles:20280212T213000
DTSTAMP:20260420T021610
CREATED:20220705T154054Z
LAST-MODIFIED:20250814T203557Z
UID:10031399-1834002000-1834003800@www.sinaitemple.org
SUMMARY:Daily Minyan
DESCRIPTION:Online ONLY. Click HERE to watch.
URL:https://www.sinaitemple.org/event/daily-minyan-11-2022-07-16/2028-02-12/
CATEGORIES:Worship Services
END:VEVENT
BEGIN:VEVENT
DTSTART;TZID=America/Los_Angeles:20280213T083000
DTEND;TZID=America/Los_Angeles:20280213T090000
DTSTAMP:20260420T021610
CREATED:20210813T180515Z
LAST-MODIFIED:20250814T203516Z
UID:10027160-1834043400-1834045200@www.sinaitemple.org
SUMMARY:Daily Minyan
DESCRIPTION:In person in Kohn chapel and online on our YouTube channel.
URL:https://www.sinaitemple.org/event/virtually-daily-minyan-2021-08-22/2028-02-13/
LOCATION:Kohn Chapel
CATEGORIES:Worship Services
END:VEVENT
BEGIN:VEVENT
DTSTART;TZID=America/Los_Angeles:20280213T174500
DTEND;TZID=America/Los_Angeles:20280213T184500
DTSTAMP:20260420T021610
CREATED:20260213T174655Z
LAST-MODIFIED:20260410T182919Z
UID:10033680-1834076700-1834080300@www.sinaitemple.org
SUMMARY:Evening Minyan
DESCRIPTION:In person in Kohn chapel and online on our YouTube channel.
URL:https://www.sinaitemple.org/event/evening-minyan/2028-02-13/
LOCATION:Kohn Chapel
CATEGORIES:Worship Services
END:VEVENT
BEGIN:VEVENT
DTSTART;TZID=America/Los_Angeles:20280214T073000
DTEND;TZID=America/Los_Angeles:20280214T080000
DTSTAMP:20260420T021610
CREATED:20201223T212659Z
LAST-MODIFIED:20250814T203521Z
UID:10026038-1834126200-1834128000@www.sinaitemple.org
SUMMARY:Daily Minyan
DESCRIPTION:In person in Kohn chapel and online on our YouTube channel.
URL:https://www.sinaitemple.org/event/virtual-daily-minyan-6-2022-11-07/2028-02-14/
LOCATION:Kohn Chapel
CATEGORIES:Worship Services
END:VEVENT
BEGIN:VEVENT
DTSTART;TZID=America/Los_Angeles:20280214T100000
DTEND;TZID=America/Los_Angeles:20280214T120000
DTSTAMP:20260420T021610
CREATED:20251016T192307Z
LAST-MODIFIED:20251016T192307Z
UID:10032705-1834135200-1834142400@www.sinaitemple.org
SUMMARY:Calligraphy with DeAnn Singh
DESCRIPTION:Learn different pen point styles\, how to address invitations\, and create a small book using the Japanese stab binding technique. Click here to read a profile on DeAnn from ShoutoutLA. \nClick here to read a profile on DeAnn from ShoutoutLA.
URL:https://www.sinaitemple.org/event/calligraphy-with-deann-singh/2028-02-14/
LOCATION:Sinai Temple
CATEGORIES:Sisterhood
ATTACH;FMTTYPE=image/png:https://www.sinaitemple.org/wp-content/uploads/2025/10/Sushi-night-Amir-10.png
END:VEVENT
END:VCALENDAR