BEGIN:VCALENDAR
VERSION:2.0
PRODID:-//Sinai Temple - ECPv6.15.18//NONSGML v1.0//EN
CALSCALE:GREGORIAN
METHOD:PUBLISH
X-WR-CALNAME:Sinai Temple
X-ORIGINAL-URL:https://www.sinaitemple.org
X-WR-CALDESC:Events for Sinai Temple
REFRESH-INTERVAL;VALUE=DURATION:PT1H
X-Robots-Tag:noindex
X-PUBLISHED-TTL:PT1H
BEGIN:VTIMEZONE
TZID:America/Los_Angeles
BEGIN:DAYLIGHT
TZOFFSETFROM:-0800
TZOFFSETTO:-0700
TZNAME:PDT
DTSTART:20260308T100000
END:DAYLIGHT
BEGIN:STANDARD
TZOFFSETFROM:-0700
TZOFFSETTO:-0800
TZNAME:PST
DTSTART:20261101T090000
END:STANDARD
BEGIN:DAYLIGHT
TZOFFSETFROM:-0800
TZOFFSETTO:-0700
TZNAME:PDT
DTSTART:20270314T100000
END:DAYLIGHT
BEGIN:STANDARD
TZOFFSETFROM:-0700
TZOFFSETTO:-0800
TZNAME:PST
DTSTART:20271107T090000
END:STANDARD
BEGIN:DAYLIGHT
TZOFFSETFROM:-0800
TZOFFSETTO:-0700
TZNAME:PDT
DTSTART:20280312T100000
END:DAYLIGHT
BEGIN:STANDARD
TZOFFSETFROM:-0700
TZOFFSETTO:-0800
TZNAME:PST
DTSTART:20281105T090000
END:STANDARD
END:VTIMEZONE
BEGIN:VEVENT
DTSTART;TZID=America/Los_Angeles:20271004T120000
DTEND;TZID=America/Los_Angeles:20271004T140000
DTSTAMP:20260424T005446
CREATED:20251016T192307Z
LAST-MODIFIED:20260420T193211Z
UID:10034004-1822651200-1822658400@www.sinaitemple.org
SUMMARY:Calligraphy with DeAnn Singh
DESCRIPTION:Learn different pen point styles\, how to address invitations\, and create a small book using the Japanese stab binding technique. Click here to read a profile on DeAnn from ShoutoutLA. \nClick here to read a profile on DeAnn from ShoutoutLA.
URL:https://www.sinaitemple.org/event/calligraphy-with-deann-singh/2027-10-04/
LOCATION:Sinai Temple
CATEGORIES:Sisterhood
ATTACH;FMTTYPE=image/png:https://www.sinaitemple.org/wp-content/uploads/2025/10/Sushi-night-Amir-10.png
END:VEVENT
BEGIN:VEVENT
DTSTART;TZID=America/Los_Angeles:20271006T093000
DTEND;TZID=America/Los_Angeles:20271006T103000
DTSTAMP:20260424T005446
CREATED:20250827T222718Z
LAST-MODIFIED:20260304T173057Z
UID:10029541-1822815000-1822818600@www.sinaitemple.org
SUMMARY:The Balance Class
DESCRIPTION:The 10/100 Program consists of six simple movements designed to grow your brain (neuroplasticity)\, improve your balance (proprioception) and strengthen your immune system. \nGroup Classes are FREE! Wednesdays from 9:30 -10:30 a.m. VIA ZOOM! \nClick HERE to join via Zoom during meeting time.
URL:https://www.sinaitemple.org/event/the-balance-class-2022-07-20-2/2027-10-06/
LOCATION:Sinai Temple
CATEGORIES:Events,Sisterhood
ATTACH;FMTTYPE=image/jpeg:https://www.sinaitemple.org/wp-content/uploads/2022/02/Untitled-design.jpg
END:VEVENT
BEGIN:VEVENT
DTSTART;TZID=America/Los_Angeles:20271006T103000
DTEND;TZID=America/Los_Angeles:20271006T120000
DTSTAMP:20260424T005446
CREATED:20251016T193001Z
LAST-MODIFIED:20251125T174414Z
UID:10033208-1822818600-1822824000@www.sinaitemple.org
SUMMARY:Art Workshop with Gail Rollman
DESCRIPTION:Wednesdays\, 10:30 AM–12:00 PM at Sinai | Weekly (Jewish holidays excepted) | $10 per class (materials included)Explore collage\, mixed media\, watercolor\, acrylic painting\, and crafts. Learn new techniques and have fun each week. Pay at the door. \nRSVP to Gail at garollman@yahoo.com.
URL:https://www.sinaitemple.org/event/art-workshop-with-gail-rollman-3/2027-10-06/
LOCATION:Sinai Temple
CATEGORIES:Sisterhood
ATTACH;FMTTYPE=image/jpeg:https://www.sinaitemple.org/wp-content/uploads/2025/10/Sushi-night-Amir-2.jpg
END:VEVENT
BEGIN:VEVENT
DTSTART;TZID=America/Los_Angeles:20271007T160000
DTEND;TZID=America/Los_Angeles:20271007T180000
DTSTAMP:20260424T005446
CREATED:20251016T192638Z
LAST-MODIFIED:20260420T232209Z
UID:10032948-1822924800-1822932000@www.sinaitemple.org
SUMMARY:Mah Jongg with Estelle Marco
DESCRIPTION:Thursdays\, 4:00–6:00 PM at Sinai | 8-week sessions | $100 per person \nFor beginners and intermediate players. Space is limited—first come\, first served. \nSession runs from April 16 to June 4. \nRSVP Here
URL:https://www.sinaitemple.org/event/mah-jongg-with-estelle-marco/2027-10-07/
LOCATION:Sinai Temple
CATEGORIES:Sisterhood
ATTACH;FMTTYPE=image/jpeg:https://www.sinaitemple.org/wp-content/uploads/2025/10/Sushi-night-Amir-1.jpg
END:VEVENT
BEGIN:VEVENT
DTSTART;TZID=America/Los_Angeles:20271011T120000
DTEND;TZID=America/Los_Angeles:20271011T140000
DTSTAMP:20260424T005446
CREATED:20251016T192307Z
LAST-MODIFIED:20260420T193211Z
UID:10034005-1823256000-1823263200@www.sinaitemple.org
SUMMARY:Calligraphy with DeAnn Singh
DESCRIPTION:Learn different pen point styles\, how to address invitations\, and create a small book using the Japanese stab binding technique. Click here to read a profile on DeAnn from ShoutoutLA. \nClick here to read a profile on DeAnn from ShoutoutLA.
URL:https://www.sinaitemple.org/event/calligraphy-with-deann-singh/2027-10-11/
LOCATION:Sinai Temple
CATEGORIES:Sisterhood
ATTACH;FMTTYPE=image/png:https://www.sinaitemple.org/wp-content/uploads/2025/10/Sushi-night-Amir-10.png
END:VEVENT
BEGIN:VEVENT
DTSTART;TZID=America/Los_Angeles:20271013T093000
DTEND;TZID=America/Los_Angeles:20271013T103000
DTSTAMP:20260424T005446
CREATED:20250827T222718Z
LAST-MODIFIED:20260304T173057Z
UID:10029542-1823419800-1823423400@www.sinaitemple.org
SUMMARY:The Balance Class
DESCRIPTION:The 10/100 Program consists of six simple movements designed to grow your brain (neuroplasticity)\, improve your balance (proprioception) and strengthen your immune system. \nGroup Classes are FREE! Wednesdays from 9:30 -10:30 a.m. VIA ZOOM! \nClick HERE to join via Zoom during meeting time.
URL:https://www.sinaitemple.org/event/the-balance-class-2022-07-20-2/2027-10-13/
LOCATION:Sinai Temple
CATEGORIES:Events,Sisterhood
ATTACH;FMTTYPE=image/jpeg:https://www.sinaitemple.org/wp-content/uploads/2022/02/Untitled-design.jpg
END:VEVENT
BEGIN:VEVENT
DTSTART;TZID=America/Los_Angeles:20271013T103000
DTEND;TZID=America/Los_Angeles:20271013T120000
DTSTAMP:20260424T005446
CREATED:20251016T193001Z
LAST-MODIFIED:20251125T174414Z
UID:10033209-1823423400-1823428800@www.sinaitemple.org
SUMMARY:Art Workshop with Gail Rollman
DESCRIPTION:Wednesdays\, 10:30 AM–12:00 PM at Sinai | Weekly (Jewish holidays excepted) | $10 per class (materials included)Explore collage\, mixed media\, watercolor\, acrylic painting\, and crafts. Learn new techniques and have fun each week. Pay at the door. \nRSVP to Gail at garollman@yahoo.com.
URL:https://www.sinaitemple.org/event/art-workshop-with-gail-rollman-3/2027-10-13/
LOCATION:Sinai Temple
CATEGORIES:Sisterhood
ATTACH;FMTTYPE=image/jpeg:https://www.sinaitemple.org/wp-content/uploads/2025/10/Sushi-night-Amir-2.jpg
END:VEVENT
BEGIN:VEVENT
DTSTART;TZID=America/Los_Angeles:20271014T160000
DTEND;TZID=America/Los_Angeles:20271014T180000
DTSTAMP:20260424T005446
CREATED:20251016T192638Z
LAST-MODIFIED:20260420T232209Z
UID:10032949-1823529600-1823536800@www.sinaitemple.org
SUMMARY:Mah Jongg with Estelle Marco
DESCRIPTION:Thursdays\, 4:00–6:00 PM at Sinai | 8-week sessions | $100 per person \nFor beginners and intermediate players. Space is limited—first come\, first served. \nSession runs from April 16 to June 4. \nRSVP Here
URL:https://www.sinaitemple.org/event/mah-jongg-with-estelle-marco/2027-10-14/
LOCATION:Sinai Temple
CATEGORIES:Sisterhood
ATTACH;FMTTYPE=image/jpeg:https://www.sinaitemple.org/wp-content/uploads/2025/10/Sushi-night-Amir-1.jpg
END:VEVENT
BEGIN:VEVENT
DTSTART;TZID=America/Los_Angeles:20271018T120000
DTEND;TZID=America/Los_Angeles:20271018T140000
DTSTAMP:20260424T005446
CREATED:20251016T192307Z
LAST-MODIFIED:20260420T193211Z
UID:10034006-1823860800-1823868000@www.sinaitemple.org
SUMMARY:Calligraphy with DeAnn Singh
DESCRIPTION:Learn different pen point styles\, how to address invitations\, and create a small book using the Japanese stab binding technique. Click here to read a profile on DeAnn from ShoutoutLA. \nClick here to read a profile on DeAnn from ShoutoutLA.
URL:https://www.sinaitemple.org/event/calligraphy-with-deann-singh/2027-10-18/
LOCATION:Sinai Temple
CATEGORIES:Sisterhood
ATTACH;FMTTYPE=image/png:https://www.sinaitemple.org/wp-content/uploads/2025/10/Sushi-night-Amir-10.png
END:VEVENT
BEGIN:VEVENT
DTSTART;TZID=America/Los_Angeles:20271020T093000
DTEND;TZID=America/Los_Angeles:20271020T103000
DTSTAMP:20260424T005446
CREATED:20250827T222718Z
LAST-MODIFIED:20260304T173057Z
UID:10029543-1824024600-1824028200@www.sinaitemple.org
SUMMARY:The Balance Class
DESCRIPTION:The 10/100 Program consists of six simple movements designed to grow your brain (neuroplasticity)\, improve your balance (proprioception) and strengthen your immune system. \nGroup Classes are FREE! Wednesdays from 9:30 -10:30 a.m. VIA ZOOM! \nClick HERE to join via Zoom during meeting time.
URL:https://www.sinaitemple.org/event/the-balance-class-2022-07-20-2/2027-10-20/
LOCATION:Sinai Temple
CATEGORIES:Events,Sisterhood
ATTACH;FMTTYPE=image/jpeg:https://www.sinaitemple.org/wp-content/uploads/2022/02/Untitled-design.jpg
END:VEVENT
BEGIN:VEVENT
DTSTART;TZID=America/Los_Angeles:20271020T103000
DTEND;TZID=America/Los_Angeles:20271020T120000
DTSTAMP:20260424T005446
CREATED:20251016T193001Z
LAST-MODIFIED:20251125T174414Z
UID:10033210-1824028200-1824033600@www.sinaitemple.org
SUMMARY:Art Workshop with Gail Rollman
DESCRIPTION:Wednesdays\, 10:30 AM–12:00 PM at Sinai | Weekly (Jewish holidays excepted) | $10 per class (materials included)Explore collage\, mixed media\, watercolor\, acrylic painting\, and crafts. Learn new techniques and have fun each week. Pay at the door. \nRSVP to Gail at garollman@yahoo.com.
URL:https://www.sinaitemple.org/event/art-workshop-with-gail-rollman-3/2027-10-20/
LOCATION:Sinai Temple
CATEGORIES:Sisterhood
ATTACH;FMTTYPE=image/jpeg:https://www.sinaitemple.org/wp-content/uploads/2025/10/Sushi-night-Amir-2.jpg
END:VEVENT
BEGIN:VEVENT
DTSTART;TZID=America/Los_Angeles:20271021T160000
DTEND;TZID=America/Los_Angeles:20271021T180000
DTSTAMP:20260424T005446
CREATED:20251016T192638Z
LAST-MODIFIED:20260420T232209Z
UID:10032950-1824134400-1824141600@www.sinaitemple.org
SUMMARY:Mah Jongg with Estelle Marco
DESCRIPTION:Thursdays\, 4:00–6:00 PM at Sinai | 8-week sessions | $100 per person \nFor beginners and intermediate players. Space is limited—first come\, first served. \nSession runs from April 16 to June 4. \nRSVP Here
URL:https://www.sinaitemple.org/event/mah-jongg-with-estelle-marco/2027-10-21/
LOCATION:Sinai Temple
CATEGORIES:Sisterhood
ATTACH;FMTTYPE=image/jpeg:https://www.sinaitemple.org/wp-content/uploads/2025/10/Sushi-night-Amir-1.jpg
END:VEVENT
BEGIN:VEVENT
DTSTART;TZID=America/Los_Angeles:20271025T120000
DTEND;TZID=America/Los_Angeles:20271025T140000
DTSTAMP:20260424T005446
CREATED:20251016T192307Z
LAST-MODIFIED:20260420T193211Z
UID:10034007-1824465600-1824472800@www.sinaitemple.org
SUMMARY:Calligraphy with DeAnn Singh
DESCRIPTION:Learn different pen point styles\, how to address invitations\, and create a small book using the Japanese stab binding technique. Click here to read a profile on DeAnn from ShoutoutLA. \nClick here to read a profile on DeAnn from ShoutoutLA.
URL:https://www.sinaitemple.org/event/calligraphy-with-deann-singh/2027-10-25/
LOCATION:Sinai Temple
CATEGORIES:Sisterhood
ATTACH;FMTTYPE=image/png:https://www.sinaitemple.org/wp-content/uploads/2025/10/Sushi-night-Amir-10.png
END:VEVENT
BEGIN:VEVENT
DTSTART;TZID=America/Los_Angeles:20271027T093000
DTEND;TZID=America/Los_Angeles:20271027T103000
DTSTAMP:20260424T005446
CREATED:20250827T222718Z
LAST-MODIFIED:20260304T173057Z
UID:10029544-1824629400-1824633000@www.sinaitemple.org
SUMMARY:The Balance Class
DESCRIPTION:The 10/100 Program consists of six simple movements designed to grow your brain (neuroplasticity)\, improve your balance (proprioception) and strengthen your immune system. \nGroup Classes are FREE! Wednesdays from 9:30 -10:30 a.m. VIA ZOOM! \nClick HERE to join via Zoom during meeting time.
URL:https://www.sinaitemple.org/event/the-balance-class-2022-07-20-2/2027-10-27/
LOCATION:Sinai Temple
CATEGORIES:Events,Sisterhood
ATTACH;FMTTYPE=image/jpeg:https://www.sinaitemple.org/wp-content/uploads/2022/02/Untitled-design.jpg
END:VEVENT
BEGIN:VEVENT
DTSTART;TZID=America/Los_Angeles:20271027T103000
DTEND;TZID=America/Los_Angeles:20271027T120000
DTSTAMP:20260424T005446
CREATED:20251016T193001Z
LAST-MODIFIED:20251125T174414Z
UID:10033211-1824633000-1824638400@www.sinaitemple.org
SUMMARY:Art Workshop with Gail Rollman
DESCRIPTION:Wednesdays\, 10:30 AM–12:00 PM at Sinai | Weekly (Jewish holidays excepted) | $10 per class (materials included)Explore collage\, mixed media\, watercolor\, acrylic painting\, and crafts. Learn new techniques and have fun each week. Pay at the door. \nRSVP to Gail at garollman@yahoo.com.
URL:https://www.sinaitemple.org/event/art-workshop-with-gail-rollman-3/2027-10-27/
LOCATION:Sinai Temple
CATEGORIES:Sisterhood
ATTACH;FMTTYPE=image/jpeg:https://www.sinaitemple.org/wp-content/uploads/2025/10/Sushi-night-Amir-2.jpg
END:VEVENT
BEGIN:VEVENT
DTSTART;TZID=America/Los_Angeles:20271028T160000
DTEND;TZID=America/Los_Angeles:20271028T180000
DTSTAMP:20260424T005446
CREATED:20251016T192638Z
LAST-MODIFIED:20260420T232209Z
UID:10032951-1824739200-1824746400@www.sinaitemple.org
SUMMARY:Mah Jongg with Estelle Marco
DESCRIPTION:Thursdays\, 4:00–6:00 PM at Sinai | 8-week sessions | $100 per person \nFor beginners and intermediate players. Space is limited—first come\, first served. \nSession runs from April 16 to June 4. \nRSVP Here
URL:https://www.sinaitemple.org/event/mah-jongg-with-estelle-marco/2027-10-28/
LOCATION:Sinai Temple
CATEGORIES:Sisterhood
ATTACH;FMTTYPE=image/jpeg:https://www.sinaitemple.org/wp-content/uploads/2025/10/Sushi-night-Amir-1.jpg
END:VEVENT
BEGIN:VEVENT
DTSTART;TZID=America/Los_Angeles:20271101T120000
DTEND;TZID=America/Los_Angeles:20271101T140000
DTSTAMP:20260424T005446
CREATED:20251016T192307Z
LAST-MODIFIED:20260420T193211Z
UID:10034008-1825070400-1825077600@www.sinaitemple.org
SUMMARY:Calligraphy with DeAnn Singh
DESCRIPTION:Learn different pen point styles\, how to address invitations\, and create a small book using the Japanese stab binding technique. Click here to read a profile on DeAnn from ShoutoutLA. \nClick here to read a profile on DeAnn from ShoutoutLA.
URL:https://www.sinaitemple.org/event/calligraphy-with-deann-singh/2027-11-01/
LOCATION:Sinai Temple
CATEGORIES:Sisterhood
ATTACH;FMTTYPE=image/png:https://www.sinaitemple.org/wp-content/uploads/2025/10/Sushi-night-Amir-10.png
END:VEVENT
BEGIN:VEVENT
DTSTART;TZID=America/Los_Angeles:20271103T093000
DTEND;TZID=America/Los_Angeles:20271103T103000
DTSTAMP:20260424T005446
CREATED:20250827T222718Z
LAST-MODIFIED:20260304T173057Z
UID:10029545-1825234200-1825237800@www.sinaitemple.org
SUMMARY:The Balance Class
DESCRIPTION:The 10/100 Program consists of six simple movements designed to grow your brain (neuroplasticity)\, improve your balance (proprioception) and strengthen your immune system. \nGroup Classes are FREE! Wednesdays from 9:30 -10:30 a.m. VIA ZOOM! \nClick HERE to join via Zoom during meeting time.
URL:https://www.sinaitemple.org/event/the-balance-class-2022-07-20-2/2027-11-03/
LOCATION:Sinai Temple
CATEGORIES:Events,Sisterhood
ATTACH;FMTTYPE=image/jpeg:https://www.sinaitemple.org/wp-content/uploads/2022/02/Untitled-design.jpg
END:VEVENT
BEGIN:VEVENT
DTSTART;TZID=America/Los_Angeles:20271103T103000
DTEND;TZID=America/Los_Angeles:20271103T120000
DTSTAMP:20260424T005446
CREATED:20251016T193001Z
LAST-MODIFIED:20251125T174414Z
UID:10033212-1825237800-1825243200@www.sinaitemple.org
SUMMARY:Art Workshop with Gail Rollman
DESCRIPTION:Wednesdays\, 10:30 AM–12:00 PM at Sinai | Weekly (Jewish holidays excepted) | $10 per class (materials included)Explore collage\, mixed media\, watercolor\, acrylic painting\, and crafts. Learn new techniques and have fun each week. Pay at the door. \nRSVP to Gail at garollman@yahoo.com.
URL:https://www.sinaitemple.org/event/art-workshop-with-gail-rollman-3/2027-11-03/
LOCATION:Sinai Temple
CATEGORIES:Sisterhood
ATTACH;FMTTYPE=image/jpeg:https://www.sinaitemple.org/wp-content/uploads/2025/10/Sushi-night-Amir-2.jpg
END:VEVENT
BEGIN:VEVENT
DTSTART;TZID=America/Los_Angeles:20271104T160000
DTEND;TZID=America/Los_Angeles:20271104T180000
DTSTAMP:20260424T005446
CREATED:20251016T192638Z
LAST-MODIFIED:20260420T232209Z
UID:10032952-1825344000-1825351200@www.sinaitemple.org
SUMMARY:Mah Jongg with Estelle Marco
DESCRIPTION:Thursdays\, 4:00–6:00 PM at Sinai | 8-week sessions | $100 per person \nFor beginners and intermediate players. Space is limited—first come\, first served. \nSession runs from April 16 to June 4. \nRSVP Here
URL:https://www.sinaitemple.org/event/mah-jongg-with-estelle-marco/2027-11-04/
LOCATION:Sinai Temple
CATEGORIES:Sisterhood
ATTACH;FMTTYPE=image/jpeg:https://www.sinaitemple.org/wp-content/uploads/2025/10/Sushi-night-Amir-1.jpg
END:VEVENT
BEGIN:VEVENT
DTSTART;TZID=America/Los_Angeles:20271108T120000
DTEND;TZID=America/Los_Angeles:20271108T140000
DTSTAMP:20260424T005446
CREATED:20251016T192307Z
LAST-MODIFIED:20260420T193211Z
UID:10034009-1825675200-1825682400@www.sinaitemple.org
SUMMARY:Calligraphy with DeAnn Singh
DESCRIPTION:Learn different pen point styles\, how to address invitations\, and create a small book using the Japanese stab binding technique. Click here to read a profile on DeAnn from ShoutoutLA. \nClick here to read a profile on DeAnn from ShoutoutLA.
URL:https://www.sinaitemple.org/event/calligraphy-with-deann-singh/2027-11-08/
LOCATION:Sinai Temple
CATEGORIES:Sisterhood
ATTACH;FMTTYPE=image/png:https://www.sinaitemple.org/wp-content/uploads/2025/10/Sushi-night-Amir-10.png
END:VEVENT
BEGIN:VEVENT
DTSTART;TZID=America/Los_Angeles:20271110T093000
DTEND;TZID=America/Los_Angeles:20271110T103000
DTSTAMP:20260424T005446
CREATED:20250827T222718Z
LAST-MODIFIED:20260304T173057Z
UID:10029546-1825839000-1825842600@www.sinaitemple.org
SUMMARY:The Balance Class
DESCRIPTION:The 10/100 Program consists of six simple movements designed to grow your brain (neuroplasticity)\, improve your balance (proprioception) and strengthen your immune system. \nGroup Classes are FREE! Wednesdays from 9:30 -10:30 a.m. VIA ZOOM! \nClick HERE to join via Zoom during meeting time.
URL:https://www.sinaitemple.org/event/the-balance-class-2022-07-20-2/2027-11-10/
LOCATION:Sinai Temple
CATEGORIES:Events,Sisterhood
ATTACH;FMTTYPE=image/jpeg:https://www.sinaitemple.org/wp-content/uploads/2022/02/Untitled-design.jpg
END:VEVENT
BEGIN:VEVENT
DTSTART;TZID=America/Los_Angeles:20271110T103000
DTEND;TZID=America/Los_Angeles:20271110T120000
DTSTAMP:20260424T005446
CREATED:20251016T193001Z
LAST-MODIFIED:20251125T174414Z
UID:10033213-1825842600-1825848000@www.sinaitemple.org
SUMMARY:Art Workshop with Gail Rollman
DESCRIPTION:Wednesdays\, 10:30 AM–12:00 PM at Sinai | Weekly (Jewish holidays excepted) | $10 per class (materials included)Explore collage\, mixed media\, watercolor\, acrylic painting\, and crafts. Learn new techniques and have fun each week. Pay at the door. \nRSVP to Gail at garollman@yahoo.com.
URL:https://www.sinaitemple.org/event/art-workshop-with-gail-rollman-3/2027-11-10/
LOCATION:Sinai Temple
CATEGORIES:Sisterhood
ATTACH;FMTTYPE=image/jpeg:https://www.sinaitemple.org/wp-content/uploads/2025/10/Sushi-night-Amir-2.jpg
END:VEVENT
BEGIN:VEVENT
DTSTART;TZID=America/Los_Angeles:20271111T160000
DTEND;TZID=America/Los_Angeles:20271111T180000
DTSTAMP:20260424T005446
CREATED:20251016T192638Z
LAST-MODIFIED:20260420T232209Z
UID:10032953-1825948800-1825956000@www.sinaitemple.org
SUMMARY:Mah Jongg with Estelle Marco
DESCRIPTION:Thursdays\, 4:00–6:00 PM at Sinai | 8-week sessions | $100 per person \nFor beginners and intermediate players. Space is limited—first come\, first served. \nSession runs from April 16 to June 4. \nRSVP Here
URL:https://www.sinaitemple.org/event/mah-jongg-with-estelle-marco/2027-11-11/
LOCATION:Sinai Temple
CATEGORIES:Sisterhood
ATTACH;FMTTYPE=image/jpeg:https://www.sinaitemple.org/wp-content/uploads/2025/10/Sushi-night-Amir-1.jpg
END:VEVENT
BEGIN:VEVENT
DTSTART;TZID=America/Los_Angeles:20271115T120000
DTEND;TZID=America/Los_Angeles:20271115T140000
DTSTAMP:20260424T005446
CREATED:20251016T192307Z
LAST-MODIFIED:20260420T193211Z
UID:10034010-1826280000-1826287200@www.sinaitemple.org
SUMMARY:Calligraphy with DeAnn Singh
DESCRIPTION:Learn different pen point styles\, how to address invitations\, and create a small book using the Japanese stab binding technique. Click here to read a profile on DeAnn from ShoutoutLA. \nClick here to read a profile on DeAnn from ShoutoutLA.
URL:https://www.sinaitemple.org/event/calligraphy-with-deann-singh/2027-11-15/
LOCATION:Sinai Temple
CATEGORIES:Sisterhood
ATTACH;FMTTYPE=image/png:https://www.sinaitemple.org/wp-content/uploads/2025/10/Sushi-night-Amir-10.png
END:VEVENT
BEGIN:VEVENT
DTSTART;TZID=America/Los_Angeles:20271117T093000
DTEND;TZID=America/Los_Angeles:20271117T103000
DTSTAMP:20260424T005446
CREATED:20250827T222718Z
LAST-MODIFIED:20260304T173057Z
UID:10029547-1826443800-1826447400@www.sinaitemple.org
SUMMARY:The Balance Class
DESCRIPTION:The 10/100 Program consists of six simple movements designed to grow your brain (neuroplasticity)\, improve your balance (proprioception) and strengthen your immune system. \nGroup Classes are FREE! Wednesdays from 9:30 -10:30 a.m. VIA ZOOM! \nClick HERE to join via Zoom during meeting time.
URL:https://www.sinaitemple.org/event/the-balance-class-2022-07-20-2/2027-11-17/
LOCATION:Sinai Temple
CATEGORIES:Events,Sisterhood
ATTACH;FMTTYPE=image/jpeg:https://www.sinaitemple.org/wp-content/uploads/2022/02/Untitled-design.jpg
END:VEVENT
BEGIN:VEVENT
DTSTART;TZID=America/Los_Angeles:20271117T103000
DTEND;TZID=America/Los_Angeles:20271117T120000
DTSTAMP:20260424T005446
CREATED:20251016T193001Z
LAST-MODIFIED:20251125T174414Z
UID:10033214-1826447400-1826452800@www.sinaitemple.org
SUMMARY:Art Workshop with Gail Rollman
DESCRIPTION:Wednesdays\, 10:30 AM–12:00 PM at Sinai | Weekly (Jewish holidays excepted) | $10 per class (materials included)Explore collage\, mixed media\, watercolor\, acrylic painting\, and crafts. Learn new techniques and have fun each week. Pay at the door. \nRSVP to Gail at garollman@yahoo.com.
URL:https://www.sinaitemple.org/event/art-workshop-with-gail-rollman-3/2027-11-17/
LOCATION:Sinai Temple
CATEGORIES:Sisterhood
ATTACH;FMTTYPE=image/jpeg:https://www.sinaitemple.org/wp-content/uploads/2025/10/Sushi-night-Amir-2.jpg
END:VEVENT
BEGIN:VEVENT
DTSTART;TZID=America/Los_Angeles:20271118T160000
DTEND;TZID=America/Los_Angeles:20271118T180000
DTSTAMP:20260424T005446
CREATED:20251016T192638Z
LAST-MODIFIED:20260420T232209Z
UID:10032954-1826553600-1826560800@www.sinaitemple.org
SUMMARY:Mah Jongg with Estelle Marco
DESCRIPTION:Thursdays\, 4:00–6:00 PM at Sinai | 8-week sessions | $100 per person \nFor beginners and intermediate players. Space is limited—first come\, first served. \nSession runs from April 16 to June 4. \nRSVP Here
URL:https://www.sinaitemple.org/event/mah-jongg-with-estelle-marco/2027-11-18/
LOCATION:Sinai Temple
CATEGORIES:Sisterhood
ATTACH;FMTTYPE=image/jpeg:https://www.sinaitemple.org/wp-content/uploads/2025/10/Sushi-night-Amir-1.jpg
END:VEVENT
BEGIN:VEVENT
DTSTART;TZID=America/Los_Angeles:20271122T120000
DTEND;TZID=America/Los_Angeles:20271122T140000
DTSTAMP:20260424T005446
CREATED:20251016T192307Z
LAST-MODIFIED:20260420T193211Z
UID:10034011-1826884800-1826892000@www.sinaitemple.org
SUMMARY:Calligraphy with DeAnn Singh
DESCRIPTION:Learn different pen point styles\, how to address invitations\, and create a small book using the Japanese stab binding technique. Click here to read a profile on DeAnn from ShoutoutLA. \nClick here to read a profile on DeAnn from ShoutoutLA.
URL:https://www.sinaitemple.org/event/calligraphy-with-deann-singh/2027-11-22/
LOCATION:Sinai Temple
CATEGORIES:Sisterhood
ATTACH;FMTTYPE=image/png:https://www.sinaitemple.org/wp-content/uploads/2025/10/Sushi-night-Amir-10.png
END:VEVENT
BEGIN:VEVENT
DTSTART;TZID=America/Los_Angeles:20271124T093000
DTEND;TZID=America/Los_Angeles:20271124T103000
DTSTAMP:20260424T005446
CREATED:20250827T222718Z
LAST-MODIFIED:20260304T173057Z
UID:10029548-1827048600-1827052200@www.sinaitemple.org
SUMMARY:The Balance Class
DESCRIPTION:The 10/100 Program consists of six simple movements designed to grow your brain (neuroplasticity)\, improve your balance (proprioception) and strengthen your immune system. \nGroup Classes are FREE! Wednesdays from 9:30 -10:30 a.m. VIA ZOOM! \nClick HERE to join via Zoom during meeting time.
URL:https://www.sinaitemple.org/event/the-balance-class-2022-07-20-2/2027-11-24/
LOCATION:Sinai Temple
CATEGORIES:Events,Sisterhood
ATTACH;FMTTYPE=image/jpeg:https://www.sinaitemple.org/wp-content/uploads/2022/02/Untitled-design.jpg
END:VEVENT
END:VCALENDAR