BEGIN:VCALENDAR
VERSION:2.0
PRODID:-//Sinai Temple - ECPv6.15.18//NONSGML v1.0//EN
CALSCALE:GREGORIAN
METHOD:PUBLISH
X-WR-CALNAME:Sinai Temple
X-ORIGINAL-URL:https://www.sinaitemple.org
X-WR-CALDESC:Events for Sinai Temple
REFRESH-INTERVAL;VALUE=DURATION:PT1H
X-Robots-Tag:noindex
X-PUBLISHED-TTL:PT1H
BEGIN:VTIMEZONE
TZID:America/Los_Angeles
BEGIN:DAYLIGHT
TZOFFSETFROM:-0800
TZOFFSETTO:-0700
TZNAME:PDT
DTSTART:20250309T100000
END:DAYLIGHT
BEGIN:STANDARD
TZOFFSETFROM:-0700
TZOFFSETTO:-0800
TZNAME:PST
DTSTART:20251102T090000
END:STANDARD
BEGIN:DAYLIGHT
TZOFFSETFROM:-0800
TZOFFSETTO:-0700
TZNAME:PDT
DTSTART:20260308T100000
END:DAYLIGHT
BEGIN:STANDARD
TZOFFSETFROM:-0700
TZOFFSETTO:-0800
TZNAME:PST
DTSTART:20261101T090000
END:STANDARD
BEGIN:DAYLIGHT
TZOFFSETFROM:-0800
TZOFFSETTO:-0700
TZNAME:PDT
DTSTART:20270314T100000
END:DAYLIGHT
BEGIN:STANDARD
TZOFFSETFROM:-0700
TZOFFSETTO:-0800
TZNAME:PST
DTSTART:20271107T090000
END:STANDARD
END:VTIMEZONE
BEGIN:VEVENT
DTSTART;TZID=America/Los_Angeles:20260430T073000
DTEND;TZID=America/Los_Angeles:20260430T080000
DTSTAMP:20260423T041644
CREATED:20210917T195757Z
LAST-MODIFIED:20250814T203543Z
UID:10023077-1777534200-1777536000@www.sinaitemple.org
SUMMARY:Daily Minyan
DESCRIPTION:In person in Kohn chapel and online on our YouTube channel.
URL:https://www.sinaitemple.org/event/virtual-daily-minyan-20/2026-04-30/
LOCATION:Kohn Chapel
CATEGORIES:Worship Services
END:VEVENT
BEGIN:VEVENT
DTSTART;TZID=America/Los_Angeles:20260430T081500
DTEND;TZID=America/Los_Angeles:20260430T091500
DTSTAMP:20260423T041644
CREATED:20250915T180835Z
LAST-MODIFIED:20250915T180835Z
UID:10032551-1777536900-1777540500@www.sinaitemple.org
SUMMARY:Parents Parsha Class
DESCRIPTION:Every Thursday at 8:15am (outside of holidays) \nJoin us as Sinai Temple’s rotating clergy lead an in-depth exploration of the weekly Parsha. \n\n\nClass is in person. \n\n\n 
URL:https://www.sinaitemple.org/event/parents-parsha-class/2026-04-30/
LOCATION:Sinai Temple
CATEGORIES:Events
END:VEVENT
BEGIN:VEVENT
DTSTART;TZID=America/Los_Angeles:20260430T083000
DTEND;TZID=America/Los_Angeles:20260430T093000
DTSTAMP:20260423T041644
CREATED:20250902T175749Z
LAST-MODIFIED:20250902T175907Z
UID:10032279-1777537800-1777541400@www.sinaitemple.org
SUMMARY:Weekly Parsha Class
DESCRIPTION:Every Thursday at 8:30am (outside of holidays) \n\n\n\nJoin us as Sinai Temple’s rotating clergy lead an in-depth exploration of the weekly Parsha. \n\n\nClass is offered exclusively online. \n\n\nRegister to receive the broadcast link. \nRegister Here 
URL:https://www.sinaitemple.org/event/weekly-parsha-class/2026-04-30/
LOCATION:Zoom\, 10400 Wilshire Blvd\, Los Angeles\, CA\, 90024\, United States
CATEGORIES:Events
ATTACH;FMTTYPE=image/png:https://www.sinaitemple.org/wp-content/uploads/2025/09/Weekly-Parsha-Class-Flyer-.png
END:VEVENT
BEGIN:VEVENT
DTSTART;TZID=America/Los_Angeles:20260430T160000
DTEND;TZID=America/Los_Angeles:20260430T180000
DTSTAMP:20260423T041644
CREATED:20251016T192638Z
LAST-MODIFIED:20260420T232209Z
UID:10032873-1777564800-1777572000@www.sinaitemple.org
SUMMARY:Mah Jongg with Estelle Marco
DESCRIPTION:Thursdays\, 4:00–6:00 PM at Sinai | 8-week sessions | $100 per person \nFor beginners and intermediate players. Space is limited—first come\, first served. \nSession runs from April 16 to June 4. \nRSVP Here
URL:https://www.sinaitemple.org/event/mah-jongg-with-estelle-marco/2026-04-30/
LOCATION:Sinai Temple
CATEGORIES:Sisterhood
ATTACH;FMTTYPE=image/jpeg:https://www.sinaitemple.org/wp-content/uploads/2025/10/Sushi-night-Amir-1.jpg
END:VEVENT
BEGIN:VEVENT
DTSTART;TZID=America/Los_Angeles:20260430T174500
DTEND;TZID=America/Los_Angeles:20260430T181500
DTSTAMP:20260423T041644
CREATED:20250807T175230Z
LAST-MODIFIED:20250814T203547Z
UID:10029306-1777571100-1777572900@www.sinaitemple.org
SUMMARY:Daily Minyan
DESCRIPTION:In person in Kohn chapel and online on our YouTube channel.
URL:https://www.sinaitemple.org/event/daily-minyan-24/2026-04-30/
LOCATION:Kohn Chapel
CATEGORIES:Worship Services
END:VEVENT
BEGIN:VEVENT
DTSTART;TZID=America/Los_Angeles:20260430T190000
DTEND;TZID=America/Los_Angeles:20260430T210000
DTSTAMP:20260423T041644
CREATED:20260413T215347Z
LAST-MODIFIED:20260413T215348Z
UID:10033505-1777575600-1777582800@www.sinaitemple.org
SUMMARY:Learning with Rabbi David Wolpe
DESCRIPTION:January 15\, February 19\, March 24\, April 30\, May 14\, and June 16\, 2026 at 7:00 PM \n\n\nKohn Chapel \n\n\n$10 USD per non-member| Free for members \n\n\nThese six classes will trace the wisdom\, texts\, and teachings that have guided Jewish life\, from ancient foundations to medieval depth and modern relevance. \nRSVP HERE
URL:https://www.sinaitemple.org/event/learning-with-rabbi-david-wolpe-2/
LOCATION:Sinai Temple
CATEGORIES:Learn at Sinai
ATTACH;FMTTYPE=image/png:https://www.sinaitemple.org/wp-content/uploads/2026/01/RDW-Classes-2.png
END:VEVENT
BEGIN:VEVENT
DTSTART;TZID=America/Los_Angeles:20260501T073000
DTEND;TZID=America/Los_Angeles:20260501T080000
DTSTAMP:20260423T041644
CREATED:20201231T182859Z
LAST-MODIFIED:20250814T203550Z
UID:10021163-1777620600-1777622400@www.sinaitemple.org
SUMMARY:Daily Minyan
DESCRIPTION:In person in Kohn chapel and online on our YouTube channel.
URL:https://www.sinaitemple.org/event/virtual-daily-minyan-15/2026-05-01/
LOCATION:Kohn Chapel
CATEGORIES:Worship Services
END:VEVENT
BEGIN:VEVENT
DTSTART;TZID=America/Los_Angeles:20260501T174500
DTEND;TZID=America/Los_Angeles:20260501T181500
DTSTAMP:20260423T041644
CREATED:20251117T184919Z
LAST-MODIFIED:20251117T184919Z
UID:10030823-1777657500-1777659300@www.sinaitemple.org
SUMMARY:Daily Minyan
DESCRIPTION:In person in Kohn chapel and online on our YouTube channel.
URL:https://www.sinaitemple.org/event/daily-minyan-25-2/2026-05-01/
LOCATION:Kohn Chapel
CATEGORIES:Worship Services
END:VEVENT
BEGIN:VEVENT
DTSTART;TZID=America/Los_Angeles:20260501T174500
DTEND;TZID=America/Los_Angeles:20260501T184500
DTSTAMP:20260423T041644
CREATED:20210108T195503Z
LAST-MODIFIED:20250807T175953Z
UID:10021798-1777657500-1777661100@www.sinaitemple.org
SUMMARY:Kabbalat Shabbat Service
DESCRIPTION:Join us in person in Kohn Chapel or watch on our YouTube channel.
URL:https://www.sinaitemple.org/event/virtual-kabbalat-shabbat-service-2-2021-09-17/2026-05-01/
LOCATION:Sinai Temple
END:VEVENT
BEGIN:VEVENT
DTSTART;TZID=America/Los_Angeles:20260501T174500
DTEND;TZID=America/Los_Angeles:20260501T200000
DTSTAMP:20260423T041644
CREATED:20260413T164600Z
LAST-MODIFIED:20260413T164600Z
UID:10033894-1777657500-1777665600@www.sinaitemple.org
SUMMARY:Feit Family Live Community Shabbat Dinner
DESCRIPTION:Friday\, May 1\, 2026 · Service at 5:45pm Dinner at 6:30pm \n\n\n\n\n\nShabbat services with Sinai Temple clergy at 5:45pm\n\n\n\n\n\n\nA delicious dinner provided by Western Kosher\n\n\n\n\n\n\nEngaging children’s entertainment\n\n\n\n\n\nCome join us for a special evening of delicious food and community at Sinai Temple! \n\n\n\n\n$18 per child\, $25 per adult \nRSVP HERE
URL:https://www.sinaitemple.org/event/feit-family-live-community-shabbat-dinner/
LOCATION:Sinai Temple
CATEGORIES:Events
ATTACH;FMTTYPE=image/png:https://www.sinaitemple.org/wp-content/uploads/2026/04/FFL-Community-Dinner-1.png
END:VEVENT
BEGIN:VEVENT
DTSTART;TZID=America/Los_Angeles:20260502T090000
DTEND;TZID=America/Los_Angeles:20260502T100000
DTSTAMP:20260423T041644
CREATED:20170406T190706Z
LAST-MODIFIED:20250814T203647Z
UID:10015132-1777712400-1777716000@www.sinaitemple.org
SUMMARY:Torah at the Table
DESCRIPTION:Torah at the Table is facilitated by lay leaders and runs every Saturday morning from 9:00-10:30 a.m. Held in Upper Traub or online. \nClick HERE to join via Zoom!
URL:https://www.sinaitemple.org/event/torah-at-the-table-2022-06-11/2026-05-02/
ATTACH;FMTTYPE=image/jpeg:https://www.sinaitemple.org/wp-content/uploads/2017/04/TorahattheTable@2x.jpg
END:VEVENT
BEGIN:VEVENT
DTSTART;TZID=America/Los_Angeles:20260502T090000
DTEND;TZID=America/Los_Angeles:20260502T110000
DTSTAMP:20260423T041644
CREATED:20201223T211515Z
LAST-MODIFIED:20250807T180357Z
UID:10019496-1777712400-1777719600@www.sinaitemple.org
SUMMARY:Shabbat Morning Service
DESCRIPTION:
URL:https://www.sinaitemple.org/event/shabbat-morning-service/2026-05-02/
LOCATION:Sinai Temple
CATEGORIES:Worship Services
END:VEVENT
BEGIN:VEVENT
DTSTART;TZID=America/Los_Angeles:20260502T210000
DTEND;TZID=America/Los_Angeles:20260502T213000
DTSTAMP:20260423T041644
CREATED:20220705T154054Z
LAST-MODIFIED:20250814T203557Z
UID:10017664-1777755600-1777757400@www.sinaitemple.org
SUMMARY:Daily Minyan
DESCRIPTION:Online ONLY. Click HERE to watch.
URL:https://www.sinaitemple.org/event/daily-minyan-11-2022-07-16/2026-05-02/
CATEGORIES:Worship Services
END:VEVENT
BEGIN:VEVENT
DTSTART;TZID=America/Los_Angeles:20260503T083000
DTEND;TZID=America/Los_Angeles:20260503T090000
DTSTAMP:20260423T041644
CREATED:20210813T180515Z
LAST-MODIFIED:20250814T203516Z
UID:10022497-1777797000-1777798800@www.sinaitemple.org
SUMMARY:Daily Minyan
DESCRIPTION:In person in Kohn chapel and online on our YouTube channel.
URL:https://www.sinaitemple.org/event/virtually-daily-minyan-2021-08-22/2026-05-03/
LOCATION:Kohn Chapel
CATEGORIES:Worship Services
END:VEVENT
BEGIN:VEVENT
DTSTART;TZID=America/Los_Angeles:20260503T100000
DTEND;TZID=America/Los_Angeles:20260503T130000
DTSTAMP:20260423T041644
CREATED:20260416T171847Z
LAST-MODIFIED:20260416T171847Z
UID:10033901-1777802400-1777813200@www.sinaitemple.org
SUMMARY:Mitzvah Day! & Beyond at Sinai Temple
DESCRIPTION:Sunday\, May 3 | 10:00 AM – 1:00 PM \n\n\n4th Floor patio | Sinai Temple \n\n\n\nJoin Sinai Temple for a day of giving back and community connection\, featuring hands-on service projects supporting organizations in Los Angeles and Israel alongside STARS Religious School student-led Israeli-style shuk. \n\n\n\nAll proceeds benefit Israel & STARS! \nRSVP HERE
URL:https://www.sinaitemple.org/event/mitzvah-day-beyond-at-sinai-temple/
LOCATION:Sinai Temple
CATEGORIES:Events,Religious School,Social Action
ATTACH;FMTTYPE=image/png:https://www.sinaitemple.org/wp-content/uploads/2026/04/Mitzvah-Market-2.png
END:VEVENT
BEGIN:VEVENT
DTSTART;TZID=America/Los_Angeles:20260503T174500
DTEND;TZID=America/Los_Angeles:20260503T184500
DTSTAMP:20260423T041644
CREATED:20260213T174655Z
LAST-MODIFIED:20260410T182919Z
UID:10033587-1777830300-1777833900@www.sinaitemple.org
SUMMARY:Evening Minyan
DESCRIPTION:In person in Kohn chapel and online on our YouTube channel.
URL:https://www.sinaitemple.org/event/evening-minyan/2026-05-03/
LOCATION:Kohn Chapel
CATEGORIES:Worship Services
END:VEVENT
BEGIN:VEVENT
DTSTART;TZID=America/Los_Angeles:20260504T073000
DTEND;TZID=America/Los_Angeles:20260504T080000
DTSTAMP:20260423T041644
CREATED:20201223T212659Z
LAST-MODIFIED:20250814T203521Z
UID:10015733-1777879800-1777881600@www.sinaitemple.org
SUMMARY:Daily Minyan
DESCRIPTION:In person in Kohn chapel and online on our YouTube channel.
URL:https://www.sinaitemple.org/event/virtual-daily-minyan-6-2022-11-07/2026-05-04/
LOCATION:Kohn Chapel
CATEGORIES:Worship Services
END:VEVENT
BEGIN:VEVENT
DTSTART;TZID=America/Los_Angeles:20260504T120000
DTEND;TZID=America/Los_Angeles:20260504T140000
DTSTAMP:20260423T041644
CREATED:20251016T192307Z
LAST-MODIFIED:20260420T193211Z
UID:10033930-1777896000-1777903200@www.sinaitemple.org
SUMMARY:Calligraphy with DeAnn Singh
DESCRIPTION:Learn different pen point styles\, how to address invitations\, and create a small book using the Japanese stab binding technique. Click here to read a profile on DeAnn from ShoutoutLA. \nClick here to read a profile on DeAnn from ShoutoutLA.
URL:https://www.sinaitemple.org/event/calligraphy-with-deann-singh/2026-05-04/
LOCATION:Sinai Temple
CATEGORIES:Sisterhood
ATTACH;FMTTYPE=image/png:https://www.sinaitemple.org/wp-content/uploads/2025/10/Sushi-night-Amir-10.png
END:VEVENT
BEGIN:VEVENT
DTSTART;TZID=America/Los_Angeles:20260504T174500
DTEND;TZID=America/Los_Angeles:20260504T181500
DTSTAMP:20260423T041644
CREATED:20251117T185130Z
LAST-MODIFIED:20251117T185131Z
UID:10019822-1777916700-1777918500@www.sinaitemple.org
SUMMARY:Daily Minyan
DESCRIPTION:In person in Kohn chapel and online on our YouTube channel.
URL:https://www.sinaitemple.org/event/virtual-daily-minyan-7-2/2026-05-04/
LOCATION:Kohn Chapel
CATEGORIES:Worship Services
END:VEVENT
BEGIN:VEVENT
DTSTART;TZID=America/Los_Angeles:20260505T073000
DTEND;TZID=America/Los_Angeles:20260505T080000
DTSTAMP:20260423T041644
CREATED:20221219T190023Z
LAST-MODIFIED:20250814T203532Z
UID:10018301-1777966200-1777968000@www.sinaitemple.org
SUMMARY:Daily Minyan
DESCRIPTION:In person in Kohn chapel and online on our YouTube channel.
URL:https://www.sinaitemple.org/event/daily-minyan-16/2026-05-05/
LOCATION:Kohn Chapel
CATEGORIES:Worship Services
END:VEVENT
BEGIN:VEVENT
DTSTART;TZID=America/Los_Angeles:20260505T120000
DTEND;TZID=America/Los_Angeles:20260505T130000
DTSTAMP:20260423T041644
CREATED:20250812T202122Z
LAST-MODIFIED:20250812T202243Z
UID:10032177-1777982400-1777986000@www.sinaitemple.org
SUMMARY:Sisterhood Book Group
DESCRIPTION:Led by Rabbi Gavriella Kornsgold. \nThe Heaven & Earth Grocery Store by\, James McBride- November 4\, 2025\nTBD – February 3\, 2026\nTBD – May 5\, 2026\nRefreshments/light lunch provided. Bring dairy lunch if desired. \nThis event is open only to Sisterhood members.\n\n\nRSVP here
URL:https://www.sinaitemple.org/event/sisterhood-book-group/2026-05-05/
LOCATION:Sinai Temple
END:VEVENT
BEGIN:VEVENT
DTSTART;TZID=America/Los_Angeles:20260505T174500
DTEND;TZID=America/Los_Angeles:20260505T181500
DTSTAMP:20260423T041644
CREATED:20220801T162701Z
LAST-MODIFIED:20250814T203535Z
UID:10017933-1778003100-1778004900@www.sinaitemple.org
SUMMARY:Daily Minyan
DESCRIPTION:In person in Kohn chapel and online on our YouTube channel.
URL:https://www.sinaitemple.org/event/daily-minyan-15/2026-05-05/
LOCATION:Kohn Chapel
CATEGORIES:Worship Services
END:VEVENT
BEGIN:VEVENT
DTSTART;TZID=America/Los_Angeles:20260506T073000
DTEND;TZID=America/Los_Angeles:20260506T080000
DTSTAMP:20260423T041644
CREATED:20250807T174950Z
LAST-MODIFIED:20250814T203539Z
UID:10028751-1778052600-1778054400@www.sinaitemple.org
SUMMARY:Daily Minyan
DESCRIPTION:In person in Kohn chapel and online on our YouTube channel.
URL:https://www.sinaitemple.org/event/daily-minyan-23/2026-05-06/
LOCATION:Kohn Chapel
CATEGORIES:Worship Services
END:VEVENT
BEGIN:VEVENT
DTSTART;TZID=America/Los_Angeles:20260506T093000
DTEND;TZID=America/Los_Angeles:20260506T103000
DTSTAMP:20260423T041644
CREATED:20250827T222718Z
LAST-MODIFIED:20260304T173057Z
UID:10023985-1778059800-1778063400@www.sinaitemple.org
SUMMARY:The Balance Class
DESCRIPTION:The 10/100 Program consists of six simple movements designed to grow your brain (neuroplasticity)\, improve your balance (proprioception) and strengthen your immune system. \nGroup Classes are FREE! Wednesdays from 9:30 -10:30 a.m. VIA ZOOM! \nClick HERE to join via Zoom during meeting time.
URL:https://www.sinaitemple.org/event/the-balance-class-2022-07-20-2/2026-05-06/
LOCATION:Sinai Temple
CATEGORIES:Events,Sisterhood
ATTACH;FMTTYPE=image/jpeg:https://www.sinaitemple.org/wp-content/uploads/2022/02/Untitled-design.jpg
END:VEVENT
BEGIN:VEVENT
DTSTART;TZID=America/Los_Angeles:20260506T103000
DTEND;TZID=America/Los_Angeles:20260506T120000
DTSTAMP:20260423T041644
CREATED:20251016T193001Z
LAST-MODIFIED:20251125T174414Z
UID:10033134-1778063400-1778068800@www.sinaitemple.org
SUMMARY:Art Workshop with Gail Rollman
DESCRIPTION:Wednesdays\, 10:30 AM–12:00 PM at Sinai | Weekly (Jewish holidays excepted) | $10 per class (materials included)Explore collage\, mixed media\, watercolor\, acrylic painting\, and crafts. Learn new techniques and have fun each week. Pay at the door. \nRSVP to Gail at garollman@yahoo.com.
URL:https://www.sinaitemple.org/event/art-workshop-with-gail-rollman-3/2026-05-06/
LOCATION:Sinai Temple
CATEGORIES:Sisterhood
ATTACH;FMTTYPE=image/jpeg:https://www.sinaitemple.org/wp-content/uploads/2025/10/Sushi-night-Amir-2.jpg
END:VEVENT
BEGIN:VEVENT
DTSTART;TZID=America/Los_Angeles:20260506T174500
DTEND;TZID=America/Los_Angeles:20260506T181500
DTSTAMP:20260423T041644
CREATED:20201223T214532Z
LAST-MODIFIED:20250814T203608Z
UID:10020808-1778089500-1778091300@www.sinaitemple.org
SUMMARY:Daily Minyan
DESCRIPTION:In person in Kohn chapel and online on our YouTube channel.
URL:https://www.sinaitemple.org/event/virtual-daily-minyan-12/2026-05-06/
LOCATION:Kohn Chapel
CATEGORIES:Worship Services
END:VEVENT
BEGIN:VEVENT
DTSTART;TZID=America/Los_Angeles:20260506T190000
DTEND;TZID=America/Los_Angeles:20260506T201500
DTSTAMP:20260423T041644
CREATED:20260422T162414Z
LAST-MODIFIED:20260422T162414Z
UID:10034206-1778094000-1778098500@www.sinaitemple.org
SUMMARY:Personal Safety and Violence Prevention
DESCRIPTION:Wednesday\, May 6\, 2026\nTime: 7:00 – 8:15 PM \nOpen to: Women & Men 18+\nCost: No charge \nContact: aharrison@sinaitemple.org \nSponsored by: Gail & Fred Rollman \nSpeaker: Barb Jordan — Safety Expert \nFeatured On: \n\nABC Los Angeles Morning Show & Los Angeles Morning News\nNBC Nashville\, Houston and New Mexico News\nCBS The Morning Wrap & Inside Edition\n\nTraining & Certifications: \n\nTrained in Krav Maga\nCertified in Active Shooter Training\n\nBe Prepared — Topics Covered \n\nKeys for Situational Awareness\nIdentifying Vulnerable Environments\nIndicators that Lead to Violence\nResponse to a Threat With a Weapon\nSigns of Charm and Manipulation\nParking Lot / Gas Station Skills\nHome Security\nWarning Signs of Antisemitic Violence\nThe Importance of Intuition\nKnowing a Plan / Self Defense\n\nRSVP HERE
URL:https://www.sinaitemple.org/event/personal-safety-and-violence-prevention/
LOCATION:Sinai Temple
CATEGORIES:Events
ATTACH;FMTTYPE=image/png:https://www.sinaitemple.org/wp-content/uploads/2026/04/Personal-Safety-4-1.png
END:VEVENT
BEGIN:VEVENT
DTSTART;TZID=America/Los_Angeles:20260507T073000
DTEND;TZID=America/Los_Angeles:20260507T080000
DTSTAMP:20260423T041644
CREATED:20210917T195757Z
LAST-MODIFIED:20250814T203543Z
UID:10023078-1778139000-1778140800@www.sinaitemple.org
SUMMARY:Daily Minyan
DESCRIPTION:In person in Kohn chapel and online on our YouTube channel.
URL:https://www.sinaitemple.org/event/virtual-daily-minyan-20/2026-05-07/
LOCATION:Kohn Chapel
CATEGORIES:Worship Services
END:VEVENT
BEGIN:VEVENT
DTSTART;TZID=America/Los_Angeles:20260507T081500
DTEND;TZID=America/Los_Angeles:20260507T091500
DTSTAMP:20260423T041644
CREATED:20250915T180835Z
LAST-MODIFIED:20250915T180835Z
UID:10032552-1778141700-1778145300@www.sinaitemple.org
SUMMARY:Parents Parsha Class
DESCRIPTION:Every Thursday at 8:15am (outside of holidays) \nJoin us as Sinai Temple’s rotating clergy lead an in-depth exploration of the weekly Parsha. \n\n\nClass is in person. \n\n\n 
URL:https://www.sinaitemple.org/event/parents-parsha-class/2026-05-07/
LOCATION:Sinai Temple
CATEGORIES:Events
END:VEVENT
BEGIN:VEVENT
DTSTART;TZID=America/Los_Angeles:20260507T083000
DTEND;TZID=America/Los_Angeles:20260507T093000
DTSTAMP:20260423T041644
CREATED:20250902T175749Z
LAST-MODIFIED:20250902T175907Z
UID:10032280-1778142600-1778146200@www.sinaitemple.org
SUMMARY:Weekly Parsha Class
DESCRIPTION:Every Thursday at 8:30am (outside of holidays) \n\n\n\nJoin us as Sinai Temple’s rotating clergy lead an in-depth exploration of the weekly Parsha. \n\n\nClass is offered exclusively online. \n\n\nRegister to receive the broadcast link. \nRegister Here 
URL:https://www.sinaitemple.org/event/weekly-parsha-class/2026-05-07/
LOCATION:Zoom\, 10400 Wilshire Blvd\, Los Angeles\, CA\, 90024\, United States
CATEGORIES:Events
ATTACH;FMTTYPE=image/png:https://www.sinaitemple.org/wp-content/uploads/2025/09/Weekly-Parsha-Class-Flyer-.png
END:VEVENT
END:VCALENDAR