BEGIN:VCALENDAR
VERSION:2.0
PRODID:-//Sinai Temple - ECPv6.15.18//NONSGML v1.0//EN
CALSCALE:GREGORIAN
METHOD:PUBLISH
X-ORIGINAL-URL:https://www.sinaitemple.org
X-WR-CALDESC:Events for Sinai Temple
REFRESH-INTERVAL;VALUE=DURATION:PT1H
X-Robots-Tag:noindex
X-PUBLISHED-TTL:PT1H
BEGIN:VTIMEZONE
TZID:America/Los_Angeles
BEGIN:DAYLIGHT
TZOFFSETFROM:-0800
TZOFFSETTO:-0700
TZNAME:PDT
DTSTART:20250309T100000
END:DAYLIGHT
BEGIN:STANDARD
TZOFFSETFROM:-0700
TZOFFSETTO:-0800
TZNAME:PST
DTSTART:20251102T090000
END:STANDARD
BEGIN:DAYLIGHT
TZOFFSETFROM:-0800
TZOFFSETTO:-0700
TZNAME:PDT
DTSTART:20260308T100000
END:DAYLIGHT
BEGIN:STANDARD
TZOFFSETFROM:-0700
TZOFFSETTO:-0800
TZNAME:PST
DTSTART:20261101T090000
END:STANDARD
BEGIN:DAYLIGHT
TZOFFSETFROM:-0800
TZOFFSETTO:-0700
TZNAME:PDT
DTSTART:20270314T100000
END:DAYLIGHT
BEGIN:STANDARD
TZOFFSETFROM:-0700
TZOFFSETTO:-0800
TZNAME:PST
DTSTART:20271107T090000
END:STANDARD
END:VTIMEZONE
BEGIN:VEVENT
DTSTART;TZID=America/Los_Angeles:20260916T093000
DTEND;TZID=America/Los_Angeles:20260916T103000
DTSTAMP:20260422T074330
CREATED:20250827T222718Z
LAST-MODIFIED:20260304T173057Z
UID:10024004-1789551000-1789554600@www.sinaitemple.org
SUMMARY:The Balance Class
DESCRIPTION:The 10/100 Program consists of six simple movements designed to grow your brain (neuroplasticity)\, improve your balance (proprioception) and strengthen your immune system. \nGroup Classes are FREE! Wednesdays from 9:30 -10:30 a.m. VIA ZOOM! \nClick HERE to join via Zoom during meeting time.
URL:https://www.sinaitemple.org/event/the-balance-class-2022-07-20-2/2026-09-16/
LOCATION:Sinai Temple
CATEGORIES:Events,Sisterhood
ATTACH;FMTTYPE=image/jpeg:https://www.sinaitemple.org/wp-content/uploads/2022/02/Untitled-design.jpg
END:VEVENT
BEGIN:VEVENT
DTSTART;TZID=America/Los_Angeles:20260916T103000
DTEND;TZID=America/Los_Angeles:20260916T120000
DTSTAMP:20260422T074330
CREATED:20251016T193001Z
LAST-MODIFIED:20251125T174414Z
UID:10033153-1789554600-1789560000@www.sinaitemple.org
SUMMARY:Art Workshop with Gail Rollman
DESCRIPTION:Wednesdays\, 10:30 AM–12:00 PM at Sinai | Weekly (Jewish holidays excepted) | $10 per class (materials included)Explore collage\, mixed media\, watercolor\, acrylic painting\, and crafts. Learn new techniques and have fun each week. Pay at the door. \nRSVP to Gail at garollman@yahoo.com.
URL:https://www.sinaitemple.org/event/art-workshop-with-gail-rollman-3/2026-09-16/
LOCATION:Sinai Temple
CATEGORIES:Sisterhood
ATTACH;FMTTYPE=image/jpeg:https://www.sinaitemple.org/wp-content/uploads/2025/10/Sushi-night-Amir-2.jpg
END:VEVENT
BEGIN:VEVENT
DTSTART;TZID=America/Los_Angeles:20260917T160000
DTEND;TZID=America/Los_Angeles:20260917T180000
DTSTAMP:20260422T074330
CREATED:20251016T192638Z
LAST-MODIFIED:20260420T232209Z
UID:10032893-1789660800-1789668000@www.sinaitemple.org
SUMMARY:Mah Jongg with Estelle Marco
DESCRIPTION:Thursdays\, 4:00–6:00 PM at Sinai | 8-week sessions | $100 per person \nFor beginners and intermediate players. Space is limited—first come\, first served. \nSession runs from April 16 to June 4. \nRSVP Here
URL:https://www.sinaitemple.org/event/mah-jongg-with-estelle-marco/2026-09-17/
LOCATION:Sinai Temple
CATEGORIES:Sisterhood
ATTACH;FMTTYPE=image/jpeg:https://www.sinaitemple.org/wp-content/uploads/2025/10/Sushi-night-Amir-1.jpg
END:VEVENT
BEGIN:VEVENT
DTSTART;TZID=America/Los_Angeles:20260921T120000
DTEND;TZID=America/Los_Angeles:20260921T140000
DTSTAMP:20260422T074330
CREATED:20251016T192307Z
LAST-MODIFIED:20260420T193211Z
UID:10033950-1789992000-1789999200@www.sinaitemple.org
SUMMARY:Calligraphy with DeAnn Singh
DESCRIPTION:Learn different pen point styles\, how to address invitations\, and create a small book using the Japanese stab binding technique. Click here to read a profile on DeAnn from ShoutoutLA. \nClick here to read a profile on DeAnn from ShoutoutLA.
URL:https://www.sinaitemple.org/event/calligraphy-with-deann-singh/2026-09-21/
LOCATION:Sinai Temple
CATEGORIES:Sisterhood
ATTACH;FMTTYPE=image/png:https://www.sinaitemple.org/wp-content/uploads/2025/10/Sushi-night-Amir-10.png
END:VEVENT
BEGIN:VEVENT
DTSTART;TZID=America/Los_Angeles:20260923T093000
DTEND;TZID=America/Los_Angeles:20260923T103000
DTSTAMP:20260422T074330
CREATED:20250827T222718Z
LAST-MODIFIED:20260304T173057Z
UID:10024005-1790155800-1790159400@www.sinaitemple.org
SUMMARY:The Balance Class
DESCRIPTION:The 10/100 Program consists of six simple movements designed to grow your brain (neuroplasticity)\, improve your balance (proprioception) and strengthen your immune system. \nGroup Classes are FREE! Wednesdays from 9:30 -10:30 a.m. VIA ZOOM! \nClick HERE to join via Zoom during meeting time.
URL:https://www.sinaitemple.org/event/the-balance-class-2022-07-20-2/2026-09-23/
LOCATION:Sinai Temple
CATEGORIES:Events,Sisterhood
ATTACH;FMTTYPE=image/jpeg:https://www.sinaitemple.org/wp-content/uploads/2022/02/Untitled-design.jpg
END:VEVENT
BEGIN:VEVENT
DTSTART;TZID=America/Los_Angeles:20260923T103000
DTEND;TZID=America/Los_Angeles:20260923T120000
DTSTAMP:20260422T074330
CREATED:20251016T193001Z
LAST-MODIFIED:20251125T174414Z
UID:10033154-1790159400-1790164800@www.sinaitemple.org
SUMMARY:Art Workshop with Gail Rollman
DESCRIPTION:Wednesdays\, 10:30 AM–12:00 PM at Sinai | Weekly (Jewish holidays excepted) | $10 per class (materials included)Explore collage\, mixed media\, watercolor\, acrylic painting\, and crafts. Learn new techniques and have fun each week. Pay at the door. \nRSVP to Gail at garollman@yahoo.com.
URL:https://www.sinaitemple.org/event/art-workshop-with-gail-rollman-3/2026-09-23/
LOCATION:Sinai Temple
CATEGORIES:Sisterhood
ATTACH;FMTTYPE=image/jpeg:https://www.sinaitemple.org/wp-content/uploads/2025/10/Sushi-night-Amir-2.jpg
END:VEVENT
BEGIN:VEVENT
DTSTART;TZID=America/Los_Angeles:20260924T160000
DTEND;TZID=America/Los_Angeles:20260924T180000
DTSTAMP:20260422T074330
CREATED:20251016T192638Z
LAST-MODIFIED:20260420T232209Z
UID:10032894-1790265600-1790272800@www.sinaitemple.org
SUMMARY:Mah Jongg with Estelle Marco
DESCRIPTION:Thursdays\, 4:00–6:00 PM at Sinai | 8-week sessions | $100 per person \nFor beginners and intermediate players. Space is limited—first come\, first served. \nSession runs from April 16 to June 4. \nRSVP Here
URL:https://www.sinaitemple.org/event/mah-jongg-with-estelle-marco/2026-09-24/
LOCATION:Sinai Temple
CATEGORIES:Sisterhood
ATTACH;FMTTYPE=image/jpeg:https://www.sinaitemple.org/wp-content/uploads/2025/10/Sushi-night-Amir-1.jpg
END:VEVENT
BEGIN:VEVENT
DTSTART;TZID=America/Los_Angeles:20260928T120000
DTEND;TZID=America/Los_Angeles:20260928T140000
DTSTAMP:20260422T074330
CREATED:20251016T192307Z
LAST-MODIFIED:20260420T193211Z
UID:10033951-1790596800-1790604000@www.sinaitemple.org
SUMMARY:Calligraphy with DeAnn Singh
DESCRIPTION:Learn different pen point styles\, how to address invitations\, and create a small book using the Japanese stab binding technique. Click here to read a profile on DeAnn from ShoutoutLA. \nClick here to read a profile on DeAnn from ShoutoutLA.
URL:https://www.sinaitemple.org/event/calligraphy-with-deann-singh/2026-09-28/
LOCATION:Sinai Temple
CATEGORIES:Sisterhood
ATTACH;FMTTYPE=image/png:https://www.sinaitemple.org/wp-content/uploads/2025/10/Sushi-night-Amir-10.png
END:VEVENT
BEGIN:VEVENT
DTSTART;TZID=America/Los_Angeles:20260930T093000
DTEND;TZID=America/Los_Angeles:20260930T103000
DTSTAMP:20260422T074331
CREATED:20250827T222718Z
LAST-MODIFIED:20260304T173057Z
UID:10024006-1790760600-1790764200@www.sinaitemple.org
SUMMARY:The Balance Class
DESCRIPTION:The 10/100 Program consists of six simple movements designed to grow your brain (neuroplasticity)\, improve your balance (proprioception) and strengthen your immune system. \nGroup Classes are FREE! Wednesdays from 9:30 -10:30 a.m. VIA ZOOM! \nClick HERE to join via Zoom during meeting time.
URL:https://www.sinaitemple.org/event/the-balance-class-2022-07-20-2/2026-09-30/
LOCATION:Sinai Temple
CATEGORIES:Events,Sisterhood
ATTACH;FMTTYPE=image/jpeg:https://www.sinaitemple.org/wp-content/uploads/2022/02/Untitled-design.jpg
END:VEVENT
BEGIN:VEVENT
DTSTART;TZID=America/Los_Angeles:20260930T103000
DTEND;TZID=America/Los_Angeles:20260930T120000
DTSTAMP:20260422T074331
CREATED:20251016T193001Z
LAST-MODIFIED:20251125T174414Z
UID:10033155-1790764200-1790769600@www.sinaitemple.org
SUMMARY:Art Workshop with Gail Rollman
DESCRIPTION:Wednesdays\, 10:30 AM–12:00 PM at Sinai | Weekly (Jewish holidays excepted) | $10 per class (materials included)Explore collage\, mixed media\, watercolor\, acrylic painting\, and crafts. Learn new techniques and have fun each week. Pay at the door. \nRSVP to Gail at garollman@yahoo.com.
URL:https://www.sinaitemple.org/event/art-workshop-with-gail-rollman-3/2026-09-30/
LOCATION:Sinai Temple
CATEGORIES:Sisterhood
ATTACH;FMTTYPE=image/jpeg:https://www.sinaitemple.org/wp-content/uploads/2025/10/Sushi-night-Amir-2.jpg
END:VEVENT
BEGIN:VEVENT
DTSTART;TZID=America/Los_Angeles:20261001T160000
DTEND;TZID=America/Los_Angeles:20261001T180000
DTSTAMP:20260422T074331
CREATED:20251016T192638Z
LAST-MODIFIED:20260420T232209Z
UID:10032895-1790870400-1790877600@www.sinaitemple.org
SUMMARY:Mah Jongg with Estelle Marco
DESCRIPTION:Thursdays\, 4:00–6:00 PM at Sinai | 8-week sessions | $100 per person \nFor beginners and intermediate players. Space is limited—first come\, first served. \nSession runs from April 16 to June 4. \nRSVP Here
URL:https://www.sinaitemple.org/event/mah-jongg-with-estelle-marco/2026-10-01/
LOCATION:Sinai Temple
CATEGORIES:Sisterhood
ATTACH;FMTTYPE=image/jpeg:https://www.sinaitemple.org/wp-content/uploads/2025/10/Sushi-night-Amir-1.jpg
END:VEVENT
BEGIN:VEVENT
DTSTART;TZID=America/Los_Angeles:20261005T120000
DTEND;TZID=America/Los_Angeles:20261005T140000
DTSTAMP:20260422T074331
CREATED:20251016T192307Z
LAST-MODIFIED:20260420T193211Z
UID:10033952-1791201600-1791208800@www.sinaitemple.org
SUMMARY:Calligraphy with DeAnn Singh
DESCRIPTION:Learn different pen point styles\, how to address invitations\, and create a small book using the Japanese stab binding technique. Click here to read a profile on DeAnn from ShoutoutLA. \nClick here to read a profile on DeAnn from ShoutoutLA.
URL:https://www.sinaitemple.org/event/calligraphy-with-deann-singh/2026-10-05/
LOCATION:Sinai Temple
CATEGORIES:Sisterhood
ATTACH;FMTTYPE=image/png:https://www.sinaitemple.org/wp-content/uploads/2025/10/Sushi-night-Amir-10.png
END:VEVENT
BEGIN:VEVENT
DTSTART;TZID=America/Los_Angeles:20261007T093000
DTEND;TZID=America/Los_Angeles:20261007T103000
DTSTAMP:20260422T074331
CREATED:20250827T222718Z
LAST-MODIFIED:20260304T173057Z
UID:10024007-1791365400-1791369000@www.sinaitemple.org
SUMMARY:The Balance Class
DESCRIPTION:The 10/100 Program consists of six simple movements designed to grow your brain (neuroplasticity)\, improve your balance (proprioception) and strengthen your immune system. \nGroup Classes are FREE! Wednesdays from 9:30 -10:30 a.m. VIA ZOOM! \nClick HERE to join via Zoom during meeting time.
URL:https://www.sinaitemple.org/event/the-balance-class-2022-07-20-2/2026-10-07/
LOCATION:Sinai Temple
CATEGORIES:Events,Sisterhood
ATTACH;FMTTYPE=image/jpeg:https://www.sinaitemple.org/wp-content/uploads/2022/02/Untitled-design.jpg
END:VEVENT
BEGIN:VEVENT
DTSTART;TZID=America/Los_Angeles:20261007T103000
DTEND;TZID=America/Los_Angeles:20261007T120000
DTSTAMP:20260422T074331
CREATED:20251016T193001Z
LAST-MODIFIED:20251125T174414Z
UID:10033156-1791369000-1791374400@www.sinaitemple.org
SUMMARY:Art Workshop with Gail Rollman
DESCRIPTION:Wednesdays\, 10:30 AM–12:00 PM at Sinai | Weekly (Jewish holidays excepted) | $10 per class (materials included)Explore collage\, mixed media\, watercolor\, acrylic painting\, and crafts. Learn new techniques and have fun each week. Pay at the door. \nRSVP to Gail at garollman@yahoo.com.
URL:https://www.sinaitemple.org/event/art-workshop-with-gail-rollman-3/2026-10-07/
LOCATION:Sinai Temple
CATEGORIES:Sisterhood
ATTACH;FMTTYPE=image/jpeg:https://www.sinaitemple.org/wp-content/uploads/2025/10/Sushi-night-Amir-2.jpg
END:VEVENT
BEGIN:VEVENT
DTSTART;TZID=America/Los_Angeles:20261008T160000
DTEND;TZID=America/Los_Angeles:20261008T180000
DTSTAMP:20260422T074331
CREATED:20251016T192638Z
LAST-MODIFIED:20260420T232209Z
UID:10032896-1791475200-1791482400@www.sinaitemple.org
SUMMARY:Mah Jongg with Estelle Marco
DESCRIPTION:Thursdays\, 4:00–6:00 PM at Sinai | 8-week sessions | $100 per person \nFor beginners and intermediate players. Space is limited—first come\, first served. \nSession runs from April 16 to June 4. \nRSVP Here
URL:https://www.sinaitemple.org/event/mah-jongg-with-estelle-marco/2026-10-08/
LOCATION:Sinai Temple
CATEGORIES:Sisterhood
ATTACH;FMTTYPE=image/jpeg:https://www.sinaitemple.org/wp-content/uploads/2025/10/Sushi-night-Amir-1.jpg
END:VEVENT
BEGIN:VEVENT
DTSTART;TZID=America/Los_Angeles:20261012T120000
DTEND;TZID=America/Los_Angeles:20261012T140000
DTSTAMP:20260422T074331
CREATED:20251016T192307Z
LAST-MODIFIED:20260420T193211Z
UID:10033953-1791806400-1791813600@www.sinaitemple.org
SUMMARY:Calligraphy with DeAnn Singh
DESCRIPTION:Learn different pen point styles\, how to address invitations\, and create a small book using the Japanese stab binding technique. Click here to read a profile on DeAnn from ShoutoutLA. \nClick here to read a profile on DeAnn from ShoutoutLA.
URL:https://www.sinaitemple.org/event/calligraphy-with-deann-singh/2026-10-12/
LOCATION:Sinai Temple
CATEGORIES:Sisterhood
ATTACH;FMTTYPE=image/png:https://www.sinaitemple.org/wp-content/uploads/2025/10/Sushi-night-Amir-10.png
END:VEVENT
BEGIN:VEVENT
DTSTART;TZID=America/Los_Angeles:20261014T093000
DTEND;TZID=America/Los_Angeles:20261014T103000
DTSTAMP:20260422T074331
CREATED:20250827T222718Z
LAST-MODIFIED:20260304T173057Z
UID:10024008-1791970200-1791973800@www.sinaitemple.org
SUMMARY:The Balance Class
DESCRIPTION:The 10/100 Program consists of six simple movements designed to grow your brain (neuroplasticity)\, improve your balance (proprioception) and strengthen your immune system. \nGroup Classes are FREE! Wednesdays from 9:30 -10:30 a.m. VIA ZOOM! \nClick HERE to join via Zoom during meeting time.
URL:https://www.sinaitemple.org/event/the-balance-class-2022-07-20-2/2026-10-14/
LOCATION:Sinai Temple
CATEGORIES:Events,Sisterhood
ATTACH;FMTTYPE=image/jpeg:https://www.sinaitemple.org/wp-content/uploads/2022/02/Untitled-design.jpg
END:VEVENT
BEGIN:VEVENT
DTSTART;TZID=America/Los_Angeles:20261014T103000
DTEND;TZID=America/Los_Angeles:20261014T120000
DTSTAMP:20260422T074331
CREATED:20251016T193001Z
LAST-MODIFIED:20251125T174414Z
UID:10033157-1791973800-1791979200@www.sinaitemple.org
SUMMARY:Art Workshop with Gail Rollman
DESCRIPTION:Wednesdays\, 10:30 AM–12:00 PM at Sinai | Weekly (Jewish holidays excepted) | $10 per class (materials included)Explore collage\, mixed media\, watercolor\, acrylic painting\, and crafts. Learn new techniques and have fun each week. Pay at the door. \nRSVP to Gail at garollman@yahoo.com.
URL:https://www.sinaitemple.org/event/art-workshop-with-gail-rollman-3/2026-10-14/
LOCATION:Sinai Temple
CATEGORIES:Sisterhood
ATTACH;FMTTYPE=image/jpeg:https://www.sinaitemple.org/wp-content/uploads/2025/10/Sushi-night-Amir-2.jpg
END:VEVENT
BEGIN:VEVENT
DTSTART;TZID=America/Los_Angeles:20261015T160000
DTEND;TZID=America/Los_Angeles:20261015T180000
DTSTAMP:20260422T074331
CREATED:20251016T192638Z
LAST-MODIFIED:20260420T232209Z
UID:10032897-1792080000-1792087200@www.sinaitemple.org
SUMMARY:Mah Jongg with Estelle Marco
DESCRIPTION:Thursdays\, 4:00–6:00 PM at Sinai | 8-week sessions | $100 per person \nFor beginners and intermediate players. Space is limited—first come\, first served. \nSession runs from April 16 to June 4. \nRSVP Here
URL:https://www.sinaitemple.org/event/mah-jongg-with-estelle-marco/2026-10-15/
LOCATION:Sinai Temple
CATEGORIES:Sisterhood
ATTACH;FMTTYPE=image/jpeg:https://www.sinaitemple.org/wp-content/uploads/2025/10/Sushi-night-Amir-1.jpg
END:VEVENT
BEGIN:VEVENT
DTSTART;TZID=America/Los_Angeles:20261019T120000
DTEND;TZID=America/Los_Angeles:20261019T140000
DTSTAMP:20260422T074331
CREATED:20251016T192307Z
LAST-MODIFIED:20260420T193211Z
UID:10033954-1792411200-1792418400@www.sinaitemple.org
SUMMARY:Calligraphy with DeAnn Singh
DESCRIPTION:Learn different pen point styles\, how to address invitations\, and create a small book using the Japanese stab binding technique. Click here to read a profile on DeAnn from ShoutoutLA. \nClick here to read a profile on DeAnn from ShoutoutLA.
URL:https://www.sinaitemple.org/event/calligraphy-with-deann-singh/2026-10-19/
LOCATION:Sinai Temple
CATEGORIES:Sisterhood
ATTACH;FMTTYPE=image/png:https://www.sinaitemple.org/wp-content/uploads/2025/10/Sushi-night-Amir-10.png
END:VEVENT
BEGIN:VEVENT
DTSTART;TZID=America/Los_Angeles:20261021T093000
DTEND;TZID=America/Los_Angeles:20261021T103000
DTSTAMP:20260422T074331
CREATED:20250827T222718Z
LAST-MODIFIED:20260304T173057Z
UID:10024009-1792575000-1792578600@www.sinaitemple.org
SUMMARY:The Balance Class
DESCRIPTION:The 10/100 Program consists of six simple movements designed to grow your brain (neuroplasticity)\, improve your balance (proprioception) and strengthen your immune system. \nGroup Classes are FREE! Wednesdays from 9:30 -10:30 a.m. VIA ZOOM! \nClick HERE to join via Zoom during meeting time.
URL:https://www.sinaitemple.org/event/the-balance-class-2022-07-20-2/2026-10-21/
LOCATION:Sinai Temple
CATEGORIES:Events,Sisterhood
ATTACH;FMTTYPE=image/jpeg:https://www.sinaitemple.org/wp-content/uploads/2022/02/Untitled-design.jpg
END:VEVENT
BEGIN:VEVENT
DTSTART;TZID=America/Los_Angeles:20261021T103000
DTEND;TZID=America/Los_Angeles:20261021T120000
DTSTAMP:20260422T074331
CREATED:20251016T193001Z
LAST-MODIFIED:20251125T174414Z
UID:10033158-1792578600-1792584000@www.sinaitemple.org
SUMMARY:Art Workshop with Gail Rollman
DESCRIPTION:Wednesdays\, 10:30 AM–12:00 PM at Sinai | Weekly (Jewish holidays excepted) | $10 per class (materials included)Explore collage\, mixed media\, watercolor\, acrylic painting\, and crafts. Learn new techniques and have fun each week. Pay at the door. \nRSVP to Gail at garollman@yahoo.com.
URL:https://www.sinaitemple.org/event/art-workshop-with-gail-rollman-3/2026-10-21/
LOCATION:Sinai Temple
CATEGORIES:Sisterhood
ATTACH;FMTTYPE=image/jpeg:https://www.sinaitemple.org/wp-content/uploads/2025/10/Sushi-night-Amir-2.jpg
END:VEVENT
BEGIN:VEVENT
DTSTART;TZID=America/Los_Angeles:20261022T160000
DTEND;TZID=America/Los_Angeles:20261022T180000
DTSTAMP:20260422T074331
CREATED:20251016T192638Z
LAST-MODIFIED:20260420T232209Z
UID:10032898-1792684800-1792692000@www.sinaitemple.org
SUMMARY:Mah Jongg with Estelle Marco
DESCRIPTION:Thursdays\, 4:00–6:00 PM at Sinai | 8-week sessions | $100 per person \nFor beginners and intermediate players. Space is limited—first come\, first served. \nSession runs from April 16 to June 4. \nRSVP Here
URL:https://www.sinaitemple.org/event/mah-jongg-with-estelle-marco/2026-10-22/
LOCATION:Sinai Temple
CATEGORIES:Sisterhood
ATTACH;FMTTYPE=image/jpeg:https://www.sinaitemple.org/wp-content/uploads/2025/10/Sushi-night-Amir-1.jpg
END:VEVENT
BEGIN:VEVENT
DTSTART;TZID=America/Los_Angeles:20261026T120000
DTEND;TZID=America/Los_Angeles:20261026T140000
DTSTAMP:20260422T074331
CREATED:20251016T192307Z
LAST-MODIFIED:20260420T193211Z
UID:10033955-1793016000-1793023200@www.sinaitemple.org
SUMMARY:Calligraphy with DeAnn Singh
DESCRIPTION:Learn different pen point styles\, how to address invitations\, and create a small book using the Japanese stab binding technique. Click here to read a profile on DeAnn from ShoutoutLA. \nClick here to read a profile on DeAnn from ShoutoutLA.
URL:https://www.sinaitemple.org/event/calligraphy-with-deann-singh/2026-10-26/
LOCATION:Sinai Temple
CATEGORIES:Sisterhood
ATTACH;FMTTYPE=image/png:https://www.sinaitemple.org/wp-content/uploads/2025/10/Sushi-night-Amir-10.png
END:VEVENT
BEGIN:VEVENT
DTSTART;TZID=America/Los_Angeles:20261028T093000
DTEND;TZID=America/Los_Angeles:20261028T103000
DTSTAMP:20260422T074331
CREATED:20250827T222718Z
LAST-MODIFIED:20260304T173057Z
UID:10024010-1793179800-1793183400@www.sinaitemple.org
SUMMARY:The Balance Class
DESCRIPTION:The 10/100 Program consists of six simple movements designed to grow your brain (neuroplasticity)\, improve your balance (proprioception) and strengthen your immune system. \nGroup Classes are FREE! Wednesdays from 9:30 -10:30 a.m. VIA ZOOM! \nClick HERE to join via Zoom during meeting time.
URL:https://www.sinaitemple.org/event/the-balance-class-2022-07-20-2/2026-10-28/
LOCATION:Sinai Temple
CATEGORIES:Events,Sisterhood
ATTACH;FMTTYPE=image/jpeg:https://www.sinaitemple.org/wp-content/uploads/2022/02/Untitled-design.jpg
END:VEVENT
BEGIN:VEVENT
DTSTART;TZID=America/Los_Angeles:20261028T103000
DTEND;TZID=America/Los_Angeles:20261028T120000
DTSTAMP:20260422T074331
CREATED:20251016T193001Z
LAST-MODIFIED:20251125T174414Z
UID:10033159-1793183400-1793188800@www.sinaitemple.org
SUMMARY:Art Workshop with Gail Rollman
DESCRIPTION:Wednesdays\, 10:30 AM–12:00 PM at Sinai | Weekly (Jewish holidays excepted) | $10 per class (materials included)Explore collage\, mixed media\, watercolor\, acrylic painting\, and crafts. Learn new techniques and have fun each week. Pay at the door. \nRSVP to Gail at garollman@yahoo.com.
URL:https://www.sinaitemple.org/event/art-workshop-with-gail-rollman-3/2026-10-28/
LOCATION:Sinai Temple
CATEGORIES:Sisterhood
ATTACH;FMTTYPE=image/jpeg:https://www.sinaitemple.org/wp-content/uploads/2025/10/Sushi-night-Amir-2.jpg
END:VEVENT
BEGIN:VEVENT
DTSTART;TZID=America/Los_Angeles:20261029T160000
DTEND;TZID=America/Los_Angeles:20261029T180000
DTSTAMP:20260422T074331
CREATED:20251016T192638Z
LAST-MODIFIED:20260420T232209Z
UID:10032899-1793289600-1793296800@www.sinaitemple.org
SUMMARY:Mah Jongg with Estelle Marco
DESCRIPTION:Thursdays\, 4:00–6:00 PM at Sinai | 8-week sessions | $100 per person \nFor beginners and intermediate players. Space is limited—first come\, first served. \nSession runs from April 16 to June 4. \nRSVP Here
URL:https://www.sinaitemple.org/event/mah-jongg-with-estelle-marco/2026-10-29/
LOCATION:Sinai Temple
CATEGORIES:Sisterhood
ATTACH;FMTTYPE=image/jpeg:https://www.sinaitemple.org/wp-content/uploads/2025/10/Sushi-night-Amir-1.jpg
END:VEVENT
BEGIN:VEVENT
DTSTART;TZID=America/Los_Angeles:20261102T120000
DTEND;TZID=America/Los_Angeles:20261102T140000
DTSTAMP:20260422T074331
CREATED:20251016T192307Z
LAST-MODIFIED:20260420T193211Z
UID:10033956-1793620800-1793628000@www.sinaitemple.org
SUMMARY:Calligraphy with DeAnn Singh
DESCRIPTION:Learn different pen point styles\, how to address invitations\, and create a small book using the Japanese stab binding technique. Click here to read a profile on DeAnn from ShoutoutLA. \nClick here to read a profile on DeAnn from ShoutoutLA.
URL:https://www.sinaitemple.org/event/calligraphy-with-deann-singh/2026-11-02/
LOCATION:Sinai Temple
CATEGORIES:Sisterhood
ATTACH;FMTTYPE=image/png:https://www.sinaitemple.org/wp-content/uploads/2025/10/Sushi-night-Amir-10.png
END:VEVENT
BEGIN:VEVENT
DTSTART;TZID=America/Los_Angeles:20261104T093000
DTEND;TZID=America/Los_Angeles:20261104T103000
DTSTAMP:20260422T074331
CREATED:20250827T222718Z
LAST-MODIFIED:20260304T173057Z
UID:10024011-1793784600-1793788200@www.sinaitemple.org
SUMMARY:The Balance Class
DESCRIPTION:The 10/100 Program consists of six simple movements designed to grow your brain (neuroplasticity)\, improve your balance (proprioception) and strengthen your immune system. \nGroup Classes are FREE! Wednesdays from 9:30 -10:30 a.m. VIA ZOOM! \nClick HERE to join via Zoom during meeting time.
URL:https://www.sinaitemple.org/event/the-balance-class-2022-07-20-2/2026-11-04/
LOCATION:Sinai Temple
CATEGORIES:Events,Sisterhood
ATTACH;FMTTYPE=image/jpeg:https://www.sinaitemple.org/wp-content/uploads/2022/02/Untitled-design.jpg
END:VEVENT
BEGIN:VEVENT
DTSTART;TZID=America/Los_Angeles:20261104T103000
DTEND;TZID=America/Los_Angeles:20261104T120000
DTSTAMP:20260422T074331
CREATED:20251016T193001Z
LAST-MODIFIED:20251125T174414Z
UID:10033160-1793788200-1793793600@www.sinaitemple.org
SUMMARY:Art Workshop with Gail Rollman
DESCRIPTION:Wednesdays\, 10:30 AM–12:00 PM at Sinai | Weekly (Jewish holidays excepted) | $10 per class (materials included)Explore collage\, mixed media\, watercolor\, acrylic painting\, and crafts. Learn new techniques and have fun each week. Pay at the door. \nRSVP to Gail at garollman@yahoo.com.
URL:https://www.sinaitemple.org/event/art-workshop-with-gail-rollman-3/2026-11-04/
LOCATION:Sinai Temple
CATEGORIES:Sisterhood
ATTACH;FMTTYPE=image/jpeg:https://www.sinaitemple.org/wp-content/uploads/2025/10/Sushi-night-Amir-2.jpg
END:VEVENT
END:VCALENDAR