BEGIN:VCALENDAR
VERSION:2.0
PRODID:-//Sinai Temple - ECPv6.15.18//NONSGML v1.0//EN
CALSCALE:GREGORIAN
METHOD:PUBLISH
X-WR-CALNAME:Sinai Temple
X-ORIGINAL-URL:https://www.sinaitemple.org
X-WR-CALDESC:Events for Sinai Temple
REFRESH-INTERVAL;VALUE=DURATION:PT1H
X-Robots-Tag:noindex
X-PUBLISHED-TTL:PT1H
BEGIN:VTIMEZONE
TZID:America/Los_Angeles
BEGIN:DAYLIGHT
TZOFFSETFROM:-0800
TZOFFSETTO:-0700
TZNAME:PDT
DTSTART:20200308T100000
END:DAYLIGHT
BEGIN:STANDARD
TZOFFSETFROM:-0700
TZOFFSETTO:-0800
TZNAME:PST
DTSTART:20201101T090000
END:STANDARD
BEGIN:DAYLIGHT
TZOFFSETFROM:-0800
TZOFFSETTO:-0700
TZNAME:PDT
DTSTART:20210314T100000
END:DAYLIGHT
BEGIN:STANDARD
TZOFFSETFROM:-0700
TZOFFSETTO:-0800
TZNAME:PST
DTSTART:20211107T090000
END:STANDARD
BEGIN:DAYLIGHT
TZOFFSETFROM:-0800
TZOFFSETTO:-0700
TZNAME:PDT
DTSTART:20220313T100000
END:DAYLIGHT
BEGIN:STANDARD
TZOFFSETFROM:-0700
TZOFFSETTO:-0800
TZNAME:PST
DTSTART:20221106T090000
END:STANDARD
END:VTIMEZONE
BEGIN:VEVENT
DTSTART;TZID=America/Los_Angeles:20210922T100000
DTEND;TZID=America/Los_Angeles:20210922T120000
DTSTAMP:20260420T053911
CREATED:20210729T201500Z
LAST-MODIFIED:20210729T201500Z
UID:10015514-1632304800-1632312000@www.sinaitemple.org
SUMMARY:Sukkot Yeladim
DESCRIPTION:
URL:https://www.sinaitemple.org/event/sukkot-yeladim-2/
LOCATION:Sinai Temple
CATEGORIES:Holiday Services,Holidays
END:VEVENT
BEGIN:VEVENT
DTSTART;TZID=America/Los_Angeles:20210922T090000
DTEND;TZID=America/Los_Angeles:20210922T123000
DTSTAMP:20260420T053911
CREATED:20210729T201355Z
LAST-MODIFIED:20210729T201355Z
UID:10015512-1632301200-1632313800@www.sinaitemple.org
SUMMARY:Second Day of Sukkot Kohn Chapel Service
DESCRIPTION:
URL:https://www.sinaitemple.org/event/second-day-of-sukkot-kohn-chapel-service/
LOCATION:Sinai Temple
CATEGORIES:Holiday Services,Holidays
END:VEVENT
BEGIN:VEVENT
DTSTART;TZID=America/Los_Angeles:20210921T174500
DTEND;TZID=America/Los_Angeles:20210921T184500
DTSTAMP:20260420T053911
CREATED:20210729T201157Z
LAST-MODIFIED:20210729T201157Z
UID:10015511-1632246300-1632249900@www.sinaitemple.org
SUMMARY:First Day of Sukkot Mincha/Ma’ariv in Kohn Chapel
DESCRIPTION:
URL:https://www.sinaitemple.org/event/first-day-of-sukkot-mincha-maariv-in-kohn-chapel/
LOCATION:Sinai Temple
CATEGORIES:Holiday Services,Holidays
END:VEVENT
BEGIN:VEVENT
DTSTART;TZID=America/Los_Angeles:20210921T090000
DTEND;TZID=America/Los_Angeles:20210921T123000
DTSTAMP:20260420T053911
CREATED:20210729T201029Z
LAST-MODIFIED:20210729T201029Z
UID:10015510-1632214800-1632227400@www.sinaitemple.org
SUMMARY:First Day of Sukkot Service in Ziegler Sanctuary
DESCRIPTION:
URL:https://www.sinaitemple.org/event/first-day-of-sukkot-service-in-ziegler-sanctuary/
LOCATION:Sinai Temple
CATEGORIES:Holiday Services,Holidays
END:VEVENT
BEGIN:VEVENT
DTSTART;TZID=America/Los_Angeles:20210920T174500
DTEND;TZID=America/Los_Angeles:20210920T184500
DTSTAMP:20260420T053911
CREATED:20210729T200852Z
LAST-MODIFIED:20210729T200852Z
UID:10015505-1632159900-1632163500@www.sinaitemple.org
SUMMARY:Erev Sukkot Mincha/Ma’ariv in Kohn Chapel
DESCRIPTION:
URL:https://www.sinaitemple.org/event/erev-sukkot-mincha-maariv-in-kohn-chapel/
LOCATION:Sinai Temple
CATEGORIES:Holiday Services,Holidays
END:VEVENT
BEGIN:VEVENT
DTSTART;TZID=America/Los_Angeles:20210916T193000
DTEND;TZID=America/Los_Angeles:20210916T203000
DTSTAMP:20260420T053911
CREATED:20210729T200340Z
LAST-MODIFIED:20210729T200340Z
UID:10015497-1631820600-1631824200@www.sinaitemple.org
SUMMARY:Blowing of the Shofar
DESCRIPTION:Please note the time is approximate.
URL:https://www.sinaitemple.org/event/blowing-of-the-shofar/
LOCATION:Sinai Temple
CATEGORIES:Holiday Services
END:VEVENT
BEGIN:VEVENT
DTSTART;TZID=America/Los_Angeles:20210916T180000
DTEND;TZID=America/Los_Angeles:20210916T200000
DTSTAMP:20260420T053911
CREATED:20210729T200304Z
LAST-MODIFIED:20210913T175007Z
UID:10022248-1631815200-1631822400@www.sinaitemple.org
SUMMARY:OFFSITE Neilah Service
DESCRIPTION:
URL:https://www.sinaitemple.org/event/neilah-torah-in-the-round-on-3rd-floor/
LOCATION:Sinai Temple
CATEGORIES:Holiday Services,Holidays
END:VEVENT
BEGIN:VEVENT
DTSTART;TZID=America/Los_Angeles:20210916T180000
DTEND;TZID=America/Los_Angeles:20210916T200000
DTSTAMP:20260420T053911
CREATED:20210729T200234Z
LAST-MODIFIED:20210913T174932Z
UID:10022247-1631815200-1631822400@www.sinaitemple.org
SUMMARY:Neilah: Family Minyan
DESCRIPTION:Kohn Chapel
URL:https://www.sinaitemple.org/event/neilah-family-minyan-in-gold-hall/
LOCATION:Sinai Temple
CATEGORIES:Holiday Services,Holidays
END:VEVENT
BEGIN:VEVENT
DTSTART;TZID=America/Los_Angeles:20210916T180000
DTEND;TZID=America/Los_Angeles:20210916T200000
DTSTAMP:20260420T053911
CREATED:20210729T200146Z
LAST-MODIFIED:20210729T200146Z
UID:10022246-1631815200-1631822400@www.sinaitemple.org
SUMMARY:Neilah: Barad Hall
DESCRIPTION:
URL:https://www.sinaitemple.org/event/neilah-barad-hall/
LOCATION:Sinai Temple
CATEGORIES:Holiday Services,Holidays
END:VEVENT
BEGIN:VEVENT
DTSTART;TZID=America/Los_Angeles:20210916T180000
DTEND;TZID=America/Los_Angeles:20210916T200000
DTSTAMP:20260420T053911
CREATED:20210729T200119Z
LAST-MODIFIED:20210729T200119Z
UID:10022245-1631815200-1631822400@www.sinaitemple.org
SUMMARY:Neilah: Ruth & Allen Ziegler Sanctuary
DESCRIPTION:
URL:https://www.sinaitemple.org/event/neilah-ruth-allen-ziegler-sanctuary/
LOCATION:Sinai Temple
CATEGORIES:Holiday Services,Holidays
END:VEVENT
BEGIN:VEVENT
DTSTART;TZID=America/Los_Angeles:20210916T163000
DTEND;TZID=America/Los_Angeles:20210916T180000
DTSTAMP:20260420T053911
CREATED:20210729T195830Z
LAST-MODIFIED:20210913T174751Z
UID:10022244-1631809800-1631815200@www.sinaitemple.org
SUMMARY:Mincha
DESCRIPTION:Ziegler Sanctuary
URL:https://www.sinaitemple.org/event/ruth-allen-ziegler-sanctuary-mincha-2/
LOCATION:Sinai Temple
CATEGORIES:Holiday Services,Holidays
END:VEVENT
BEGIN:VEVENT
DTSTART;TZID=America/Los_Angeles:20210916T150000
DTEND;TZID=America/Los_Angeles:20210916T160000
DTSTAMP:20260420T053911
CREATED:20210729T195446Z
LAST-MODIFIED:20210913T174635Z
UID:10022240-1631804400-1631808000@www.sinaitemple.org
SUMMARY:Community Yizkor Service
DESCRIPTION:Ziegler Sanctuary
URL:https://www.sinaitemple.org/event/yom-kippur-sermon-yizkor/
LOCATION:Sinai Temple
CATEGORIES:Holiday Services,Holidays
END:VEVENT
BEGIN:VEVENT
DTSTART;TZID=America/Los_Angeles:20210916T100000
DTEND;TZID=America/Los_Angeles:20210916T130000
DTSTAMP:20260420T053911
CREATED:20210729T195530Z
LAST-MODIFIED:20210913T174512Z
UID:10022241-1631786400-1631797200@www.sinaitemple.org
SUMMARY:Yom Kippur Barad Hall Service
DESCRIPTION:
URL:https://www.sinaitemple.org/event/yom-kippur-barad-hall-service/
LOCATION:Sinai Temple
CATEGORIES:Holiday Services,Holidays
END:VEVENT
BEGIN:VEVENT
DTSTART;TZID=America/Los_Angeles:20210916T100000
DTEND;TZID=America/Los_Angeles:20210916T123000
DTSTAMP:20260420T053911
CREATED:20210729T195649Z
LAST-MODIFIED:20210913T174548Z
UID:10022243-1631786400-1631795400@www.sinaitemple.org
SUMMARY:OFFSITE: Yom Kippur Morning Service
DESCRIPTION:
URL:https://www.sinaitemple.org/event/yom-kippur-torah-in-the-round-service/
LOCATION:Sinai Temple
CATEGORIES:Holiday Services,Holidays
END:VEVENT
BEGIN:VEVENT
DTSTART;TZID=America/Los_Angeles:20210916T090000
DTEND;TZID=America/Los_Angeles:20210916T100000
DTSTAMP:20260420T053911
CREATED:20210729T195157Z
LAST-MODIFIED:20210729T195157Z
UID:10022238-1631782800-1631786400@www.sinaitemple.org
SUMMARY:Yom Kippur P’sukei d’Zimrah in Kohn Chapel
DESCRIPTION:
URL:https://www.sinaitemple.org/event/yom-kippur-psukei-dzimrah-in-kohn-chapel/
LOCATION:Sinai Temple
CATEGORIES:Holiday Services,Holidays
END:VEVENT
BEGIN:VEVENT
DTSTART;TZID=America/Los_Angeles:20210915T180000
DTEND;TZID=America/Los_Angeles:20210915T210000
DTSTAMP:20260420T053911
CREATED:20210729T174342Z
LAST-MODIFIED:20210913T162536Z
UID:10022237-1631728800-1631739600@www.sinaitemple.org
SUMMARY:OFFSITE: Kol Nidre Torah in the Round
DESCRIPTION:
URL:https://www.sinaitemple.org/event/kol-nidre-torah-in-the-round/
LOCATION:Sinai Temple
CATEGORIES:Holiday Services,Holidays
END:VEVENT
BEGIN:VEVENT
DTSTART;TZID=America/Los_Angeles:20210915T180000
DTEND;TZID=America/Los_Angeles:20210915T210000
DTSTAMP:20260420T053911
CREATED:20210729T174228Z
LAST-MODIFIED:20210913T162455Z
UID:10022236-1631728800-1631739600@www.sinaitemple.org
SUMMARY:Kol Nidre Family Minyan
DESCRIPTION:Kohn Chapel
URL:https://www.sinaitemple.org/event/kol-nidre-family-minyan-in-gold-hall/
LOCATION:Sinai Temple
CATEGORIES:Holiday Services,Holidays
END:VEVENT
BEGIN:VEVENT
DTSTART;TZID=America/Los_Angeles:20210915T180000
DTEND;TZID=America/Los_Angeles:20210915T210000
DTSTAMP:20260420T053911
CREATED:20210729T173942Z
LAST-MODIFIED:20210729T173942Z
UID:10022235-1631728800-1631739600@www.sinaitemple.org
SUMMARY:Kol Nidre Barad Hall
DESCRIPTION:
URL:https://www.sinaitemple.org/event/kol-nidre-barad-hall/
LOCATION:Sinai Temple
CATEGORIES:Holiday Services,Holidays
END:VEVENT
BEGIN:VEVENT
DTSTART;TZID=America/Los_Angeles:20210915T180000
DTEND;TZID=America/Los_Angeles:20210915T210000
DTSTAMP:20260420T053911
CREATED:20210729T173835Z
LAST-MODIFIED:20210729T173835Z
UID:10022234-1631728800-1631739600@www.sinaitemple.org
SUMMARY:Kol Nidre Ruth & Allen Ziegler Sanctuary
DESCRIPTION:
URL:https://www.sinaitemple.org/event/kol-nidre-ruth-allen-ziegler-sanctuary/
LOCATION:Sinai Temple
CATEGORIES:Holiday Services,Holidays
END:VEVENT
BEGIN:VEVENT
DTSTART;TZID=America/Los_Angeles:20210912T160000
DTEND;TZID=America/Los_Angeles:20210912T170000
DTSTAMP:20260420T053911
CREATED:20210831T205836Z
LAST-MODIFIED:20210831T205836Z
UID:10015549-1631462400-1631466000@www.sinaitemple.org
SUMMARY:Tashlich at the Beach
DESCRIPTION:Tashlich comes from the Hebrew word meaning “to cast\,” referring to the intent to cast away our sins. As we welcome the New Year\, join us for a Tashlich service at the beach led by Rabbis Nicole Guzik and Erez Sherman. Please bring your own bread crumbs to cast away your transgressions. \nThis event is free and open to the community\, but please RSVP HERE. \nMeet in front of the Hotel Casa del Mar at the end of the Santa Monica boardwalk.
URL:https://www.sinaitemple.org/event/tashlich-at-the-beach-3/
LOCATION:Sinai Temple
CATEGORIES:Events,Holiday Services,Holidays
ATTACH;FMTTYPE=image/jpeg:https://www.sinaitemple.org/wp-content/uploads/2021/08/Beach.jpeg
END:VEVENT
BEGIN:VEVENT
DTSTART;TZID=America/Los_Angeles:20210908T210000
DTEND;TZID=America/Los_Angeles:20210908T220000
DTSTAMP:20260420T053911
CREATED:20210729T173701Z
LAST-MODIFIED:20210902T173740Z
UID:10022233-1631134800-1631138400@www.sinaitemple.org
SUMMARY:Maariv and Havdalah (Online Only)
DESCRIPTION:
URL:https://www.sinaitemple.org/event/second-day-of-rosh-hashanah-mincha-in-kohn-chapel/
LOCATION:Sinai Temple
CATEGORIES:Holiday Services,Holidays
END:VEVENT
BEGIN:VEVENT
DTSTART;TZID=America/Los_Angeles:20210908T085000
DTEND;TZID=America/Los_Angeles:20210908T123000
DTSTAMP:20260420T053911
CREATED:20210729T171747Z
LAST-MODIFIED:20210729T171747Z
UID:10015478-1631091000-1631104200@www.sinaitemple.org
SUMMARY:Second Day of Rosh Hashanah Ruth & Allen Ziegler Sanctuary and Torah in the Round Combined
DESCRIPTION:
URL:https://www.sinaitemple.org/event/second-day-of-rosh-hashanah-ruth-allen-ziegler-sanctuary-and-torah-in-the-round-combined/
LOCATION:Sinai Temple
CATEGORIES:Holiday Services,Holidays
END:VEVENT
BEGIN:VEVENT
DTSTART;TZID=America/Los_Angeles:20210908T083000
DTEND;TZID=America/Los_Angeles:20210908T093000
DTSTAMP:20260420T053911
CREATED:20210729T171706Z
LAST-MODIFIED:20210729T171706Z
UID:10015477-1631089800-1631093400@www.sinaitemple.org
SUMMARY:Second Day of Rosh Hashanah P’sukei d’Zimrah in Kohn Chapel
DESCRIPTION:
URL:https://www.sinaitemple.org/event/second-day-of-rosh-hashanah-psukei-dzimrah-in-kohn-chapel/
LOCATION:Sinai Temple
CATEGORIES:Holiday Services,Holidays
END:VEVENT
BEGIN:VEVENT
DTSTART;TZID=America/Los_Angeles:20210907T174500
DTEND;TZID=America/Los_Angeles:20210907T184500
DTSTAMP:20260420T053911
CREATED:20210729T173616Z
LAST-MODIFIED:20210729T173616Z
UID:10022232-1631036700-1631040300@www.sinaitemple.org
SUMMARY:First Day of Rosh Hashanah Mincha/Ma’ariv in Barad Hall
DESCRIPTION:
URL:https://www.sinaitemple.org/event/first-day-of-rosh-hashanah-mincha-maariv-in-barad-hall/
LOCATION:Sinai Temple
CATEGORIES:Holiday Services,Holidays
END:VEVENT
BEGIN:VEVENT
DTSTART;TZID=America/Los_Angeles:20210907T170000
DTEND;TZID=America/Los_Angeles:20210907T180000
DTSTAMP:20260420T053911
CREATED:20210728T204312Z
LAST-MODIFIED:20210728T204312Z
UID:10022230-1631034000-1631037600@www.sinaitemple.org
SUMMARY:Tashlich
DESCRIPTION:Tashlich at the Monkarsh Family Atrium on Pilot Plaza 
URL:https://www.sinaitemple.org/event/tashlich/
LOCATION:Sinai Temple
CATEGORIES:Holiday Services,Holidays
END:VEVENT
BEGIN:VEVENT
DTSTART;TZID=America/Los_Angeles:20210907T100000
DTEND;TZID=America/Los_Angeles:20210907T123000
DTSTAMP:20260420T053911
CREATED:20210728T234158Z
LAST-MODIFIED:20210902T221236Z
UID:10015474-1631008800-1631017800@www.sinaitemple.org
SUMMARY:First Day of Rosh Hashanah Family Minyan Service
DESCRIPTION:
URL:https://www.sinaitemple.org/event/first-day-of-rosh-hashanah-family-minyan-service/
LOCATION:Sinai Temple
CATEGORIES:Holiday Services,Holidays
END:VEVENT
BEGIN:VEVENT
DTSTART;TZID=America/Los_Angeles:20210907T100000
DTEND;TZID=America/Los_Angeles:20210907T123000
DTSTAMP:20260420T053911
CREATED:20210728T234052Z
LAST-MODIFIED:20210902T221157Z
UID:10015473-1631008800-1631017800@www.sinaitemple.org
SUMMARY:First Day of Rosh Hashanah Barad Hall Service
DESCRIPTION:
URL:https://www.sinaitemple.org/event/first-day-of-rosh-hashanah-barad-hall-service/
LOCATION:Sinai Temple
CATEGORIES:Holiday Services,Holidays
END:VEVENT
BEGIN:VEVENT
DTSTART;TZID=America/Los_Angeles:20210907T100000
DTEND;TZID=America/Los_Angeles:20210907T123000
DTSTAMP:20260420T053911
CREATED:20210728T232955Z
LAST-MODIFIED:20210902T221115Z
UID:10015472-1631008800-1631017800@www.sinaitemple.org
SUMMARY:First Day of Rosh Hashanah Ruth & Allen Ziegler Sanctuary Service
DESCRIPTION:
URL:https://www.sinaitemple.org/event/first-day-of-rosh-hashanah-ruth-allen-ziegler-sanctuary-service/
LOCATION:Sinai Temple
CATEGORIES:Holiday Services,Holidays
END:VEVENT
BEGIN:VEVENT
DTSTART;TZID=America/Los_Angeles:20210907T100000
DTEND;TZID=America/Los_Angeles:20210907T113000
DTSTAMP:20260420T053911
CREATED:20210728T234506Z
LAST-MODIFIED:20210902T221318Z
UID:10015476-1631008800-1631014200@www.sinaitemple.org
SUMMARY:First Day of Rosh Hashanah Torah in the Round Service
DESCRIPTION:
URL:https://www.sinaitemple.org/event/first-day-of-rosh-hashanah-torah-in-the-round-service/
LOCATION:Sinai Temple
CATEGORIES:Holiday Services,Holidays
END:VEVENT
BEGIN:VEVENT
DTSTART;TZID=America/Los_Angeles:20210907T090000
DTEND;TZID=America/Los_Angeles:20210907T100000
DTSTAMP:20260420T053911
CREATED:20210728T232048Z
LAST-MODIFIED:20210902T220639Z
UID:10015470-1631005200-1631008800@www.sinaitemple.org
SUMMARY:First Day of Rosh Hashanah P’sukei d’Zimrah & Shacharit
DESCRIPTION:Kohn Chapel
URL:https://www.sinaitemple.org/event/first-day-of-rosh-hashanah-psukei-dzimrah/
LOCATION:Sinai Temple
CATEGORIES:Holiday Services,Holidays
END:VEVENT
END:VCALENDAR