BEGIN:VCALENDAR
VERSION:2.0
PRODID:-//Sinai Temple - ECPv6.15.18//NONSGML v1.0//EN
CALSCALE:GREGORIAN
METHOD:PUBLISH
X-WR-CALNAME:Sinai Temple
X-ORIGINAL-URL:https://www.sinaitemple.org
X-WR-CALDESC:Events for Sinai Temple
REFRESH-INTERVAL;VALUE=DURATION:PT1H
X-Robots-Tag:noindex
X-PUBLISHED-TTL:PT1H
BEGIN:VTIMEZONE
TZID:America/Los_Angeles
BEGIN:DAYLIGHT
TZOFFSETFROM:-0800
TZOFFSETTO:-0700
TZNAME:PDT
DTSTART:20200308T100000
END:DAYLIGHT
BEGIN:STANDARD
TZOFFSETFROM:-0700
TZOFFSETTO:-0800
TZNAME:PST
DTSTART:20201101T090000
END:STANDARD
BEGIN:DAYLIGHT
TZOFFSETFROM:-0800
TZOFFSETTO:-0700
TZNAME:PDT
DTSTART:20210314T100000
END:DAYLIGHT
BEGIN:STANDARD
TZOFFSETFROM:-0700
TZOFFSETTO:-0800
TZNAME:PST
DTSTART:20211107T090000
END:STANDARD
BEGIN:DAYLIGHT
TZOFFSETFROM:-0800
TZOFFSETTO:-0700
TZNAME:PDT
DTSTART:20220313T100000
END:DAYLIGHT
BEGIN:STANDARD
TZOFFSETFROM:-0700
TZOFFSETTO:-0800
TZNAME:PST
DTSTART:20221106T090000
END:STANDARD
END:VTIMEZONE
BEGIN:VEVENT
DTSTART;TZID=America/Los_Angeles:20210907T170000
DTEND;TZID=America/Los_Angeles:20210907T180000
DTSTAMP:20260424T180137
CREATED:20210728T204312Z
LAST-MODIFIED:20210728T204312Z
UID:10022230-1631034000-1631037600@www.sinaitemple.org
SUMMARY:Tashlich
DESCRIPTION:Tashlich at the Monkarsh Family Atrium on Pilot Plaza 
URL:https://www.sinaitemple.org/event/tashlich/
LOCATION:Sinai Temple
CATEGORIES:Holiday Services,Holidays
END:VEVENT
BEGIN:VEVENT
DTSTART;TZID=America/Los_Angeles:20210907T100000
DTEND;TZID=America/Los_Angeles:20210907T123000
DTSTAMP:20260424T180137
CREATED:20210728T234158Z
LAST-MODIFIED:20210902T221236Z
UID:10015474-1631008800-1631017800@www.sinaitemple.org
SUMMARY:First Day of Rosh Hashanah Family Minyan Service
DESCRIPTION:
URL:https://www.sinaitemple.org/event/first-day-of-rosh-hashanah-family-minyan-service/
LOCATION:Sinai Temple
CATEGORIES:Holiday Services,Holidays
END:VEVENT
BEGIN:VEVENT
DTSTART;TZID=America/Los_Angeles:20210907T100000
DTEND;TZID=America/Los_Angeles:20210907T123000
DTSTAMP:20260424T180137
CREATED:20210728T234052Z
LAST-MODIFIED:20210902T221157Z
UID:10015473-1631008800-1631017800@www.sinaitemple.org
SUMMARY:First Day of Rosh Hashanah Barad Hall Service
DESCRIPTION:
URL:https://www.sinaitemple.org/event/first-day-of-rosh-hashanah-barad-hall-service/
LOCATION:Sinai Temple
CATEGORIES:Holiday Services,Holidays
END:VEVENT
BEGIN:VEVENT
DTSTART;TZID=America/Los_Angeles:20210907T100000
DTEND;TZID=America/Los_Angeles:20210907T123000
DTSTAMP:20260424T180137
CREATED:20210728T232955Z
LAST-MODIFIED:20210902T221115Z
UID:10015472-1631008800-1631017800@www.sinaitemple.org
SUMMARY:First Day of Rosh Hashanah Ruth & Allen Ziegler Sanctuary Service
DESCRIPTION:
URL:https://www.sinaitemple.org/event/first-day-of-rosh-hashanah-ruth-allen-ziegler-sanctuary-service/
LOCATION:Sinai Temple
CATEGORIES:Holiday Services,Holidays
END:VEVENT
BEGIN:VEVENT
DTSTART;TZID=America/Los_Angeles:20210907T100000
DTEND;TZID=America/Los_Angeles:20210907T113000
DTSTAMP:20260424T180137
CREATED:20210728T234506Z
LAST-MODIFIED:20210902T221318Z
UID:10015476-1631008800-1631014200@www.sinaitemple.org
SUMMARY:First Day of Rosh Hashanah Torah in the Round Service
DESCRIPTION:
URL:https://www.sinaitemple.org/event/first-day-of-rosh-hashanah-torah-in-the-round-service/
LOCATION:Sinai Temple
CATEGORIES:Holiday Services,Holidays
END:VEVENT
BEGIN:VEVENT
DTSTART;TZID=America/Los_Angeles:20210907T090000
DTEND;TZID=America/Los_Angeles:20210907T100000
DTSTAMP:20260424T180137
CREATED:20210728T232048Z
LAST-MODIFIED:20210902T220639Z
UID:10015470-1631005200-1631008800@www.sinaitemple.org
SUMMARY:First Day of Rosh Hashanah P’sukei d’Zimrah & Shacharit
DESCRIPTION:Kohn Chapel
URL:https://www.sinaitemple.org/event/first-day-of-rosh-hashanah-psukei-dzimrah/
LOCATION:Sinai Temple
CATEGORIES:Holiday Services,Holidays
END:VEVENT
BEGIN:VEVENT
DTSTART;TZID=America/Los_Angeles:20210907T090000
DTEND;TZID=America/Los_Angeles:20210907T093000
DTSTAMP:20260424T180137
CREATED:20210728T234234Z
LAST-MODIFIED:20210902T221659Z
UID:10015475-1631005200-1631007000@www.sinaitemple.org
SUMMARY:First Day of Rosh Hashanah Shofar Blast
DESCRIPTION:We invite our youngest members (babies through 2nd grade) for singing\, dancing\, and storytelling in Gold Hall.
URL:https://www.sinaitemple.org/event/first-day-of-rosh-hashanah-shofar-blast/
LOCATION:Sinai Temple
CATEGORIES:Holiday Services,Holidays
END:VEVENT
BEGIN:VEVENT
DTSTART;TZID=America/Los_Angeles:20210906T190000
DTEND;TZID=America/Los_Angeles:20210906T200000
DTSTAMP:20260424T180137
CREATED:20210728T231913Z
LAST-MODIFIED:20210906T161500Z
UID:10015468-1630954800-1630958400@www.sinaitemple.org
SUMMARY:Joyce & Jerry (z”l) Monkarsh Family Erev Rosh Hashanah Live
DESCRIPTION:Join us online for this incredible LIVE virtual experience. We’ll stream on our streaming site.
URL:https://www.sinaitemple.org/event/joyce-jerry-zl-monkarsh-family-erev-rosh-hashanah-live/
LOCATION:Sinai Temple
CATEGORIES:Holiday Services,Holidays
ATTACH;FMTTYPE=image/gif:https://www.sinaitemple.org/wp-content/uploads/2021/07/For-Web_Screen-Shot-2021-08-20-at-5.gif
END:VEVENT
BEGIN:VEVENT
DTSTART;TZID=America/Los_Angeles:20210906T174500
DTEND;TZID=America/Los_Angeles:20210906T190000
DTSTAMP:20260424T180137
CREATED:20210728T231818Z
LAST-MODIFIED:20210831T210431Z
UID:10015466-1630950300-1630954800@www.sinaitemple.org
SUMMARY:Erev Rosh Hashanah Minyan
DESCRIPTION:This service will take place online and will be led by Jay Harwitt.
URL:https://www.sinaitemple.org/event/erev-rosh-hashanah-kohn-chapel-service/
LOCATION:Sinai Temple
CATEGORIES:Holiday Services,Holidays
END:VEVENT
BEGIN:VEVENT
DTSTART;TZID=America/Los_Angeles:20210903T080000
DTEND;TZID=America/Los_Angeles:20210903T170000
DTSTAMP:20260424T180137
CREATED:20210903T232648Z
LAST-MODIFIED:20210903T232648Z
UID:10015551-1630656000-1630688400@www.sinaitemple.org
SUMMARY:Atid: Tashlich at the Beach
DESCRIPTION:Young professionals in their 20s and 30s are invited at 3:30 p.m. for a special opportunity to send wishes\, prayers\, and blessings directly to the Kotel in Israel. As we welcome the new year\, Rabbinical Intern Kevin Lefkowitz will guide us through this meaningful exercise. \nThen join the greater Sinai Temple community for Tashlich\, led by Rabbis Nicole Guzik and Erez Sherman. Tashlich comes from the Hebrew word meaning “to cast\,” referring to the intent to cast away our sins. \nPlease dress casually (preferably in white) and bring your own bread to cast away your transgressions.\nThis is event is free and open to all young professionals\, but please RSVP HERE. \nSUNDAY\, SEPTEMBER 12\, 2021 | 3:30 p.m.\nMeet in front of the Hotel Casa del Mar at the end of the Santa\nMonica boardwalk. \nMORE INFORMATION\nBriana Benaron: bbenaron@sinaitemple.org\nKevin Lefkowitz: klefkowitz@sinaitemple.org
URL:https://www.sinaitemple.org/event/atid-tashlich-at-the-beach/
LOCATION:Sinai Temple
CATEGORIES:Events,Holiday Services,Holidays
ATTACH;FMTTYPE=image/jpeg:https://www.sinaitemple.org/wp-content/uploads/2021/09/IMG_20180715_110148_492.jpg
END:VEVENT
BEGIN:VEVENT
DTSTART;TZID=America/Los_Angeles:20210828T200000
DTEND;TZID=America/Los_Angeles:20210828T210000
DTSTAMP:20260424T180137
CREATED:20210728T204219Z
LAST-MODIFIED:20210827T180906Z
UID:10022229-1630180800-1630184400@www.sinaitemple.org
SUMMARY:Havdalah & S’lichot Service
DESCRIPTION:Join us at 8:00 p.m. in the Ziegler Sanctuary or streamed online for our Havdalah & S’lichot service\, the start of our High Holy Day season. Featuring Cantor Feldman\, Cantorial Intern David Childs\, Aryell Cohen\, and the Sinai Temple choir\, the service is designed to prepare our souls for the holiest time of the year. The evening will begin with Havdalah and include words of wisdom from Rabbi Wolpe\, Rabbi Guzik and Rabbi Sherman.
URL:https://www.sinaitemple.org/event/havdalah-slichot-service/
LOCATION:Sinai Temple
CATEGORIES:Holiday Services,Holidays
END:VEVENT
BEGIN:VEVENT
DTSTART;TZID=America/Los_Angeles:20210729T093000
DTEND;TZID=America/Los_Angeles:20210729T123000
DTSTAMP:20260424T180137
CREATED:20210729T195609Z
LAST-MODIFIED:20210729T195610Z
UID:10022242-1627551000-1627561800@www.sinaitemple.org
SUMMARY:Yom Kippur Family Minyan in Gold Hall
DESCRIPTION:
URL:https://www.sinaitemple.org/event/yom-kippur-family-minyan-in-gold-hall/
LOCATION:Sinai Temple
CATEGORIES:Holiday Services,Holidays
END:VEVENT
BEGIN:VEVENT
DTSTART;TZID=America/Los_Angeles:20210729T092000
DTEND;TZID=America/Los_Angeles:20210729T124500
DTSTAMP:20260424T180137
CREATED:20210729T195402Z
LAST-MODIFIED:20210729T195403Z
UID:10022239-1627550400-1627562700@www.sinaitemple.org
SUMMARY:Yom Kippur Ruth & Allen Ziegler Sanctuary Service
DESCRIPTION:
URL:https://www.sinaitemple.org/event/yom-kippur-ruth-allen-ziegler-sanctuary-service/
LOCATION:Sinai Temple
CATEGORIES:Holiday Services,Holidays
END:VEVENT
BEGIN:VEVENT
DTSTART;TZID=America/Los_Angeles:20210729T090000
DTEND;TZID=America/Los_Angeles:20210729T123000
DTSTAMP:20260424T180137
CREATED:20210729T171831Z
LAST-MODIFIED:20210729T171831Z
UID:10022231-1627549200-1627561800@www.sinaitemple.org
SUMMARY:Second Day of Rosh Hashanah Family Minyan and Barad Hall: Traditional Service Combined in Barad Hall
DESCRIPTION:
URL:https://www.sinaitemple.org/event/second-day-of-rosh-hashanah-family-minyan-and-barad-hall-traditional-service-combined-in-barad-hall/
LOCATION:Sinai Temple
CATEGORIES:Holiday Services,Holidays
END:VEVENT
BEGIN:VEVENT
DTSTART;TZID=America/Los_Angeles:20210518T090000
DTEND;TZID=America/Los_Angeles:20210518T120000
DTSTAMP:20260424T180137
CREATED:20210415T211844Z
LAST-MODIFIED:20210415T211844Z
UID:10022199-1621328400-1621339200@www.sinaitemple.org
SUMMARY:Second Day of Shavuot Services & Yizkor
DESCRIPTION:
URL:https://www.sinaitemple.org/event/second-day-of-shavuot-services-yizkor/
LOCATION:Sinai Temple
CATEGORIES:Holiday Services,Holidays
END:VEVENT
BEGIN:VEVENT
DTSTART;TZID=America/Los_Angeles:20210517T090000
DTEND;TZID=America/Los_Angeles:20210517T113000
DTSTAMP:20260424T180137
CREATED:20210415T211805Z
LAST-MODIFIED:20210415T211805Z
UID:10022198-1621242000-1621251000@www.sinaitemple.org
SUMMARY:First Day of Shavuot Services
DESCRIPTION:
URL:https://www.sinaitemple.org/event/first-day-of-shavuot-services/
LOCATION:Sinai Temple
CATEGORIES:Holiday Services,Holidays
END:VEVENT
BEGIN:VEVENT
DTSTART;TZID=America/Los_Angeles:20210414T170000
DTEND;TZID=America/Los_Angeles:20210414T180000
DTSTAMP:20260424T180137
CREATED:20210405T162419Z
LAST-MODIFIED:20210405T162441Z
UID:10015438-1618419600-1618423200@www.sinaitemple.org
SUMMARY:Celebrating Israel's 73rd Birthday
DESCRIPTION:Please join Sinai Temple for a fun\, musical celebration of Israel’s miraculous 73 years! Rabbis David Wolpe and Nicole Guzik will join Craig Taubman and special guests Noa Achinoam Nini\, Duvid Swirsky\, Shanee Zamir\, Chloe Pourmorady\, Jeff Stern\, Leeav Sofer and Adam Levy. \nThis program has been generously underwritten by Judy and Tom Flesh & Family and is open to the Public. Click HERE to register.
URL:https://www.sinaitemple.org/event/celebrating-israels-73rd-birthday/
LOCATION:Sinai Temple
CATEGORIES:Events,Holidays
ATTACH;FMTTYPE=image/png:https://www.sinaitemple.org/wp-content/uploads/2021/04/Happy-73.png
END:VEVENT
BEGIN:VEVENT
DTSTART;TZID=America/Los_Angeles:20210412T180000
DTEND;TZID=America/Los_Angeles:20210412T190000
DTSTAMP:20260424T180137
CREATED:20210219T202128Z
LAST-MODIFIED:20210312T202306Z
UID:10022181-1618250400-1618254000@www.sinaitemple.org
SUMMARY:Yom Ha'atzmaut Cooking Class
DESCRIPTION:Join Danny Corsun and Zoey Corsun of Culinary Judaics Academy as we celebrate Israel’s birthday through food! On the menu will be shakshuka with homemade flatbread\, and we’ll cook together with some Yom Ha’atzmaut learning\ninfused throughout. \nClick HERE to register.
URL:https://www.sinaitemple.org/event/yom-haatzmaut-cooking-class/
LOCATION:Sinai Temple
CATEGORIES:Events,Holidays
ATTACH;FMTTYPE=image/png:https://www.sinaitemple.org/wp-content/uploads/2021/02/Yom-Haatzmaut-Cooking-Class.png
END:VEVENT
BEGIN:VEVENT
DTSTART;TZID=America/Los_Angeles:20210411T120000
DTEND;TZID=America/Los_Angeles:20210411T130000
DTSTAMP:20260424T180137
CREATED:20210324T203725Z
LAST-MODIFIED:20210324T203725Z
UID:10022195-1618142400-1618146000@www.sinaitemple.org
SUMMARY:We Fought Back!
DESCRIPTION:Join us for a Holocaust memorial program presenting stories of resistance\, resilience\, and hope. \nFeaturing: readings\, songs\, and stories by students and a conversation with Holocaust survivor Susanne Reyto. \nWe will premiere this program on Sinai Steamed and on our Facebook page. \nClick HERE to register.
URL:https://www.sinaitemple.org/event/we-fought-back/
LOCATION:Sinai Temple
CATEGORIES:Events,Holidays
ATTACH;FMTTYPE=image/jpeg:https://www.sinaitemple.org/wp-content/uploads/2021/03/Yom-Hashoah-Final.jpg
END:VEVENT
BEGIN:VEVENT
DTSTART;TZID=America/Los_Angeles:20210411T110000
DTEND;TZID=America/Los_Angeles:20210411T120000
DTSTAMP:20260424T180137
CREATED:20210219T202010Z
LAST-MODIFIED:20210405T165624Z
UID:10022180-1618138800-1618142400@www.sinaitemple.org
SUMMARY:Yom Ha'atzmaut Across America
DESCRIPTION:A livestream concert and fundraiser benefitting COVID-19 \nThe lineup includes Josh Nelson\, Hadar and Sheldon\, and Chava Mirel. \nClick HERE to register.
URL:https://www.sinaitemple.org/event/yom-haatzmaut-across-america/
LOCATION:Sinai Temple
CATEGORIES:Events,Holidays
ATTACH;FMTTYPE=image/jpeg:https://www.sinaitemple.org/wp-content/uploads/2021/02/Sinai-Temple-PORTRAIT-scaled.jpg
END:VEVENT
BEGIN:VEVENT
DTSTART;TZID=America/Los_Angeles:20210404T090000
DTEND;TZID=America/Los_Angeles:20210404T113000
DTSTAMP:20260424T180137
CREATED:20201223T212230Z
LAST-MODIFIED:20210323T215721Z
UID:10021232-1617526800-1617535800@www.sinaitemple.org
SUMMARY:Last Day of Passover Services (Virtual)
DESCRIPTION:
URL:https://www.sinaitemple.org/event/virtual-sunday-minyan-2021-04-04/
LOCATION:Sinai Temple
CATEGORIES:Holiday Services,Holidays
END:VEVENT
BEGIN:VEVENT
DTSTART;TZID=America/Los_Angeles:20210329T090000
DTEND;TZID=America/Los_Angeles:20210329T113000
DTSTAMP:20260424T180137
CREATED:20201223T212659Z
LAST-MODIFIED:20210323T215300Z
UID:10021228-1617008400-1617017400@www.sinaitemple.org
SUMMARY:Second Day of Passover Services (Virtual)
DESCRIPTION:
URL:https://www.sinaitemple.org/event/virtual-daily-minyan-6-2021-03-29/
LOCATION:Sinai Temple
CATEGORIES:Holiday Services,Holidays
END:VEVENT
BEGIN:VEVENT
DTSTART;TZID=America/Los_Angeles:20210328T190000
DTEND;TZID=America/Los_Angeles:20210328T200000
DTSTAMP:20260424T180137
CREATED:20210304T183748Z
LAST-MODIFIED:20210304T183748Z
UID:10015426-1616958000-1616961600@www.sinaitemple.org
SUMMARY:Sweets\, Spirits & Sweats: Atid's Alternative Second Night Seder
DESCRIPTION:This year we’re taking a different approach to a traditional seder: As Rabbi Rotenberg leads us through the Haggadah\, we’ll taste a selection of artisan chocolates that draw on our favorite Passover themes and sip four cups of wine together. Dress to impress in your favorite sweats. \nFor $25 we’ve got you covered with all the (Kosher for Passover) supplies you’ll need: three unique\, fair trade chocolate bars\, a bottle of wine\, and a Haggadah so you can participate in the full experience. Pick-up will be available at Sinai Temple the week of March 22. Join us!
URL:https://www.sinaitemple.org/event/sweets-spirits-sweats-atids-alternative-second-night-seder/
LOCATION:Sinai Temple
CATEGORIES:Events,Holidays
ATTACH;FMTTYPE=image/png:https://www.sinaitemple.org/wp-content/uploads/2021/03/Ati.png
END:VEVENT
BEGIN:VEVENT
DTSTART;TZID=America/Los_Angeles:20210328T100000
DTEND;TZID=America/Los_Angeles:20210328T110000
DTSTAMP:20260424T180137
CREATED:20210325T195010Z
LAST-MODIFIED:20210325T195011Z
UID:10015434-1616925600-1616929200@www.sinaitemple.org
SUMMARY:Dor Chadash Passover Service
DESCRIPTION:Join Rabbi Sam Rotenberg and “Zamer J” Jacob Gown for a fun-filled\, musical Passover\nservice\, designed for our friends ages 0-6! \nClick HERE to join!
URL:https://www.sinaitemple.org/event/dor-chadash-passover-service/
LOCATION:Sinai Temple
CATEGORIES:Dor Chadash,Events,Holiday Services,Holidays
ATTACH;FMTTYPE=image/jpeg:https://www.sinaitemple.org/wp-content/uploads/2021/03/DC.jpg
END:VEVENT
BEGIN:VEVENT
DTSTART;TZID=America/Los_Angeles:20210327T180000
DTEND;TZID=America/Los_Angeles:20210327T200000
DTSTAMP:20260424T180137
CREATED:20210325T194817Z
LAST-MODIFIED:20210326T181447Z
UID:10015433-1616868000-1616875200@www.sinaitemple.org
SUMMARY:Virtual First Night of Passover Seder with Rabbi Rotenberg
DESCRIPTION:For Sinai Temple Members and Virtual Friends of Sinai \nContact Jordan Freedman for more information.
URL:https://www.sinaitemple.org/event/virtual-first-night-of-passover-seder-with-rabbi-rotenberg/
LOCATION:Sinai Temple
CATEGORIES:Events,Holidays
ATTACH;FMTTYPE=image/jpeg:https://www.sinaitemple.org/wp-content/uploads/2021/03/seder-plate-virtual-passover.jpg
END:VEVENT
BEGIN:VEVENT
DTSTART;TZID=America/Los_Angeles:20210325T190000
DTEND;TZID=America/Los_Angeles:20210325T200000
DTSTAMP:20260424T180137
CREATED:20210325T193330Z
LAST-MODIFIED:20210325T194851Z
UID:10022197-1616698800-1616702400@www.sinaitemple.org
SUMMARY:Bedikat Chametz
DESCRIPTION:Join Rabbis Nicole Guzik and Erez Sherman for the traditional Bedikat Chametz ahead of\nPassover. \nClick HERE to register!
URL:https://www.sinaitemple.org/event/bedikat-chametz/
LOCATION:Sinai Temple
CATEGORIES:Events,Holidays
ATTACH;FMTTYPE=image/jpeg:https://www.sinaitemple.org/wp-content/uploads/2021/03/Bedikat-Chametz-e1470908242272.jpg
END:VEVENT
BEGIN:VEVENT
DTSTART;TZID=America/Los_Angeles:20210325T073000
DTEND;TZID=America/Los_Angeles:20210325T083000
DTSTAMP:20260424T180137
CREATED:20210310T220257Z
LAST-MODIFIED:20210322T154704Z
UID:10015432-1616657400-1616661000@www.sinaitemple.org
SUMMARY:Siyyum for the Fast of the First Born
DESCRIPTION:The Siyyum will begin at the conclusion of morning minyan. The service begins at 7:30 a.m. and the Siyyum will begin around 8:20 a.m.  \nYou can watch on our YouTube channel.
URL:https://www.sinaitemple.org/event/siyum-for-the-fast-of-the-first-born/
LOCATION:Sinai Temple
CATEGORIES:Holiday Services,Holidays
END:VEVENT
BEGIN:VEVENT
DTSTART;TZID=America/Los_Angeles:20210226T153000
DTEND;TZID=America/Los_Angeles:20210226T161500
DTSTAMP:20260424T180137
CREATED:20210113T233522Z
LAST-MODIFIED:20210209T223641Z
UID:10022159-1614353400-1614356100@www.sinaitemple.org
SUMMARY:Sinai Temple Virtual Purim Carnival
DESCRIPTION:Hosted by the Sinai Teen Center. Click HERE to register.
URL:https://www.sinaitemple.org/event/purim-bingo-with-the-religious-school/
LOCATION:Sinai Temple
CATEGORIES:Events,Holidays
ATTACH;FMTTYPE=image/png:https://www.sinaitemple.org/wp-content/uploads/2021/01/Pink-Hearts-Typographic-Love-Instagram-Post-2.png
END:VEVENT
BEGIN:VEVENT
DTSTART;TZID=America/Los_Angeles:20210225T193000
DTEND;TZID=America/Los_Angeles:20210225T203000
DTSTAMP:20260424T180137
CREATED:20210114T205907Z
LAST-MODIFIED:20210209T223501Z
UID:10015405-1614281400-1614285000@www.sinaitemple.org
SUMMARY:Trivia Night with The One Up Group
DESCRIPTION:Join us after the Megillah reading for a fun trivia night with The One Up Group! \nClick HERE to register.
URL:https://www.sinaitemple.org/event/trivia-night-with-the-one-up-group/
LOCATION:Sinai Temple
CATEGORIES:Events,Holidays
ATTACH;FMTTYPE=image/jpeg:https://www.sinaitemple.org/wp-content/uploads/2021/01/Purim-Trivia-Night.jpg
END:VEVENT
BEGIN:VEVENT
DTSTART;TZID=America/Los_Angeles:20210225T174500
DTEND;TZID=America/Los_Angeles:20210225T181500
DTSTAMP:20260424T180137
CREATED:20201223T214726Z
LAST-MODIFIED:20210113T230220Z
UID:10022154-1614275100-1614276900@www.sinaitemple.org
SUMMARY:Megillah Reading
DESCRIPTION:The service will be led by Cantor Feldman and Jay Harwitt. \nClick HERE to access the reading.
URL:https://www.sinaitemple.org/event/virtual-daily-minyan-14-2021-02-25/
LOCATION:Sinai Temple
CATEGORIES:Holiday Services,Holidays
END:VEVENT
END:VCALENDAR