BEGIN:VCALENDAR
VERSION:2.0
PRODID:-//Sinai Temple - ECPv6.15.18//NONSGML v1.0//EN
CALSCALE:GREGORIAN
METHOD:PUBLISH
X-WR-CALNAME:Sinai Temple
X-ORIGINAL-URL:https://www.sinaitemple.org
X-WR-CALDESC:Events for Sinai Temple
REFRESH-INTERVAL;VALUE=DURATION:PT1H
X-Robots-Tag:noindex
X-PUBLISHED-TTL:PT1H
BEGIN:VTIMEZONE
TZID:America/Los_Angeles
BEGIN:DAYLIGHT
TZOFFSETFROM:-0800
TZOFFSETTO:-0700
TZNAME:PDT
DTSTART:20200308T100000
END:DAYLIGHT
BEGIN:STANDARD
TZOFFSETFROM:-0700
TZOFFSETTO:-0800
TZNAME:PST
DTSTART:20201101T090000
END:STANDARD
BEGIN:DAYLIGHT
TZOFFSETFROM:-0800
TZOFFSETTO:-0700
TZNAME:PDT
DTSTART:20210314T100000
END:DAYLIGHT
BEGIN:STANDARD
TZOFFSETFROM:-0700
TZOFFSETTO:-0800
TZNAME:PST
DTSTART:20211107T090000
END:STANDARD
BEGIN:DAYLIGHT
TZOFFSETFROM:-0800
TZOFFSETTO:-0700
TZNAME:PDT
DTSTART:20220313T100000
END:DAYLIGHT
BEGIN:STANDARD
TZOFFSETFROM:-0700
TZOFFSETTO:-0800
TZNAME:PST
DTSTART:20221106T090000
END:STANDARD
BEGIN:DAYLIGHT
TZOFFSETFROM:-0800
TZOFFSETTO:-0700
TZNAME:PDT
DTSTART:20230312T100000
END:DAYLIGHT
BEGIN:STANDARD
TZOFFSETFROM:-0700
TZOFFSETTO:-0800
TZNAME:PST
DTSTART:20231105T090000
END:STANDARD
BEGIN:DAYLIGHT
TZOFFSETFROM:-0800
TZOFFSETTO:-0700
TZNAME:PDT
DTSTART:20240310T100000
END:DAYLIGHT
BEGIN:STANDARD
TZOFFSETFROM:-0700
TZOFFSETTO:-0800
TZNAME:PST
DTSTART:20241103T090000
END:STANDARD
END:VTIMEZONE
BEGIN:VEVENT
DTSTART;TZID=America/Los_Angeles:20230405T073000
DTEND;TZID=America/Los_Angeles:20230405T090000
DTSTAMP:20260422T035910
CREATED:20230316T230729Z
LAST-MODIFIED:20230316T230734Z
UID:10018395-1680679800-1680685200@www.sinaitemple.org
SUMMARY:Ta’anit Bechorot 2023/תַּעֲנִית בְּכוֹרוֹת 5783 - Fast of the First Born
DESCRIPTION:7:30 a.m. Shacharit Service and Study Session in Ziegler Sanctuary \n8:30 a.m. Breakfast in Ziegler Hall
URL:https://www.sinaitemple.org/event/taanit-bechorot-2023-%d7%aa%d6%b7%d6%bc%d7%a2%d6%b2%d7%a0%d6%b4%d7%99%d7%aa-%d7%91%d6%b0%d6%bc%d7%9b%d7%95%d6%b9%d7%a8%d7%95%d6%b9%d7%aa-5783-fast-of-the-first-born/
LOCATION:Ziegler Sanctuary
CATEGORIES:Holiday Services,Holidays
END:VEVENT
BEGIN:VEVENT
DTSTART;TZID=America/Los_Angeles:20221017T170000
DTEND;TZID=America/Los_Angeles:20221017T190000
DTSTAMP:20260422T035910
CREATED:20221012T223619Z
LAST-MODIFIED:20221013T155019Z
UID:10018016-1666026000-1666033200@www.sinaitemple.org
SUMMARY:Simchat Torah in the Streets
DESCRIPTION:Meet at 5:00 p.m. at the corner of Ashton and Holmby to kick off the festivities. We’ll have our Traditional Torah Reading at 6:30 p.m. in Kohn Chapel. \nClick HERE to register.
URL:https://www.sinaitemple.org/event/simchat-torah-in-the-streets/
LOCATION:Sinai Temple
CATEGORIES:Events,Holiday Services,Holidays
ATTACH;FMTTYPE=image/png:https://www.sinaitemple.org/wp-content/uploads/2022/10/2022-Simchat-Torah-in-the-Street_V2.png
END:VEVENT
BEGIN:VEVENT
DTSTART;TZID=America/Los_Angeles:20221005T170000
DTEND;TZID=America/Los_Angeles:20221005T193000
DTSTAMP:20260422T035910
CREATED:20220919T162826Z
LAST-MODIFIED:20221004T185432Z
UID:10025214-1664989200-1664998200@www.sinaitemple.org
SUMMARY:Neilah Under the Stars
DESCRIPTION:The Baseball Field at 10740 Ohio Avenue\, Los Angeles\, CA 90024\nEntrances are on Ohio Avenue as well as on Manning Avenue just north of Santa Monica Blvd. \nWe are excited to invite Sinai Temple to an outdoor magical Neilah service for all ages\, featuring: \n\nInspiration and reflection from Rabbis Guzik & Taff\nCantor Ellen Sugerman and the Torah in the Round Band\nSafe\, local\, and convenient location with ample parking and Sinai Temple security\n\nImportant Information \n\nOpen to Sinai Temple members only. Each participant 3 and older must have their own individual High Holy Day ticket for entry.\nLocation will be released to attendees 24 hours in advance of services.\nPre-registration is encouraged. Register HERE.\n\nFor more information\, contact Rabbi Nicole Guzik.
URL:https://www.sinaitemple.org/event/neilah-under-the-stars/
LOCATION:10400 Wilshire Blvd\, Los Angeles\, CA\, 90024\, United States
CATEGORIES:Holiday Services,Holidays
ATTACH;FMTTYPE=image/png:https://www.sinaitemple.org/wp-content/uploads/2022/09/Neilah-Under-the-Stars.png
END:VEVENT
BEGIN:VEVENT
DTSTART;TZID=America/Los_Angeles:20221002T160000
DTEND;TZID=America/Los_Angeles:20221002T170000
DTSTAMP:20260422T035910
CREATED:20220912T161228Z
LAST-MODIFIED:20220912T183018Z
UID:10025206-1664726400-1664730000@www.sinaitemple.org
SUMMARY:Tashlich at the Beach
DESCRIPTION:Meet outside the Hotel Casa del Mar. \nTashlich comes from the Hebrew word meaning “to cast\,” referring to the intent to cast away our sins. As we welcome the New Year\, join us for a Tashlich service at the beach led by Rabbis Nicole Guzik and Erez Sherman. Please bring your own bread crumbs to cast away your transgressions. \nThis event is free and open to the community\, but please RSVP at bit.ly/3U6zjtU.
URL:https://www.sinaitemple.org/event/tashlich-at-the-beach-4/
LOCATION:Hotel Casa del Mar
CATEGORIES:Events,Holiday Services,Holidays
ATTACH;FMTTYPE=image/png:https://www.sinaitemple.org/wp-content/uploads/2022/09/2022-Tashlich-at-the-Beach-Instagram-Post-Square.png
END:VEVENT
BEGIN:VEVENT
DTSTART;TZID=America/Los_Angeles:20220926T170000
DTEND;TZID=America/Los_Angeles:20220926T173000
DTSTAMP:20260422T035910
CREATED:20220923T214628Z
LAST-MODIFIED:20220923T214628Z
UID:10025215-1664211600-1664213400@www.sinaitemple.org
SUMMARY:Tashlich
DESCRIPTION:Monkarsh Family Atrium on Pilot Plaza
URL:https://www.sinaitemple.org/event/tashlich-2/
LOCATION:Pilot Plaza at Sinai Temple
CATEGORIES:Holiday Services,Holidays
END:VEVENT
BEGIN:VEVENT
DTSTART;TZID=America/Los_Angeles:20220925T200000
DTEND;TZID=America/Los_Angeles:20220925T220000
DTSTAMP:20260422T035910
CREATED:20220912T212111Z
LAST-MODIFIED:20220920T175332Z
UID:10025213-1664136000-1664143200@www.sinaitemple.org
SUMMARY:The Joyce & Jerry (z"l) Monkarsh Erev Rosh Hashanah Live
DESCRIPTION:Free and open to the community as a gift from Sinai Temple. \nCars with parking stickers can park in the Ashton garage. Additional parking can be found on the surrounding streets (please pay attention to posted signs).
URL:https://www.sinaitemple.org/event/the-joyce-jerry-zl-monkarsh-erev-rosh-hashanah-live/
LOCATION:Ziegler Sanctuary
CATEGORIES:Events,Holiday Services,Holidays
ATTACH;FMTTYPE=image/jpeg:https://www.sinaitemple.org/wp-content/uploads/2022/09/RH-Live-2022.jpg
END:VEVENT
BEGIN:VEVENT
DTSTART;TZID=America/Los_Angeles:20220606T090000
DTEND;TZID=America/Los_Angeles:20220606T120000
DTSTAMP:20260422T035910
CREATED:20220512T181855Z
LAST-MODIFIED:20220527T184415Z
UID:10024912-1654506000-1654516800@www.sinaitemple.org
SUMMARY:Shavuot Day 2 Service
DESCRIPTION:In-person in the Main Sanctuary or watch online.
URL:https://www.sinaitemple.org/event/shavuot-day-2-service/
LOCATION:Ziegler Sanctuary
CATEGORIES:Holiday Services,Holidays
ATTACH;FMTTYPE=image/png:https://www.sinaitemple.org/wp-content/uploads/2022/05/Edited-2022-Shavuot-Graphic-1.png
END:VEVENT
BEGIN:VEVENT
DTSTART;TZID=America/Los_Angeles:20220605T090000
DTEND;TZID=America/Los_Angeles:20220605T120000
DTSTAMP:20260422T035910
CREATED:20220512T181730Z
LAST-MODIFIED:20220527T184229Z
UID:10024911-1654419600-1654430400@www.sinaitemple.org
SUMMARY:Shavuot Day 1 Service
DESCRIPTION:In-person in Kohn Chapel or watch online.
URL:https://www.sinaitemple.org/event/shavuot-day-1-service/
LOCATION:Kohn Chapel
CATEGORIES:Holiday Services,Holidays
ATTACH;FMTTYPE=image/png:https://www.sinaitemple.org/wp-content/uploads/2022/05/Edited-2022-Shavuot-Graphic.png
END:VEVENT
BEGIN:VEVENT
DTSTART;TZID=America/Los_Angeles:20220604T210000
DTEND;TZID=America/Los_Angeles:20220604T230000
DTSTAMP:20260422T035910
CREATED:20220526T205348Z
LAST-MODIFIED:20220527T184123Z
UID:10024917-1654376400-1654383600@www.sinaitemple.org
SUMMARY:Shavuot Learning with Rabbi Cheryl Peretz: Revelation: A Multi-Sensory Experience
DESCRIPTION:Join us in Kohn Chapel for an interactive Shavuot program! \nClick HERE to register.
URL:https://www.sinaitemple.org/event/shavuot-learning-with-rabbi-cheryl-peretz-revelation-a-multi-sensory-experience/
LOCATION:Kohn Chapel
CATEGORIES:Holidays,Learn at Sinai
ATTACH;FMTTYPE=image/png:https://www.sinaitemple.org/wp-content/uploads/2022/05/Shavuot-Learning-with-Rabbi-Cheryl-Peretz-Social-Media.png
END:VEVENT
BEGIN:VEVENT
DTSTART;TZID=America/Los_Angeles:20220417T211500
DTEND;TZID=America/Los_Angeles:20220417T220000
DTSTAMP:20260422T035910
CREATED:20211006T194854Z
LAST-MODIFIED:20220408T164642Z
UID:10015801-1650230100-1650232800@www.sinaitemple.org
SUMMARY:Second Day of Passover Evening Minyan
DESCRIPTION:Online only
URL:https://www.sinaitemple.org/event/daily-minyan-10-2022-04-17/
LOCATION:Sinai Temple
CATEGORIES:Holiday Services,Holidays
END:VEVENT
BEGIN:VEVENT
DTSTART;TZID=America/Los_Angeles:20220416T190000
DTEND;TZID=America/Los_Angeles:20220416T220000
DTSTAMP:20260422T035910
CREATED:20220317T220944Z
LAST-MODIFIED:20220411T215736Z
UID:10024884-1650135600-1650146400@www.sinaitemple.org
SUMMARY:SOLD OUT: Second Night Seder
DESCRIPTION:Our Seder is open to anyone who does not have a place to go for the second night. \nContact Briana Benaron for more information.
URL:https://www.sinaitemple.org/event/second-night-seder/
LOCATION:10400 Wilshire Blvd\, Los Angeles\, CA\, 90024\, United States
CATEGORIES:Events,Holidays
ATTACH;FMTTYPE=image/png:https://www.sinaitemple.org/wp-content/uploads/2022/03/Second-night-seder-3.png
END:VEVENT
BEGIN:VEVENT
DTSTART;TZID=America/Los_Angeles:20220416T174500
DTEND;TZID=America/Los_Angeles:20220416T183000
DTSTAMP:20260422T035910
CREATED:20220310T185754Z
LAST-MODIFIED:20220408T164453Z
UID:10024359-1650131100-1650133800@www.sinaitemple.org
SUMMARY:First Day of Passover Evening Minyan
DESCRIPTION:Online only
URL:https://www.sinaitemple.org/event/evening-havdallah-2022-04-16/
LOCATION:10400 Wilshire Blvd\, Los Angeles\, CA\, 90024\, United States
CATEGORIES:Holiday Services,Holidays
END:VEVENT
BEGIN:VEVENT
DTSTART;TZID=America/Los_Angeles:20220319T200000
DTEND;TZID=America/Los_Angeles:20220319T230000
DTSTAMP:20260422T035910
CREATED:20220218T161017Z
LAST-MODIFIED:20220218T161040Z
UID:10024054-1647720000-1647730800@www.sinaitemple.org
SUMMARY:Young Professionals Purim Party
DESCRIPTION:Calling all superheroes and villains: join us for the hottest Purim party in Los Angeles! We’re partnering with synagogues and groups all across the Galaxy (okay\, we mean Los Angeles) to bring you our most super-charged Purim yet. Bring your best superhero outfit and get ready to eat\, drink and be merry!\n\nFirst 20 registrants receive a Lyft discount code! (To be emailed upon registration.)\n\nEarly bird pricing ($18) available until March 13\, when full price ($25) goes into effect.\n\nClick HERE to register.
URL:https://www.sinaitemple.org/event/young-professionals-purim-party/
LOCATION:Stephen Wise Temple\, CA\, United States
CATEGORIES:Holidays
ATTACH;FMTTYPE=image/jpeg:https://www.sinaitemple.org/wp-content/uploads/2022/02/Square-Image-for-IG.jpg
END:VEVENT
BEGIN:VEVENT
DTSTART;TZID=America/Los_Angeles:20220317T130000
DTEND;TZID=America/Los_Angeles:20220317T143000
DTSTAMP:20260422T035910
CREATED:20220302T175237Z
LAST-MODIFIED:20220302T175237Z
UID:10024080-1647522000-1647527400@www.sinaitemple.org
SUMMARY:SAA Social Action Project - Rise Against Hunger
DESCRIPTION:3rd-8th graders are invited to join us after early dismissal for a pizza lunch and to participate in a Rise Against Hunger/Sinai Social Action Committee program. Pick-up after this program will be at 3:00pm on P1. \n\nClick HERE to register by Tuesday\, March 15! Are you a parent interested in volunteering? Contact Michelle Taus.
URL:https://www.sinaitemple.org/event/saa-social-action-project-rise-against-hunger/
LOCATION:Sinai Temple
CATEGORIES:Events,Holidays
ATTACH;FMTTYPE=image/jpeg:https://www.sinaitemple.org/wp-content/uploads/2022/03/RAH-Logo-original_no_tag_web-500px.jpg
END:VEVENT
BEGIN:VEVENT
DTSTART;TZID=America/Los_Angeles:20211205T100000
DTEND;TZID=America/Los_Angeles:20211205T113000
DTSTAMP:20260422T035910
CREATED:20211202T192230Z
LAST-MODIFIED:20211202T220245Z
UID:10023517-1638698400-1638703800@www.sinaitemple.org
SUMMARY:Java and Jelly Doughnuts at the Farmers Market with Atid
DESCRIPTION:This Sunday\, coffee and doughnuts are on us! Caffeinate and celebrate the last day of Hanukkah at LA’s iconic doughnut spot in the Original Farmers Market. Register to guarantee your drink and doughnut of choice!\n\nClick HERE to register.
URL:https://www.sinaitemple.org/event/last-day-of-hanukkah-celebration-with-atid/
LOCATION:Bob’s Coffee & Doughnuts
CATEGORIES:Events,Holidays
ATTACH;FMTTYPE=image/jpeg:https://www.sinaitemple.org/wp-content/uploads/2021/12/Bobs-Donuts.jpg
END:VEVENT
BEGIN:VEVENT
DTSTART;TZID=America/Los_Angeles:20210929T174500
DTEND;TZID=America/Los_Angeles:20210929T220000
DTSTAMP:20260422T035910
CREATED:20210729T205508Z
LAST-MODIFIED:20210920T164856Z
UID:10022250-1632937500-1632952800@www.sinaitemple.org
SUMMARY:Mincha in Kohn Chapel
DESCRIPTION:In-person only
URL:https://www.sinaitemple.org/event/simchat-torah-mincha-in-kohn-chapel/
LOCATION:Sinai Temple
CATEGORIES:Holiday Services,Holidays
END:VEVENT
BEGIN:VEVENT
DTSTART;TZID=America/Los_Angeles:20210929T090000
DTEND;TZID=America/Los_Angeles:20210929T123000
DTSTAMP:20260422T035910
CREATED:20210729T205328Z
LAST-MODIFIED:20210920T164826Z
UID:10022249-1632906000-1632918600@www.sinaitemple.org
SUMMARY:Simchat Torah Kohn Chapel Service
DESCRIPTION:
URL:https://www.sinaitemple.org/event/simchat-torah-barad-hall-service/
LOCATION:Sinai Temple
CATEGORIES:Holiday Services,Holidays
END:VEVENT
BEGIN:VEVENT
DTSTART;TZID=America/Los_Angeles:20210928T174500
DTEND;TZID=America/Los_Angeles:20210928T180000
DTSTAMP:20260422T035910
CREATED:20210729T205015Z
LAST-MODIFIED:20210729T205129Z
UID:10015520-1632851100-1632852000@www.sinaitemple.org
SUMMARY:Erev Simchat Torah Mincha/Ma’ariv in Kohn Chapel
DESCRIPTION:
URL:https://www.sinaitemple.org/event/erev-simchat-torah-mincha-maariv-in-kohn-chapel/
LOCATION:Sinai Temple
CATEGORIES:Holiday Services,Holidays
END:VEVENT
BEGIN:VEVENT
DTSTART;TZID=America/Los_Angeles:20210928T170000
DTEND;TZID=America/Los_Angeles:20210928T183000
DTSTAMP:20260422T035911
CREATED:20210920T164534Z
LAST-MODIFIED:20210920T192254Z
UID:10023142-1632848400-1632853800@www.sinaitemple.org
SUMMARY:Simchat Torah in the Streets: A Celebration for All Ages
DESCRIPTION:In-person\, outdoors! \nLive musicians\, fun for the whole family! Join us as we sing and dance with Torahs while saying hello to Sinai Temple friends in the neighborhood! We encourage everyone\, including religious school and Sinai Akiba Academy families\, to wear a Sinai Temple t-shirt or a blue or white t-shirt. \nMeet at 5:00 p.m. on Wilshire Patio to kick off the festivities. \nClick HERE to register.
URL:https://www.sinaitemple.org/event/simchat-torah-in-the-streets-a-celebration-for-all-ages/
LOCATION:Sinai Temple
CATEGORIES:Events,Holiday Services,Holidays
ATTACH;FMTTYPE=image/jpeg:https://www.sinaitemple.org/wp-content/uploads/2021/09/TvhH9514503.jpg
END:VEVENT
BEGIN:VEVENT
DTSTART;TZID=America/Los_Angeles:20210928T090000
DTEND;TZID=America/Los_Angeles:20210928T093000
DTSTAMP:20260422T035911
CREATED:20210729T204801Z
LAST-MODIFIED:20210923T181519Z
UID:10015519-1632819600-1632821400@www.sinaitemple.org
SUMMARY:Shemini Atzeret Service in Ziegler Sanctuary
DESCRIPTION:Yizkor will be at approximately 10:30 a.m.
URL:https://www.sinaitemple.org/event/shemini-atzeret-service-in-ziegler-sanctuary/
LOCATION:Sinai Temple
CATEGORIES:Holiday Services,Holidays
END:VEVENT
BEGIN:VEVENT
DTSTART;TZID=America/Los_Angeles:20210927T174500
DTEND;TZID=America/Los_Angeles:20210927T184500
DTSTAMP:20260422T035911
CREATED:20210729T203446Z
LAST-MODIFIED:20210729T203446Z
UID:10015518-1632764700-1632768300@www.sinaitemple.org
SUMMARY:Erev Shemini Atzeret Mincha in Kohn Chapel
DESCRIPTION:
URL:https://www.sinaitemple.org/event/erev-shemini-atzeret-mincha-in-kohn-chapel/
LOCATION:Sinai Temple
CATEGORIES:Holiday Services,Holidays
END:VEVENT
BEGIN:VEVENT
DTSTART;TZID=America/Los_Angeles:20210927T073000
DTEND;TZID=America/Los_Angeles:20210927T090000
DTSTAMP:20260422T035911
CREATED:20210729T203340Z
LAST-MODIFIED:20210729T203340Z
UID:10015516-1632727800-1632733200@www.sinaitemple.org
SUMMARY:Hoshana Rabbah in Kohn Chapel
DESCRIPTION:
URL:https://www.sinaitemple.org/event/hoshana-rabbah-in-kohn-chapel/
LOCATION:Sinai Temple
CATEGORIES:Holiday Services,Holidays
END:VEVENT
BEGIN:VEVENT
DTSTART;TZID=America/Los_Angeles:20210922T174500
DTEND;TZID=America/Los_Angeles:20210922T213000
DTSTAMP:20260422T035911
CREATED:20201223T214532Z
LAST-MODIFIED:20210920T164208Z
UID:10022190-1632332700-1632346200@www.sinaitemple.org
SUMMARY:Mincha
DESCRIPTION:In-person only
URL:https://www.sinaitemple.org/event/virtual-daily-minyan-12-2021-09-22/
LOCATION:Sinai Temple
CATEGORIES:Holiday Services,Holidays
END:VEVENT
BEGIN:VEVENT
DTSTART;TZID=America/Los_Angeles:20210922T103000
DTEND;TZID=America/Los_Angeles:20210922T113000
DTSTAMP:20260422T035911
CREATED:20210915T165107Z
LAST-MODIFIED:20210920T211540Z
UID:10022840-1632306600-1632310200@www.sinaitemple.org
SUMMARY:Jamming with Beat Buds
DESCRIPTION:Presented by Sinai Temple\, Dor Chadash\, and Sinai Akiba Academy \nRock out with your Sinai Temple clergy and BEAT BUDS to celebrate Sukkot! We’ll be in the Wilshire Patio Sukkah. This program is designed for children ages 8 and younger. \nPlease bring a towel or mat for your children to sit! \nThis event is now at capacity.
URL:https://www.sinaitemple.org/event/jamming-with-beat-buds/
LOCATION:Sinai Temple
CATEGORIES:Dor Chadash,Events,Holidays
ATTACH;FMTTYPE=image/png:https://www.sinaitemple.org/wp-content/uploads/2021/09/Edited_Beat-Buds-high-res.png
END:VEVENT
BEGIN:VEVENT
DTSTART;TZID=America/Los_Angeles:20210922T100000
DTEND;TZID=America/Los_Angeles:20210922T120000
DTSTAMP:20260422T035911
CREATED:20210729T201500Z
LAST-MODIFIED:20210729T201500Z
UID:10015514-1632304800-1632312000@www.sinaitemple.org
SUMMARY:Sukkot Yeladim
DESCRIPTION:
URL:https://www.sinaitemple.org/event/sukkot-yeladim-2/
LOCATION:Sinai Temple
CATEGORIES:Holiday Services,Holidays
END:VEVENT
BEGIN:VEVENT
DTSTART;TZID=America/Los_Angeles:20210922T090000
DTEND;TZID=America/Los_Angeles:20210922T123000
DTSTAMP:20260422T035911
CREATED:20210729T201355Z
LAST-MODIFIED:20210729T201355Z
UID:10015512-1632301200-1632313800@www.sinaitemple.org
SUMMARY:Second Day of Sukkot Kohn Chapel Service
DESCRIPTION:
URL:https://www.sinaitemple.org/event/second-day-of-sukkot-kohn-chapel-service/
LOCATION:Sinai Temple
CATEGORIES:Holiday Services,Holidays
END:VEVENT
BEGIN:VEVENT
DTSTART;TZID=America/Los_Angeles:20210921T174500
DTEND;TZID=America/Los_Angeles:20210921T184500
DTSTAMP:20260422T035911
CREATED:20210729T201157Z
LAST-MODIFIED:20210729T201157Z
UID:10015511-1632246300-1632249900@www.sinaitemple.org
SUMMARY:First Day of Sukkot Mincha/Ma’ariv in Kohn Chapel
DESCRIPTION:
URL:https://www.sinaitemple.org/event/first-day-of-sukkot-mincha-maariv-in-kohn-chapel/
LOCATION:Sinai Temple
CATEGORIES:Holiday Services,Holidays
END:VEVENT
BEGIN:VEVENT
DTSTART;TZID=America/Los_Angeles:20210921T090000
DTEND;TZID=America/Los_Angeles:20210921T123000
DTSTAMP:20260422T035911
CREATED:20210729T201029Z
LAST-MODIFIED:20210729T201029Z
UID:10015510-1632214800-1632227400@www.sinaitemple.org
SUMMARY:First Day of Sukkot Service in Ziegler Sanctuary
DESCRIPTION:
URL:https://www.sinaitemple.org/event/first-day-of-sukkot-service-in-ziegler-sanctuary/
LOCATION:Sinai Temple
CATEGORIES:Holiday Services,Holidays
END:VEVENT
BEGIN:VEVENT
DTSTART;TZID=America/Los_Angeles:20210920T174500
DTEND;TZID=America/Los_Angeles:20210920T184500
DTSTAMP:20260422T035911
CREATED:20210729T200852Z
LAST-MODIFIED:20210729T200852Z
UID:10015505-1632159900-1632163500@www.sinaitemple.org
SUMMARY:Erev Sukkot Mincha/Ma’ariv in Kohn Chapel
DESCRIPTION:
URL:https://www.sinaitemple.org/event/erev-sukkot-mincha-maariv-in-kohn-chapel/
LOCATION:Sinai Temple
CATEGORIES:Holiday Services,Holidays
END:VEVENT
BEGIN:VEVENT
DTSTART;TZID=America/Los_Angeles:20210916T180000
DTEND;TZID=America/Los_Angeles:20210916T200000
DTSTAMP:20260422T035911
CREATED:20210729T200304Z
LAST-MODIFIED:20210913T175007Z
UID:10022248-1631815200-1631822400@www.sinaitemple.org
SUMMARY:OFFSITE Neilah Service
DESCRIPTION:
URL:https://www.sinaitemple.org/event/neilah-torah-in-the-round-on-3rd-floor/
LOCATION:Sinai Temple
CATEGORIES:Holiday Services,Holidays
END:VEVENT
END:VCALENDAR