BEGIN:VCALENDAR
VERSION:2.0
PRODID:-//Sinai Temple - ECPv6.15.18//NONSGML v1.0//EN
CALSCALE:GREGORIAN
METHOD:PUBLISH
X-ORIGINAL-URL:https://www.sinaitemple.org
X-WR-CALDESC:Events for Sinai Temple
REFRESH-INTERVAL;VALUE=DURATION:PT1H
X-Robots-Tag:noindex
X-PUBLISHED-TTL:PT1H
BEGIN:VTIMEZONE
TZID:America/Los_Angeles
BEGIN:DAYLIGHT
TZOFFSETFROM:-0800
TZOFFSETTO:-0700
TZNAME:PDT
DTSTART:20260308T100000
END:DAYLIGHT
BEGIN:STANDARD
TZOFFSETFROM:-0700
TZOFFSETTO:-0800
TZNAME:PST
DTSTART:20261101T090000
END:STANDARD
BEGIN:DAYLIGHT
TZOFFSETFROM:-0800
TZOFFSETTO:-0700
TZNAME:PDT
DTSTART:20270314T100000
END:DAYLIGHT
BEGIN:STANDARD
TZOFFSETFROM:-0700
TZOFFSETTO:-0800
TZNAME:PST
DTSTART:20271107T090000
END:STANDARD
BEGIN:DAYLIGHT
TZOFFSETFROM:-0800
TZOFFSETTO:-0700
TZNAME:PDT
DTSTART:20280312T100000
END:DAYLIGHT
BEGIN:STANDARD
TZOFFSETFROM:-0700
TZOFFSETTO:-0800
TZNAME:PST
DTSTART:20281105T090000
END:STANDARD
END:VTIMEZONE
BEGIN:VEVENT
DTSTART;TZID=America/Los_Angeles:20270909T174500
DTEND;TZID=America/Los_Angeles:20270909T181500
DTSTAMP:20260425T071106
CREATED:20250807T175230Z
LAST-MODIFIED:20250814T203547Z
UID:10029377-1820511900-1820513700@www.sinaitemple.org
SUMMARY:Daily Minyan
DESCRIPTION:In person in Kohn chapel and online on our YouTube channel.
URL:https://www.sinaitemple.org/event/daily-minyan-24/2027-09-09/
LOCATION:Kohn Chapel
CATEGORIES:Worship Services
END:VEVENT
BEGIN:VEVENT
DTSTART;TZID=America/Los_Angeles:20270910T073000
DTEND;TZID=America/Los_Angeles:20270910T080000
DTSTAMP:20260425T071106
CREATED:20201231T182859Z
LAST-MODIFIED:20250814T203550Z
UID:10029860-1820561400-1820563200@www.sinaitemple.org
SUMMARY:Daily Minyan
DESCRIPTION:In person in Kohn chapel and online on our YouTube channel.
URL:https://www.sinaitemple.org/event/virtual-daily-minyan-15/2027-09-10/
LOCATION:Kohn Chapel
CATEGORIES:Worship Services
END:VEVENT
BEGIN:VEVENT
DTSTART;TZID=America/Los_Angeles:20270910T174500
DTEND;TZID=America/Los_Angeles:20270910T181500
DTSTAMP:20260425T071106
CREATED:20251117T184919Z
LAST-MODIFIED:20251117T184919Z
UID:10030894-1820598300-1820600100@www.sinaitemple.org
SUMMARY:Daily Minyan
DESCRIPTION:In person in Kohn chapel and online on our YouTube channel.
URL:https://www.sinaitemple.org/event/daily-minyan-25-2/2027-09-10/
LOCATION:Kohn Chapel
CATEGORIES:Worship Services
END:VEVENT
BEGIN:VEVENT
DTSTART;TZID=America/Los_Angeles:20270910T174500
DTEND;TZID=America/Los_Angeles:20270910T184500
DTSTAMP:20260425T071106
CREATED:20210108T195503Z
LAST-MODIFIED:20250807T175953Z
UID:10030182-1820598300-1820601900@www.sinaitemple.org
SUMMARY:Kabbalat Shabbat Service
DESCRIPTION:Join us in person in Kohn Chapel or watch on our YouTube channel.
URL:https://www.sinaitemple.org/event/virtual-kabbalat-shabbat-service-2-2021-09-17/2027-09-10/
LOCATION:Sinai Temple
END:VEVENT
BEGIN:VEVENT
DTSTART;TZID=America/Los_Angeles:20270911T090000
DTEND;TZID=America/Los_Angeles:20270911T100000
DTSTAMP:20260425T071106
CREATED:20170406T190706Z
LAST-MODIFIED:20250814T203647Z
UID:10031055-1820653200-1820656800@www.sinaitemple.org
SUMMARY:Torah at the Table
DESCRIPTION:Torah at the Table is facilitated by lay leaders and runs every Saturday morning from 9:00-10:30 a.m. Held in Upper Traub or online. \nClick HERE to join via Zoom!
URL:https://www.sinaitemple.org/event/torah-at-the-table-2022-06-11/2027-09-11/
ATTACH;FMTTYPE=image/jpeg:https://www.sinaitemple.org/wp-content/uploads/2017/04/TorahattheTable@2x.jpg
END:VEVENT
BEGIN:VEVENT
DTSTART;TZID=America/Los_Angeles:20270911T090000
DTEND;TZID=America/Los_Angeles:20270911T110000
DTSTAMP:20260425T071106
CREATED:20201223T211515Z
LAST-MODIFIED:20250807T180357Z
UID:10026977-1820653200-1820660400@www.sinaitemple.org
SUMMARY:Shabbat Morning Service
DESCRIPTION:
URL:https://www.sinaitemple.org/event/shabbat-morning-service/2027-09-11/
LOCATION:Sinai Temple
CATEGORIES:Worship Services
END:VEVENT
BEGIN:VEVENT
DTSTART;TZID=America/Los_Angeles:20270911T210000
DTEND;TZID=America/Los_Angeles:20270911T213000
DTSTAMP:20260425T071106
CREATED:20220705T154054Z
LAST-MODIFIED:20250814T203557Z
UID:10031377-1820696400-1820698200@www.sinaitemple.org
SUMMARY:Daily Minyan
DESCRIPTION:Online ONLY. Click HERE to watch.
URL:https://www.sinaitemple.org/event/daily-minyan-11-2022-07-16/2027-09-11/
CATEGORIES:Worship Services
END:VEVENT
BEGIN:VEVENT
DTSTART;TZID=America/Los_Angeles:20270912T083000
DTEND;TZID=America/Los_Angeles:20270912T090000
DTSTAMP:20260425T071106
CREATED:20210813T180515Z
LAST-MODIFIED:20250814T203516Z
UID:10027138-1820737800-1820739600@www.sinaitemple.org
SUMMARY:Daily Minyan
DESCRIPTION:In person in Kohn chapel and online on our YouTube channel.
URL:https://www.sinaitemple.org/event/virtually-daily-minyan-2021-08-22/2027-09-12/
LOCATION:Kohn Chapel
CATEGORIES:Worship Services
END:VEVENT
BEGIN:VEVENT
DTSTART;TZID=America/Los_Angeles:20270912T174500
DTEND;TZID=America/Los_Angeles:20270912T184500
DTSTAMP:20260425T071106
CREATED:20260213T174655Z
LAST-MODIFIED:20260410T182919Z
UID:10033658-1820771100-1820774700@www.sinaitemple.org
SUMMARY:Evening Minyan
DESCRIPTION:In person in Kohn chapel and online on our YouTube channel.
URL:https://www.sinaitemple.org/event/evening-minyan/2027-09-12/
LOCATION:Kohn Chapel
CATEGORIES:Worship Services
END:VEVENT
BEGIN:VEVENT
DTSTART;TZID=America/Los_Angeles:20270913T073000
DTEND;TZID=America/Los_Angeles:20270913T080000
DTSTAMP:20260425T071106
CREATED:20201223T212659Z
LAST-MODIFIED:20250814T203521Z
UID:10026016-1820820600-1820822400@www.sinaitemple.org
SUMMARY:Daily Minyan
DESCRIPTION:In person in Kohn chapel and online on our YouTube channel.
URL:https://www.sinaitemple.org/event/virtual-daily-minyan-6-2022-11-07/2027-09-13/
LOCATION:Kohn Chapel
CATEGORIES:Worship Services
END:VEVENT
BEGIN:VEVENT
DTSTART;TZID=America/Los_Angeles:20270913T120000
DTEND;TZID=America/Los_Angeles:20270913T140000
DTSTAMP:20260425T071106
CREATED:20251016T192307Z
LAST-MODIFIED:20260420T193211Z
UID:10034001-1820836800-1820844000@www.sinaitemple.org
SUMMARY:Calligraphy with DeAnn Singh
DESCRIPTION:Learn different pen point styles\, how to address invitations\, and create a small book using the Japanese stab binding technique. Click here to read a profile on DeAnn from ShoutoutLA. \nClick here to read a profile on DeAnn from ShoutoutLA.
URL:https://www.sinaitemple.org/event/calligraphy-with-deann-singh/2027-09-13/
LOCATION:Sinai Temple
CATEGORIES:Sisterhood
ATTACH;FMTTYPE=image/png:https://www.sinaitemple.org/wp-content/uploads/2025/10/Sushi-night-Amir-10.png
END:VEVENT
BEGIN:VEVENT
DTSTART;TZID=America/Los_Angeles:20270913T174500
DTEND;TZID=America/Los_Angeles:20270913T181500
DTSTAMP:20260425T071106
CREATED:20251117T185130Z
LAST-MODIFIED:20251117T185131Z
UID:10026817-1820857500-1820859300@www.sinaitemple.org
SUMMARY:Daily Minyan
DESCRIPTION:In person in Kohn chapel and online on our YouTube channel.
URL:https://www.sinaitemple.org/event/virtual-daily-minyan-7-2/2027-09-13/
LOCATION:Kohn Chapel
CATEGORIES:Worship Services
END:VEVENT
BEGIN:VEVENT
DTSTART;TZID=America/Los_Angeles:20270914T073000
DTEND;TZID=America/Los_Angeles:20270914T080000
DTSTAMP:20260425T071106
CREATED:20221219T190023Z
LAST-MODIFIED:20250814T203532Z
UID:10026657-1820907000-1820908800@www.sinaitemple.org
SUMMARY:Daily Minyan
DESCRIPTION:In person in Kohn chapel and online on our YouTube channel.
URL:https://www.sinaitemple.org/event/daily-minyan-16/2027-09-14/
LOCATION:Kohn Chapel
CATEGORIES:Worship Services
END:VEVENT
BEGIN:VEVENT
DTSTART;TZID=America/Los_Angeles:20270914T174500
DTEND;TZID=America/Los_Angeles:20270914T181500
DTSTAMP:20260425T071106
CREATED:20220801T162701Z
LAST-MODIFIED:20250814T203535Z
UID:10028266-1820943900-1820945700@www.sinaitemple.org
SUMMARY:Daily Minyan
DESCRIPTION:In person in Kohn chapel and online on our YouTube channel.
URL:https://www.sinaitemple.org/event/daily-minyan-15/2027-09-14/
LOCATION:Kohn Chapel
CATEGORIES:Worship Services
END:VEVENT
BEGIN:VEVENT
DTSTART;TZID=America/Los_Angeles:20270915T073000
DTEND;TZID=America/Los_Angeles:20270915T080000
DTSTAMP:20260425T071106
CREATED:20250807T174950Z
LAST-MODIFIED:20250814T203539Z
UID:10028822-1820993400-1820995200@www.sinaitemple.org
SUMMARY:Daily Minyan
DESCRIPTION:In person in Kohn chapel and online on our YouTube channel.
URL:https://www.sinaitemple.org/event/daily-minyan-23/2027-09-15/
LOCATION:Kohn Chapel
CATEGORIES:Worship Services
END:VEVENT
BEGIN:VEVENT
DTSTART;TZID=America/Los_Angeles:20270915T093000
DTEND;TZID=America/Los_Angeles:20270915T103000
DTSTAMP:20260425T071106
CREATED:20250827T222718Z
LAST-MODIFIED:20260304T173057Z
UID:10029538-1821000600-1821004200@www.sinaitemple.org
SUMMARY:The Balance Class
DESCRIPTION:The 10/100 Program consists of six simple movements designed to grow your brain (neuroplasticity)\, improve your balance (proprioception) and strengthen your immune system. \nGroup Classes are FREE! Wednesdays from 9:30 -10:30 a.m. VIA ZOOM! \nClick HERE to join via Zoom during meeting time.
URL:https://www.sinaitemple.org/event/the-balance-class-2022-07-20-2/2027-09-15/
LOCATION:Sinai Temple
CATEGORIES:Events,Sisterhood
ATTACH;FMTTYPE=image/jpeg:https://www.sinaitemple.org/wp-content/uploads/2022/02/Untitled-design.jpg
END:VEVENT
BEGIN:VEVENT
DTSTART;TZID=America/Los_Angeles:20270915T103000
DTEND;TZID=America/Los_Angeles:20270915T120000
DTSTAMP:20260425T071106
CREATED:20251016T193001Z
LAST-MODIFIED:20251125T174414Z
UID:10033205-1821004200-1821009600@www.sinaitemple.org
SUMMARY:Art Workshop with Gail Rollman
DESCRIPTION:Wednesdays\, 10:30 AM–12:00 PM at Sinai | Weekly (Jewish holidays excepted) | $10 per class (materials included)Explore collage\, mixed media\, watercolor\, acrylic painting\, and crafts. Learn new techniques and have fun each week. Pay at the door. \nRSVP to Gail at garollman@yahoo.com.
URL:https://www.sinaitemple.org/event/art-workshop-with-gail-rollman-3/2027-09-15/
LOCATION:Sinai Temple
CATEGORIES:Sisterhood
ATTACH;FMTTYPE=image/jpeg:https://www.sinaitemple.org/wp-content/uploads/2025/10/Sushi-night-Amir-2.jpg
END:VEVENT
BEGIN:VEVENT
DTSTART;TZID=America/Los_Angeles:20270915T174500
DTEND;TZID=America/Los_Angeles:20270915T181500
DTSTAMP:20260425T071106
CREATED:20201223T214532Z
LAST-MODIFIED:20250814T203608Z
UID:10026337-1821030300-1821032100@www.sinaitemple.org
SUMMARY:Daily Minyan
DESCRIPTION:In person in Kohn chapel and online on our YouTube channel.
URL:https://www.sinaitemple.org/event/virtual-daily-minyan-12/2027-09-15/
LOCATION:Kohn Chapel
CATEGORIES:Worship Services
END:VEVENT
BEGIN:VEVENT
DTSTART;TZID=America/Los_Angeles:20270916T073000
DTEND;TZID=America/Los_Angeles:20270916T080000
DTSTAMP:20260425T071106
CREATED:20210917T195757Z
LAST-MODIFIED:20250814T203543Z
UID:10026177-1821079800-1821081600@www.sinaitemple.org
SUMMARY:Daily Minyan
DESCRIPTION:In person in Kohn chapel and online on our YouTube channel.
URL:https://www.sinaitemple.org/event/virtual-daily-minyan-20/2027-09-16/
LOCATION:Kohn Chapel
CATEGORIES:Worship Services
END:VEVENT
BEGIN:VEVENT
DTSTART;TZID=America/Los_Angeles:20270916T083000
DTEND;TZID=America/Los_Angeles:20270916T093000
DTSTAMP:20260425T071106
CREATED:20250902T175749Z
LAST-MODIFIED:20250902T175907Z
UID:10032351-1821083400-1821087000@www.sinaitemple.org
SUMMARY:Weekly Parsha Class
DESCRIPTION:Every Thursday at 8:30am (outside of holidays) \n\n\n\nJoin us as Sinai Temple’s rotating clergy lead an in-depth exploration of the weekly Parsha. \n\n\nClass is offered exclusively online. \n\n\nRegister to receive the broadcast link. \nRegister Here 
URL:https://www.sinaitemple.org/event/weekly-parsha-class/2027-09-16/
LOCATION:Zoom\, 10400 Wilshire Blvd\, Los Angeles\, CA\, 90024\, United States
CATEGORIES:Events
ATTACH;FMTTYPE=image/png:https://www.sinaitemple.org/wp-content/uploads/2025/09/Weekly-Parsha-Class-Flyer-.png
END:VEVENT
BEGIN:VEVENT
DTSTART;TZID=America/Los_Angeles:20270916T160000
DTEND;TZID=America/Los_Angeles:20270916T180000
DTSTAMP:20260425T071106
CREATED:20251016T192638Z
LAST-MODIFIED:20260420T232209Z
UID:10032945-1821110400-1821117600@www.sinaitemple.org
SUMMARY:Mah Jongg with Estelle Marco
DESCRIPTION:Thursdays\, 4:00–6:00 PM at Sinai | 8-week sessions | $100 per person \nFor beginners and intermediate players. Space is limited—first come\, first served. \nSession runs from April 16 to June 4. \nRSVP Here
URL:https://www.sinaitemple.org/event/mah-jongg-with-estelle-marco/2027-09-16/
LOCATION:Sinai Temple
CATEGORIES:Sisterhood
ATTACH;FMTTYPE=image/jpeg:https://www.sinaitemple.org/wp-content/uploads/2025/10/Sushi-night-Amir-1.jpg
END:VEVENT
BEGIN:VEVENT
DTSTART;TZID=America/Los_Angeles:20270916T174500
DTEND;TZID=America/Los_Angeles:20270916T181500
DTSTAMP:20260425T071106
CREATED:20250807T175230Z
LAST-MODIFIED:20250814T203547Z
UID:10029378-1821116700-1821118500@www.sinaitemple.org
SUMMARY:Daily Minyan
DESCRIPTION:In person in Kohn chapel and online on our YouTube channel.
URL:https://www.sinaitemple.org/event/daily-minyan-24/2027-09-16/
LOCATION:Kohn Chapel
CATEGORIES:Worship Services
END:VEVENT
BEGIN:VEVENT
DTSTART;TZID=America/Los_Angeles:20270917T073000
DTEND;TZID=America/Los_Angeles:20270917T080000
DTSTAMP:20260425T071106
CREATED:20201231T182859Z
LAST-MODIFIED:20250814T203550Z
UID:10029861-1821166200-1821168000@www.sinaitemple.org
SUMMARY:Daily Minyan
DESCRIPTION:In person in Kohn chapel and online on our YouTube channel.
URL:https://www.sinaitemple.org/event/virtual-daily-minyan-15/2027-09-17/
LOCATION:Kohn Chapel
CATEGORIES:Worship Services
END:VEVENT
BEGIN:VEVENT
DTSTART;TZID=America/Los_Angeles:20270917T174500
DTEND;TZID=America/Los_Angeles:20270917T181500
DTSTAMP:20260425T071106
CREATED:20251117T184919Z
LAST-MODIFIED:20251117T184919Z
UID:10030895-1821203100-1821204900@www.sinaitemple.org
SUMMARY:Daily Minyan
DESCRIPTION:In person in Kohn chapel and online on our YouTube channel.
URL:https://www.sinaitemple.org/event/daily-minyan-25-2/2027-09-17/
LOCATION:Kohn Chapel
CATEGORIES:Worship Services
END:VEVENT
BEGIN:VEVENT
DTSTART;TZID=America/Los_Angeles:20270917T174500
DTEND;TZID=America/Los_Angeles:20270917T184500
DTSTAMP:20260425T071106
CREATED:20210108T195503Z
LAST-MODIFIED:20250807T175953Z
UID:10030183-1821203100-1821206700@www.sinaitemple.org
SUMMARY:Kabbalat Shabbat Service
DESCRIPTION:Join us in person in Kohn Chapel or watch on our YouTube channel.
URL:https://www.sinaitemple.org/event/virtual-kabbalat-shabbat-service-2-2021-09-17/2027-09-17/
LOCATION:Sinai Temple
END:VEVENT
BEGIN:VEVENT
DTSTART;TZID=America/Los_Angeles:20270918T090000
DTEND;TZID=America/Los_Angeles:20270918T100000
DTSTAMP:20260425T071106
CREATED:20170406T190706Z
LAST-MODIFIED:20250814T203647Z
UID:10031056-1821258000-1821261600@www.sinaitemple.org
SUMMARY:Torah at the Table
DESCRIPTION:Torah at the Table is facilitated by lay leaders and runs every Saturday morning from 9:00-10:30 a.m. Held in Upper Traub or online. \nClick HERE to join via Zoom!
URL:https://www.sinaitemple.org/event/torah-at-the-table-2022-06-11/2027-09-18/
ATTACH;FMTTYPE=image/jpeg:https://www.sinaitemple.org/wp-content/uploads/2017/04/TorahattheTable@2x.jpg
END:VEVENT
BEGIN:VEVENT
DTSTART;TZID=America/Los_Angeles:20270918T090000
DTEND;TZID=America/Los_Angeles:20270918T110000
DTSTAMP:20260425T071106
CREATED:20201223T211515Z
LAST-MODIFIED:20250807T180357Z
UID:10026978-1821258000-1821265200@www.sinaitemple.org
SUMMARY:Shabbat Morning Service
DESCRIPTION:
URL:https://www.sinaitemple.org/event/shabbat-morning-service/2027-09-18/
LOCATION:Sinai Temple
CATEGORIES:Worship Services
END:VEVENT
BEGIN:VEVENT
DTSTART;TZID=America/Los_Angeles:20270918T210000
DTEND;TZID=America/Los_Angeles:20270918T213000
DTSTAMP:20260425T071106
CREATED:20220705T154054Z
LAST-MODIFIED:20250814T203557Z
UID:10031378-1821301200-1821303000@www.sinaitemple.org
SUMMARY:Daily Minyan
DESCRIPTION:Online ONLY. Click HERE to watch.
URL:https://www.sinaitemple.org/event/daily-minyan-11-2022-07-16/2027-09-18/
CATEGORIES:Worship Services
END:VEVENT
BEGIN:VEVENT
DTSTART;TZID=America/Los_Angeles:20270919T083000
DTEND;TZID=America/Los_Angeles:20270919T090000
DTSTAMP:20260425T071106
CREATED:20210813T180515Z
LAST-MODIFIED:20250814T203516Z
UID:10027139-1821342600-1821344400@www.sinaitemple.org
SUMMARY:Daily Minyan
DESCRIPTION:In person in Kohn chapel and online on our YouTube channel.
URL:https://www.sinaitemple.org/event/virtually-daily-minyan-2021-08-22/2027-09-19/
LOCATION:Kohn Chapel
CATEGORIES:Worship Services
END:VEVENT
BEGIN:VEVENT
DTSTART;TZID=America/Los_Angeles:20270919T174500
DTEND;TZID=America/Los_Angeles:20270919T184500
DTSTAMP:20260425T071106
CREATED:20260213T174655Z
LAST-MODIFIED:20260410T182919Z
UID:10033659-1821375900-1821379500@www.sinaitemple.org
SUMMARY:Evening Minyan
DESCRIPTION:In person in Kohn chapel and online on our YouTube channel.
URL:https://www.sinaitemple.org/event/evening-minyan/2027-09-19/
LOCATION:Kohn Chapel
CATEGORIES:Worship Services
END:VEVENT
END:VCALENDAR