BEGIN:VCALENDAR
VERSION:2.0
PRODID:-//Sinai Temple - ECPv6.15.18//NONSGML v1.0//EN
CALSCALE:GREGORIAN
METHOD:PUBLISH
X-WR-CALNAME:Sinai Temple
X-ORIGINAL-URL:https://www.sinaitemple.org
X-WR-CALDESC:Events for Sinai Temple
REFRESH-INTERVAL;VALUE=DURATION:PT1H
X-Robots-Tag:noindex
X-PUBLISHED-TTL:PT1H
BEGIN:VTIMEZONE
TZID:America/Los_Angeles
BEGIN:DAYLIGHT
TZOFFSETFROM:-0800
TZOFFSETTO:-0700
TZNAME:PDT
DTSTART:20270314T100000
END:DAYLIGHT
BEGIN:STANDARD
TZOFFSETFROM:-0700
TZOFFSETTO:-0800
TZNAME:PST
DTSTART:20271107T090000
END:STANDARD
BEGIN:DAYLIGHT
TZOFFSETFROM:-0800
TZOFFSETTO:-0700
TZNAME:PDT
DTSTART:20280312T100000
END:DAYLIGHT
BEGIN:STANDARD
TZOFFSETFROM:-0700
TZOFFSETTO:-0800
TZNAME:PST
DTSTART:20281105T090000
END:STANDARD
BEGIN:DAYLIGHT
TZOFFSETFROM:-0800
TZOFFSETTO:-0700
TZNAME:PDT
DTSTART:20290311T100000
END:DAYLIGHT
BEGIN:STANDARD
TZOFFSETFROM:-0700
TZOFFSETTO:-0800
TZNAME:PST
DTSTART:20291104T090000
END:STANDARD
END:VTIMEZONE
BEGIN:VEVENT
DTSTART;TZID=America/Los_Angeles:20280328T174500
DTEND;TZID=America/Los_Angeles:20280328T181500
DTSTAMP:20260421T015501
CREATED:20220801T162701Z
LAST-MODIFIED:20250814T203535Z
UID:10028294-1837878300-1837880100@www.sinaitemple.org
SUMMARY:Daily Minyan
DESCRIPTION:In person in Kohn chapel and online on our YouTube channel.
URL:https://www.sinaitemple.org/event/daily-minyan-15/2028-03-28/
LOCATION:Kohn Chapel
CATEGORIES:Worship Services
END:VEVENT
BEGIN:VEVENT
DTSTART;TZID=America/Los_Angeles:20280329T073000
DTEND;TZID=America/Los_Angeles:20280329T080000
DTSTAMP:20260421T015501
CREATED:20250807T174950Z
LAST-MODIFIED:20250814T203539Z
UID:10028850-1837927800-1837929600@www.sinaitemple.org
SUMMARY:Daily Minyan
DESCRIPTION:In person in Kohn chapel and online on our YouTube channel.
URL:https://www.sinaitemple.org/event/daily-minyan-23/2028-03-29/
LOCATION:Kohn Chapel
CATEGORIES:Worship Services
END:VEVENT
BEGIN:VEVENT
DTSTART;TZID=America/Los_Angeles:20280329T093000
DTEND;TZID=America/Los_Angeles:20280329T103000
DTSTAMP:20260421T015501
CREATED:20250827T222718Z
LAST-MODIFIED:20260304T173057Z
UID:10029566-1837935000-1837938600@www.sinaitemple.org
SUMMARY:The Balance Class
DESCRIPTION:The 10/100 Program consists of six simple movements designed to grow your brain (neuroplasticity)\, improve your balance (proprioception) and strengthen your immune system. \nGroup Classes are FREE! Wednesdays from 9:30 -10:30 a.m. VIA ZOOM! \nClick HERE to join via Zoom during meeting time.
URL:https://www.sinaitemple.org/event/the-balance-class-2022-07-20-2/2028-03-29/
LOCATION:Sinai Temple
CATEGORIES:Events,Sisterhood
ATTACH;FMTTYPE=image/jpeg:https://www.sinaitemple.org/wp-content/uploads/2022/02/Untitled-design.jpg
END:VEVENT
BEGIN:VEVENT
DTSTART;TZID=America/Los_Angeles:20280329T103000
DTEND;TZID=America/Los_Angeles:20280329T120000
DTSTAMP:20260421T015501
CREATED:20251016T193001Z
LAST-MODIFIED:20251125T174414Z
UID:10033233-1837938600-1837944000@www.sinaitemple.org
SUMMARY:Art Workshop with Gail Rollman
DESCRIPTION:Wednesdays\, 10:30 AM–12:00 PM at Sinai | Weekly (Jewish holidays excepted) | $10 per class (materials included)Explore collage\, mixed media\, watercolor\, acrylic painting\, and crafts. Learn new techniques and have fun each week. Pay at the door. \nRSVP to Gail at garollman@yahoo.com.
URL:https://www.sinaitemple.org/event/art-workshop-with-gail-rollman-3/2028-03-29/
LOCATION:Sinai Temple
CATEGORIES:Sisterhood
ATTACH;FMTTYPE=image/jpeg:https://www.sinaitemple.org/wp-content/uploads/2025/10/Sushi-night-Amir-2.jpg
END:VEVENT
BEGIN:VEVENT
DTSTART;TZID=America/Los_Angeles:20280329T174500
DTEND;TZID=America/Los_Angeles:20280329T181500
DTSTAMP:20260421T015501
CREATED:20201223T214532Z
LAST-MODIFIED:20250814T203608Z
UID:10026365-1837964700-1837966500@www.sinaitemple.org
SUMMARY:Daily Minyan
DESCRIPTION:In person in Kohn chapel and online on our YouTube channel.
URL:https://www.sinaitemple.org/event/virtual-daily-minyan-12/2028-03-29/
LOCATION:Kohn Chapel
CATEGORIES:Worship Services
END:VEVENT
BEGIN:VEVENT
DTSTART;TZID=America/Los_Angeles:20280330T073000
DTEND;TZID=America/Los_Angeles:20280330T080000
DTSTAMP:20260421T015501
CREATED:20210917T195757Z
LAST-MODIFIED:20250814T203543Z
UID:10026205-1838014200-1838016000@www.sinaitemple.org
SUMMARY:Daily Minyan
DESCRIPTION:In person in Kohn chapel and online on our YouTube channel.
URL:https://www.sinaitemple.org/event/virtual-daily-minyan-20/2028-03-30/
LOCATION:Kohn Chapel
CATEGORIES:Worship Services
END:VEVENT
BEGIN:VEVENT
DTSTART;TZID=America/Los_Angeles:20280330T083000
DTEND;TZID=America/Los_Angeles:20280330T093000
DTSTAMP:20260421T015501
CREATED:20250902T175749Z
LAST-MODIFIED:20250902T175907Z
UID:10032379-1838017800-1838021400@www.sinaitemple.org
SUMMARY:Weekly Parsha Class
DESCRIPTION:Every Thursday at 8:30am (outside of holidays) \n\n\n\nJoin us as Sinai Temple’s rotating clergy lead an in-depth exploration of the weekly Parsha. \n\n\nClass is offered exclusively online. \n\n\nRegister to receive the broadcast link. \nRegister Here 
URL:https://www.sinaitemple.org/event/weekly-parsha-class/2028-03-30/
LOCATION:Zoom\, 10400 Wilshire Blvd\, Los Angeles\, CA\, 90024\, United States
CATEGORIES:Events
ATTACH;FMTTYPE=image/png:https://www.sinaitemple.org/wp-content/uploads/2025/09/Weekly-Parsha-Class-Flyer-.png
END:VEVENT
BEGIN:VEVENT
DTSTART;TZID=America/Los_Angeles:20280330T160000
DTEND;TZID=America/Los_Angeles:20280330T180000
DTSTAMP:20260421T015501
CREATED:20251016T192638Z
LAST-MODIFIED:20260420T232209Z
UID:10032973-1838044800-1838052000@www.sinaitemple.org
SUMMARY:Mah Jongg with Estelle Marco
DESCRIPTION:Thursdays\, 4:00–6:00 PM at Sinai | 8-week sessions | $100 per person \nFor beginners and intermediate players. Space is limited—first come\, first served. \nSession runs from April 16 to June 4. \nRSVP Here
URL:https://www.sinaitemple.org/event/mah-jongg-with-estelle-marco/2028-03-30/
LOCATION:Sinai Temple
CATEGORIES:Sisterhood
ATTACH;FMTTYPE=image/jpeg:https://www.sinaitemple.org/wp-content/uploads/2025/10/Sushi-night-Amir-1.jpg
END:VEVENT
BEGIN:VEVENT
DTSTART;TZID=America/Los_Angeles:20280330T174500
DTEND;TZID=America/Los_Angeles:20280330T181500
DTSTAMP:20260421T015501
CREATED:20250807T175230Z
LAST-MODIFIED:20250814T203547Z
UID:10029406-1838051100-1838052900@www.sinaitemple.org
SUMMARY:Daily Minyan
DESCRIPTION:In person in Kohn chapel and online on our YouTube channel.
URL:https://www.sinaitemple.org/event/daily-minyan-24/2028-03-30/
LOCATION:Kohn Chapel
CATEGORIES:Worship Services
END:VEVENT
BEGIN:VEVENT
DTSTART;TZID=America/Los_Angeles:20280331T073000
DTEND;TZID=America/Los_Angeles:20280331T080000
DTSTAMP:20260421T015501
CREATED:20201231T182859Z
LAST-MODIFIED:20250814T203550Z
UID:10029889-1838100600-1838102400@www.sinaitemple.org
SUMMARY:Daily Minyan
DESCRIPTION:In person in Kohn chapel and online on our YouTube channel.
URL:https://www.sinaitemple.org/event/virtual-daily-minyan-15/2028-03-31/
LOCATION:Kohn Chapel
CATEGORIES:Worship Services
END:VEVENT
BEGIN:VEVENT
DTSTART;TZID=America/Los_Angeles:20280331T174500
DTEND;TZID=America/Los_Angeles:20280331T181500
DTSTAMP:20260421T015501
CREATED:20251117T184919Z
LAST-MODIFIED:20251117T184919Z
UID:10030923-1838137500-1838139300@www.sinaitemple.org
SUMMARY:Daily Minyan
DESCRIPTION:In person in Kohn chapel and online on our YouTube channel.
URL:https://www.sinaitemple.org/event/daily-minyan-25-2/2028-03-31/
LOCATION:Kohn Chapel
CATEGORIES:Worship Services
END:VEVENT
BEGIN:VEVENT
DTSTART;TZID=America/Los_Angeles:20280331T174500
DTEND;TZID=America/Los_Angeles:20280331T184500
DTSTAMP:20260421T015501
CREATED:20210108T195503Z
LAST-MODIFIED:20250807T175953Z
UID:10030211-1838137500-1838141100@www.sinaitemple.org
SUMMARY:Kabbalat Shabbat Service
DESCRIPTION:Join us in person in Kohn Chapel or watch on our YouTube channel.
URL:https://www.sinaitemple.org/event/virtual-kabbalat-shabbat-service-2-2021-09-17/2028-03-31/
LOCATION:Sinai Temple
END:VEVENT
BEGIN:VEVENT
DTSTART;TZID=America/Los_Angeles:20280401T090000
DTEND;TZID=America/Los_Angeles:20280401T100000
DTSTAMP:20260421T015501
CREATED:20170406T190706Z
LAST-MODIFIED:20250814T203647Z
UID:10031084-1838192400-1838196000@www.sinaitemple.org
SUMMARY:Torah at the Table
DESCRIPTION:Torah at the Table is facilitated by lay leaders and runs every Saturday morning from 9:00-10:30 a.m. Held in Upper Traub or online. \nClick HERE to join via Zoom!
URL:https://www.sinaitemple.org/event/torah-at-the-table-2022-06-11/2028-04-01/
ATTACH;FMTTYPE=image/jpeg:https://www.sinaitemple.org/wp-content/uploads/2017/04/TorahattheTable@2x.jpg
END:VEVENT
BEGIN:VEVENT
DTSTART;TZID=America/Los_Angeles:20280401T090000
DTEND;TZID=America/Los_Angeles:20280401T110000
DTSTAMP:20260421T015501
CREATED:20201223T211515Z
LAST-MODIFIED:20250807T180357Z
UID:10027006-1838192400-1838199600@www.sinaitemple.org
SUMMARY:Shabbat Morning Service
DESCRIPTION:
URL:https://www.sinaitemple.org/event/shabbat-morning-service/2028-04-01/
LOCATION:Sinai Temple
CATEGORIES:Worship Services
END:VEVENT
BEGIN:VEVENT
DTSTART;TZID=America/Los_Angeles:20280401T210000
DTEND;TZID=America/Los_Angeles:20280401T213000
DTSTAMP:20260421T015501
CREATED:20220705T154054Z
LAST-MODIFIED:20250814T203557Z
UID:10031406-1838235600-1838237400@www.sinaitemple.org
SUMMARY:Daily Minyan
DESCRIPTION:Online ONLY. Click HERE to watch.
URL:https://www.sinaitemple.org/event/daily-minyan-11-2022-07-16/2028-04-01/
CATEGORIES:Worship Services
END:VEVENT
BEGIN:VEVENT
DTSTART;TZID=America/Los_Angeles:20280402T083000
DTEND;TZID=America/Los_Angeles:20280402T090000
DTSTAMP:20260421T015501
CREATED:20210813T180515Z
LAST-MODIFIED:20250814T203516Z
UID:10027167-1838277000-1838278800@www.sinaitemple.org
SUMMARY:Daily Minyan
DESCRIPTION:In person in Kohn chapel and online on our YouTube channel.
URL:https://www.sinaitemple.org/event/virtually-daily-minyan-2021-08-22/2028-04-02/
LOCATION:Kohn Chapel
CATEGORIES:Worship Services
END:VEVENT
BEGIN:VEVENT
DTSTART;TZID=America/Los_Angeles:20280402T174500
DTEND;TZID=America/Los_Angeles:20280402T184500
DTSTAMP:20260421T015501
CREATED:20260213T174655Z
LAST-MODIFIED:20260410T182919Z
UID:10033687-1838310300-1838313900@www.sinaitemple.org
SUMMARY:Evening Minyan
DESCRIPTION:In person in Kohn chapel and online on our YouTube channel.
URL:https://www.sinaitemple.org/event/evening-minyan/2028-04-02/
LOCATION:Kohn Chapel
CATEGORIES:Worship Services
END:VEVENT
BEGIN:VEVENT
DTSTART;TZID=America/Los_Angeles:20280403T073000
DTEND;TZID=America/Los_Angeles:20280403T080000
DTSTAMP:20260421T015501
CREATED:20201223T212659Z
LAST-MODIFIED:20250814T203521Z
UID:10026045-1838359800-1838361600@www.sinaitemple.org
SUMMARY:Daily Minyan
DESCRIPTION:In person in Kohn chapel and online on our YouTube channel.
URL:https://www.sinaitemple.org/event/virtual-daily-minyan-6-2022-11-07/2028-04-03/
LOCATION:Kohn Chapel
CATEGORIES:Worship Services
END:VEVENT
BEGIN:VEVENT
DTSTART;TZID=America/Los_Angeles:20280403T120000
DTEND;TZID=America/Los_Angeles:20280403T140000
DTSTAMP:20260421T015501
CREATED:20251016T192307Z
LAST-MODIFIED:20260420T193211Z
UID:10034030-1838376000-1838383200@www.sinaitemple.org
SUMMARY:Calligraphy with DeAnn Singh
DESCRIPTION:Learn different pen point styles\, how to address invitations\, and create a small book using the Japanese stab binding technique. Click here to read a profile on DeAnn from ShoutoutLA. \nClick here to read a profile on DeAnn from ShoutoutLA.
URL:https://www.sinaitemple.org/event/calligraphy-with-deann-singh/2028-04-03/
LOCATION:Sinai Temple
CATEGORIES:Sisterhood
ATTACH;FMTTYPE=image/png:https://www.sinaitemple.org/wp-content/uploads/2025/10/Sushi-night-Amir-10.png
END:VEVENT
BEGIN:VEVENT
DTSTART;TZID=America/Los_Angeles:20280403T174500
DTEND;TZID=America/Los_Angeles:20280403T181500
DTSTAMP:20260421T015501
CREATED:20251117T185130Z
LAST-MODIFIED:20251117T185131Z
UID:10026846-1838396700-1838398500@www.sinaitemple.org
SUMMARY:Daily Minyan
DESCRIPTION:In person in Kohn chapel and online on our YouTube channel.
URL:https://www.sinaitemple.org/event/virtual-daily-minyan-7-2/2028-04-03/
LOCATION:Kohn Chapel
CATEGORIES:Worship Services
END:VEVENT
BEGIN:VEVENT
DTSTART;TZID=America/Los_Angeles:20280404T073000
DTEND;TZID=America/Los_Angeles:20280404T080000
DTSTAMP:20260421T015501
CREATED:20221219T190023Z
LAST-MODIFIED:20250814T203532Z
UID:10026686-1838446200-1838448000@www.sinaitemple.org
SUMMARY:Daily Minyan
DESCRIPTION:In person in Kohn chapel and online on our YouTube channel.
URL:https://www.sinaitemple.org/event/daily-minyan-16/2028-04-04/
LOCATION:Kohn Chapel
CATEGORIES:Worship Services
END:VEVENT
BEGIN:VEVENT
DTSTART;TZID=America/Los_Angeles:20280404T174500
DTEND;TZID=America/Los_Angeles:20280404T181500
DTSTAMP:20260421T015501
CREATED:20220801T162701Z
LAST-MODIFIED:20250814T203535Z
UID:10028295-1838483100-1838484900@www.sinaitemple.org
SUMMARY:Daily Minyan
DESCRIPTION:In person in Kohn chapel and online on our YouTube channel.
URL:https://www.sinaitemple.org/event/daily-minyan-15/2028-04-04/
LOCATION:Kohn Chapel
CATEGORIES:Worship Services
END:VEVENT
BEGIN:VEVENT
DTSTART;TZID=America/Los_Angeles:20280405T073000
DTEND;TZID=America/Los_Angeles:20280405T080000
DTSTAMP:20260421T015501
CREATED:20250807T174950Z
LAST-MODIFIED:20250814T203539Z
UID:10028851-1838532600-1838534400@www.sinaitemple.org
SUMMARY:Daily Minyan
DESCRIPTION:In person in Kohn chapel and online on our YouTube channel.
URL:https://www.sinaitemple.org/event/daily-minyan-23/2028-04-05/
LOCATION:Kohn Chapel
CATEGORIES:Worship Services
END:VEVENT
BEGIN:VEVENT
DTSTART;TZID=America/Los_Angeles:20280405T093000
DTEND;TZID=America/Los_Angeles:20280405T103000
DTSTAMP:20260421T015501
CREATED:20250827T222718Z
LAST-MODIFIED:20260304T173057Z
UID:10029567-1838539800-1838543400@www.sinaitemple.org
SUMMARY:The Balance Class
DESCRIPTION:The 10/100 Program consists of six simple movements designed to grow your brain (neuroplasticity)\, improve your balance (proprioception) and strengthen your immune system. \nGroup Classes are FREE! Wednesdays from 9:30 -10:30 a.m. VIA ZOOM! \nClick HERE to join via Zoom during meeting time.
URL:https://www.sinaitemple.org/event/the-balance-class-2022-07-20-2/2028-04-05/
LOCATION:Sinai Temple
CATEGORIES:Events,Sisterhood
ATTACH;FMTTYPE=image/jpeg:https://www.sinaitemple.org/wp-content/uploads/2022/02/Untitled-design.jpg
END:VEVENT
BEGIN:VEVENT
DTSTART;TZID=America/Los_Angeles:20280405T103000
DTEND;TZID=America/Los_Angeles:20280405T120000
DTSTAMP:20260421T015501
CREATED:20251016T193001Z
LAST-MODIFIED:20251125T174414Z
UID:10033234-1838543400-1838548800@www.sinaitemple.org
SUMMARY:Art Workshop with Gail Rollman
DESCRIPTION:Wednesdays\, 10:30 AM–12:00 PM at Sinai | Weekly (Jewish holidays excepted) | $10 per class (materials included)Explore collage\, mixed media\, watercolor\, acrylic painting\, and crafts. Learn new techniques and have fun each week. Pay at the door. \nRSVP to Gail at garollman@yahoo.com.
URL:https://www.sinaitemple.org/event/art-workshop-with-gail-rollman-3/2028-04-05/
LOCATION:Sinai Temple
CATEGORIES:Sisterhood
ATTACH;FMTTYPE=image/jpeg:https://www.sinaitemple.org/wp-content/uploads/2025/10/Sushi-night-Amir-2.jpg
END:VEVENT
BEGIN:VEVENT
DTSTART;TZID=America/Los_Angeles:20280405T174500
DTEND;TZID=America/Los_Angeles:20280405T181500
DTSTAMP:20260421T015501
CREATED:20201223T214532Z
LAST-MODIFIED:20250814T203608Z
UID:10026366-1838569500-1838571300@www.sinaitemple.org
SUMMARY:Daily Minyan
DESCRIPTION:In person in Kohn chapel and online on our YouTube channel.
URL:https://www.sinaitemple.org/event/virtual-daily-minyan-12/2028-04-05/
LOCATION:Kohn Chapel
CATEGORIES:Worship Services
END:VEVENT
BEGIN:VEVENT
DTSTART;TZID=America/Los_Angeles:20280406T073000
DTEND;TZID=America/Los_Angeles:20280406T080000
DTSTAMP:20260421T015501
CREATED:20210917T195757Z
LAST-MODIFIED:20250814T203543Z
UID:10026206-1838619000-1838620800@www.sinaitemple.org
SUMMARY:Daily Minyan
DESCRIPTION:In person in Kohn chapel and online on our YouTube channel.
URL:https://www.sinaitemple.org/event/virtual-daily-minyan-20/2028-04-06/
LOCATION:Kohn Chapel
CATEGORIES:Worship Services
END:VEVENT
BEGIN:VEVENT
DTSTART;TZID=America/Los_Angeles:20280406T083000
DTEND;TZID=America/Los_Angeles:20280406T093000
DTSTAMP:20260421T015501
CREATED:20250902T175749Z
LAST-MODIFIED:20250902T175907Z
UID:10032380-1838622600-1838626200@www.sinaitemple.org
SUMMARY:Weekly Parsha Class
DESCRIPTION:Every Thursday at 8:30am (outside of holidays) \n\n\n\nJoin us as Sinai Temple’s rotating clergy lead an in-depth exploration of the weekly Parsha. \n\n\nClass is offered exclusively online. \n\n\nRegister to receive the broadcast link. \nRegister Here 
URL:https://www.sinaitemple.org/event/weekly-parsha-class/2028-04-06/
LOCATION:Zoom\, 10400 Wilshire Blvd\, Los Angeles\, CA\, 90024\, United States
CATEGORIES:Events
ATTACH;FMTTYPE=image/png:https://www.sinaitemple.org/wp-content/uploads/2025/09/Weekly-Parsha-Class-Flyer-.png
END:VEVENT
BEGIN:VEVENT
DTSTART;TZID=America/Los_Angeles:20280406T160000
DTEND;TZID=America/Los_Angeles:20280406T180000
DTSTAMP:20260421T015501
CREATED:20251016T192638Z
LAST-MODIFIED:20260420T232209Z
UID:10032974-1838649600-1838656800@www.sinaitemple.org
SUMMARY:Mah Jongg with Estelle Marco
DESCRIPTION:Thursdays\, 4:00–6:00 PM at Sinai | 8-week sessions | $100 per person \nFor beginners and intermediate players. Space is limited—first come\, first served. \nSession runs from April 16 to June 4. \nRSVP Here
URL:https://www.sinaitemple.org/event/mah-jongg-with-estelle-marco/2028-04-06/
LOCATION:Sinai Temple
CATEGORIES:Sisterhood
ATTACH;FMTTYPE=image/jpeg:https://www.sinaitemple.org/wp-content/uploads/2025/10/Sushi-night-Amir-1.jpg
END:VEVENT
BEGIN:VEVENT
DTSTART;TZID=America/Los_Angeles:20280406T174500
DTEND;TZID=America/Los_Angeles:20280406T181500
DTSTAMP:20260421T015501
CREATED:20250807T175230Z
LAST-MODIFIED:20250814T203547Z
UID:10029407-1838655900-1838657700@www.sinaitemple.org
SUMMARY:Daily Minyan
DESCRIPTION:In person in Kohn chapel and online on our YouTube channel.
URL:https://www.sinaitemple.org/event/daily-minyan-24/2028-04-06/
LOCATION:Kohn Chapel
CATEGORIES:Worship Services
END:VEVENT
END:VCALENDAR