BEGIN:VCALENDAR
VERSION:2.0
PRODID:-//Sinai Temple - ECPv6.15.18//NONSGML v1.0//EN
CALSCALE:GREGORIAN
METHOD:PUBLISH
X-WR-CALNAME:Sinai Temple
X-ORIGINAL-URL:https://www.sinaitemple.org
X-WR-CALDESC:Events for Sinai Temple
REFRESH-INTERVAL;VALUE=DURATION:PT1H
X-Robots-Tag:noindex
X-PUBLISHED-TTL:PT1H
BEGIN:VTIMEZONE
TZID:America/Los_Angeles
BEGIN:DAYLIGHT
TZOFFSETFROM:-0800
TZOFFSETTO:-0700
TZNAME:PDT
DTSTART:20260308T100000
END:DAYLIGHT
BEGIN:STANDARD
TZOFFSETFROM:-0700
TZOFFSETTO:-0800
TZNAME:PST
DTSTART:20261101T090000
END:STANDARD
BEGIN:DAYLIGHT
TZOFFSETFROM:-0800
TZOFFSETTO:-0700
TZNAME:PDT
DTSTART:20270314T100000
END:DAYLIGHT
BEGIN:STANDARD
TZOFFSETFROM:-0700
TZOFFSETTO:-0800
TZNAME:PST
DTSTART:20271107T090000
END:STANDARD
BEGIN:DAYLIGHT
TZOFFSETFROM:-0800
TZOFFSETTO:-0700
TZNAME:PDT
DTSTART:20280312T100000
END:DAYLIGHT
BEGIN:STANDARD
TZOFFSETFROM:-0700
TZOFFSETTO:-0800
TZNAME:PST
DTSTART:20281105T090000
END:STANDARD
END:VTIMEZONE
BEGIN:VEVENT
DTSTART;TZID=America/Los_Angeles:20270823T120000
DTEND;TZID=America/Los_Angeles:20270823T140000
DTSTAMP:20260425T042145
CREATED:20251016T192307Z
LAST-MODIFIED:20260420T193211Z
UID:10033998-1819022400-1819029600@www.sinaitemple.org
SUMMARY:Calligraphy with DeAnn Singh
DESCRIPTION:Learn different pen point styles\, how to address invitations\, and create a small book using the Japanese stab binding technique. Click here to read a profile on DeAnn from ShoutoutLA. \nClick here to read a profile on DeAnn from ShoutoutLA.
URL:https://www.sinaitemple.org/event/calligraphy-with-deann-singh/2027-08-23/
LOCATION:Sinai Temple
CATEGORIES:Sisterhood
ATTACH;FMTTYPE=image/png:https://www.sinaitemple.org/wp-content/uploads/2025/10/Sushi-night-Amir-10.png
END:VEVENT
BEGIN:VEVENT
DTSTART;TZID=America/Los_Angeles:20270825T093000
DTEND;TZID=America/Los_Angeles:20270825T103000
DTSTAMP:20260425T042145
CREATED:20250827T222718Z
LAST-MODIFIED:20260304T173057Z
UID:10029535-1819186200-1819189800@www.sinaitemple.org
SUMMARY:The Balance Class
DESCRIPTION:The 10/100 Program consists of six simple movements designed to grow your brain (neuroplasticity)\, improve your balance (proprioception) and strengthen your immune system. \nGroup Classes are FREE! Wednesdays from 9:30 -10:30 a.m. VIA ZOOM! \nClick HERE to join via Zoom during meeting time.
URL:https://www.sinaitemple.org/event/the-balance-class-2022-07-20-2/2027-08-25/
LOCATION:Sinai Temple
CATEGORIES:Events,Sisterhood
ATTACH;FMTTYPE=image/jpeg:https://www.sinaitemple.org/wp-content/uploads/2022/02/Untitled-design.jpg
END:VEVENT
BEGIN:VEVENT
DTSTART;TZID=America/Los_Angeles:20270825T103000
DTEND;TZID=America/Los_Angeles:20270825T120000
DTSTAMP:20260425T042145
CREATED:20251016T193001Z
LAST-MODIFIED:20251125T174414Z
UID:10033202-1819189800-1819195200@www.sinaitemple.org
SUMMARY:Art Workshop with Gail Rollman
DESCRIPTION:Wednesdays\, 10:30 AM–12:00 PM at Sinai | Weekly (Jewish holidays excepted) | $10 per class (materials included)Explore collage\, mixed media\, watercolor\, acrylic painting\, and crafts. Learn new techniques and have fun each week. Pay at the door. \nRSVP to Gail at garollman@yahoo.com.
URL:https://www.sinaitemple.org/event/art-workshop-with-gail-rollman-3/2027-08-25/
LOCATION:Sinai Temple
CATEGORIES:Sisterhood
ATTACH;FMTTYPE=image/jpeg:https://www.sinaitemple.org/wp-content/uploads/2025/10/Sushi-night-Amir-2.jpg
END:VEVENT
BEGIN:VEVENT
DTSTART;TZID=America/Los_Angeles:20270826T160000
DTEND;TZID=America/Los_Angeles:20270826T180000
DTSTAMP:20260425T042145
CREATED:20251016T192638Z
LAST-MODIFIED:20260420T232209Z
UID:10032942-1819296000-1819303200@www.sinaitemple.org
SUMMARY:Mah Jongg with Estelle Marco
DESCRIPTION:Thursdays\, 4:00–6:00 PM at Sinai | 8-week sessions | $100 per person \nFor beginners and intermediate players. Space is limited—first come\, first served. \nSession runs from April 16 to June 4. \nRSVP Here
URL:https://www.sinaitemple.org/event/mah-jongg-with-estelle-marco/2027-08-26/
LOCATION:Sinai Temple
CATEGORIES:Sisterhood
ATTACH;FMTTYPE=image/jpeg:https://www.sinaitemple.org/wp-content/uploads/2025/10/Sushi-night-Amir-1.jpg
END:VEVENT
BEGIN:VEVENT
DTSTART;TZID=America/Los_Angeles:20270830T120000
DTEND;TZID=America/Los_Angeles:20270830T140000
DTSTAMP:20260425T042145
CREATED:20251016T192307Z
LAST-MODIFIED:20260420T193211Z
UID:10033999-1819627200-1819634400@www.sinaitemple.org
SUMMARY:Calligraphy with DeAnn Singh
DESCRIPTION:Learn different pen point styles\, how to address invitations\, and create a small book using the Japanese stab binding technique. Click here to read a profile on DeAnn from ShoutoutLA. \nClick here to read a profile on DeAnn from ShoutoutLA.
URL:https://www.sinaitemple.org/event/calligraphy-with-deann-singh/2027-08-30/
LOCATION:Sinai Temple
CATEGORIES:Sisterhood
ATTACH;FMTTYPE=image/png:https://www.sinaitemple.org/wp-content/uploads/2025/10/Sushi-night-Amir-10.png
END:VEVENT
BEGIN:VEVENT
DTSTART;TZID=America/Los_Angeles:20270901T093000
DTEND;TZID=America/Los_Angeles:20270901T103000
DTSTAMP:20260425T042145
CREATED:20250827T222718Z
LAST-MODIFIED:20260304T173057Z
UID:10029536-1819791000-1819794600@www.sinaitemple.org
SUMMARY:The Balance Class
DESCRIPTION:The 10/100 Program consists of six simple movements designed to grow your brain (neuroplasticity)\, improve your balance (proprioception) and strengthen your immune system. \nGroup Classes are FREE! Wednesdays from 9:30 -10:30 a.m. VIA ZOOM! \nClick HERE to join via Zoom during meeting time.
URL:https://www.sinaitemple.org/event/the-balance-class-2022-07-20-2/2027-09-01/
LOCATION:Sinai Temple
CATEGORIES:Events,Sisterhood
ATTACH;FMTTYPE=image/jpeg:https://www.sinaitemple.org/wp-content/uploads/2022/02/Untitled-design.jpg
END:VEVENT
BEGIN:VEVENT
DTSTART;TZID=America/Los_Angeles:20270901T103000
DTEND;TZID=America/Los_Angeles:20270901T120000
DTSTAMP:20260425T042145
CREATED:20251016T193001Z
LAST-MODIFIED:20251125T174414Z
UID:10033203-1819794600-1819800000@www.sinaitemple.org
SUMMARY:Art Workshop with Gail Rollman
DESCRIPTION:Wednesdays\, 10:30 AM–12:00 PM at Sinai | Weekly (Jewish holidays excepted) | $10 per class (materials included)Explore collage\, mixed media\, watercolor\, acrylic painting\, and crafts. Learn new techniques and have fun each week. Pay at the door. \nRSVP to Gail at garollman@yahoo.com.
URL:https://www.sinaitemple.org/event/art-workshop-with-gail-rollman-3/2027-09-01/
LOCATION:Sinai Temple
CATEGORIES:Sisterhood
ATTACH;FMTTYPE=image/jpeg:https://www.sinaitemple.org/wp-content/uploads/2025/10/Sushi-night-Amir-2.jpg
END:VEVENT
BEGIN:VEVENT
DTSTART;TZID=America/Los_Angeles:20270902T160000
DTEND;TZID=America/Los_Angeles:20270902T180000
DTSTAMP:20260425T042145
CREATED:20251016T192638Z
LAST-MODIFIED:20260420T232209Z
UID:10032943-1819900800-1819908000@www.sinaitemple.org
SUMMARY:Mah Jongg with Estelle Marco
DESCRIPTION:Thursdays\, 4:00–6:00 PM at Sinai | 8-week sessions | $100 per person \nFor beginners and intermediate players. Space is limited—first come\, first served. \nSession runs from April 16 to June 4. \nRSVP Here
URL:https://www.sinaitemple.org/event/mah-jongg-with-estelle-marco/2027-09-02/
LOCATION:Sinai Temple
CATEGORIES:Sisterhood
ATTACH;FMTTYPE=image/jpeg:https://www.sinaitemple.org/wp-content/uploads/2025/10/Sushi-night-Amir-1.jpg
END:VEVENT
BEGIN:VEVENT
DTSTART;TZID=America/Los_Angeles:20270906T120000
DTEND;TZID=America/Los_Angeles:20270906T140000
DTSTAMP:20260425T042145
CREATED:20251016T192307Z
LAST-MODIFIED:20260420T193211Z
UID:10034000-1820232000-1820239200@www.sinaitemple.org
SUMMARY:Calligraphy with DeAnn Singh
DESCRIPTION:Learn different pen point styles\, how to address invitations\, and create a small book using the Japanese stab binding technique. Click here to read a profile on DeAnn from ShoutoutLA. \nClick here to read a profile on DeAnn from ShoutoutLA.
URL:https://www.sinaitemple.org/event/calligraphy-with-deann-singh/2027-09-06/
LOCATION:Sinai Temple
CATEGORIES:Sisterhood
ATTACH;FMTTYPE=image/png:https://www.sinaitemple.org/wp-content/uploads/2025/10/Sushi-night-Amir-10.png
END:VEVENT
BEGIN:VEVENT
DTSTART;TZID=America/Los_Angeles:20270908T093000
DTEND;TZID=America/Los_Angeles:20270908T103000
DTSTAMP:20260425T042145
CREATED:20250827T222718Z
LAST-MODIFIED:20260304T173057Z
UID:10029537-1820395800-1820399400@www.sinaitemple.org
SUMMARY:The Balance Class
DESCRIPTION:The 10/100 Program consists of six simple movements designed to grow your brain (neuroplasticity)\, improve your balance (proprioception) and strengthen your immune system. \nGroup Classes are FREE! Wednesdays from 9:30 -10:30 a.m. VIA ZOOM! \nClick HERE to join via Zoom during meeting time.
URL:https://www.sinaitemple.org/event/the-balance-class-2022-07-20-2/2027-09-08/
LOCATION:Sinai Temple
CATEGORIES:Events,Sisterhood
ATTACH;FMTTYPE=image/jpeg:https://www.sinaitemple.org/wp-content/uploads/2022/02/Untitled-design.jpg
END:VEVENT
BEGIN:VEVENT
DTSTART;TZID=America/Los_Angeles:20270908T103000
DTEND;TZID=America/Los_Angeles:20270908T120000
DTSTAMP:20260425T042145
CREATED:20251016T193001Z
LAST-MODIFIED:20251125T174414Z
UID:10033204-1820399400-1820404800@www.sinaitemple.org
SUMMARY:Art Workshop with Gail Rollman
DESCRIPTION:Wednesdays\, 10:30 AM–12:00 PM at Sinai | Weekly (Jewish holidays excepted) | $10 per class (materials included)Explore collage\, mixed media\, watercolor\, acrylic painting\, and crafts. Learn new techniques and have fun each week. Pay at the door. \nRSVP to Gail at garollman@yahoo.com.
URL:https://www.sinaitemple.org/event/art-workshop-with-gail-rollman-3/2027-09-08/
LOCATION:Sinai Temple
CATEGORIES:Sisterhood
ATTACH;FMTTYPE=image/jpeg:https://www.sinaitemple.org/wp-content/uploads/2025/10/Sushi-night-Amir-2.jpg
END:VEVENT
BEGIN:VEVENT
DTSTART;TZID=America/Los_Angeles:20270909T160000
DTEND;TZID=America/Los_Angeles:20270909T180000
DTSTAMP:20260425T042145
CREATED:20251016T192638Z
LAST-MODIFIED:20260420T232209Z
UID:10032944-1820505600-1820512800@www.sinaitemple.org
SUMMARY:Mah Jongg with Estelle Marco
DESCRIPTION:Thursdays\, 4:00–6:00 PM at Sinai | 8-week sessions | $100 per person \nFor beginners and intermediate players. Space is limited—first come\, first served. \nSession runs from April 16 to June 4. \nRSVP Here
URL:https://www.sinaitemple.org/event/mah-jongg-with-estelle-marco/2027-09-09/
LOCATION:Sinai Temple
CATEGORIES:Sisterhood
ATTACH;FMTTYPE=image/jpeg:https://www.sinaitemple.org/wp-content/uploads/2025/10/Sushi-night-Amir-1.jpg
END:VEVENT
BEGIN:VEVENT
DTSTART;TZID=America/Los_Angeles:20270913T120000
DTEND;TZID=America/Los_Angeles:20270913T140000
DTSTAMP:20260425T042145
CREATED:20251016T192307Z
LAST-MODIFIED:20260420T193211Z
UID:10034001-1820836800-1820844000@www.sinaitemple.org
SUMMARY:Calligraphy with DeAnn Singh
DESCRIPTION:Learn different pen point styles\, how to address invitations\, and create a small book using the Japanese stab binding technique. Click here to read a profile on DeAnn from ShoutoutLA. \nClick here to read a profile on DeAnn from ShoutoutLA.
URL:https://www.sinaitemple.org/event/calligraphy-with-deann-singh/2027-09-13/
LOCATION:Sinai Temple
CATEGORIES:Sisterhood
ATTACH;FMTTYPE=image/png:https://www.sinaitemple.org/wp-content/uploads/2025/10/Sushi-night-Amir-10.png
END:VEVENT
BEGIN:VEVENT
DTSTART;TZID=America/Los_Angeles:20270915T093000
DTEND;TZID=America/Los_Angeles:20270915T103000
DTSTAMP:20260425T042145
CREATED:20250827T222718Z
LAST-MODIFIED:20260304T173057Z
UID:10029538-1821000600-1821004200@www.sinaitemple.org
SUMMARY:The Balance Class
DESCRIPTION:The 10/100 Program consists of six simple movements designed to grow your brain (neuroplasticity)\, improve your balance (proprioception) and strengthen your immune system. \nGroup Classes are FREE! Wednesdays from 9:30 -10:30 a.m. VIA ZOOM! \nClick HERE to join via Zoom during meeting time.
URL:https://www.sinaitemple.org/event/the-balance-class-2022-07-20-2/2027-09-15/
LOCATION:Sinai Temple
CATEGORIES:Events,Sisterhood
ATTACH;FMTTYPE=image/jpeg:https://www.sinaitemple.org/wp-content/uploads/2022/02/Untitled-design.jpg
END:VEVENT
BEGIN:VEVENT
DTSTART;TZID=America/Los_Angeles:20270915T103000
DTEND;TZID=America/Los_Angeles:20270915T120000
DTSTAMP:20260425T042145
CREATED:20251016T193001Z
LAST-MODIFIED:20251125T174414Z
UID:10033205-1821004200-1821009600@www.sinaitemple.org
SUMMARY:Art Workshop with Gail Rollman
DESCRIPTION:Wednesdays\, 10:30 AM–12:00 PM at Sinai | Weekly (Jewish holidays excepted) | $10 per class (materials included)Explore collage\, mixed media\, watercolor\, acrylic painting\, and crafts. Learn new techniques and have fun each week. Pay at the door. \nRSVP to Gail at garollman@yahoo.com.
URL:https://www.sinaitemple.org/event/art-workshop-with-gail-rollman-3/2027-09-15/
LOCATION:Sinai Temple
CATEGORIES:Sisterhood
ATTACH;FMTTYPE=image/jpeg:https://www.sinaitemple.org/wp-content/uploads/2025/10/Sushi-night-Amir-2.jpg
END:VEVENT
BEGIN:VEVENT
DTSTART;TZID=America/Los_Angeles:20270916T160000
DTEND;TZID=America/Los_Angeles:20270916T180000
DTSTAMP:20260425T042145
CREATED:20251016T192638Z
LAST-MODIFIED:20260420T232209Z
UID:10032945-1821110400-1821117600@www.sinaitemple.org
SUMMARY:Mah Jongg with Estelle Marco
DESCRIPTION:Thursdays\, 4:00–6:00 PM at Sinai | 8-week sessions | $100 per person \nFor beginners and intermediate players. Space is limited—first come\, first served. \nSession runs from April 16 to June 4. \nRSVP Here
URL:https://www.sinaitemple.org/event/mah-jongg-with-estelle-marco/2027-09-16/
LOCATION:Sinai Temple
CATEGORIES:Sisterhood
ATTACH;FMTTYPE=image/jpeg:https://www.sinaitemple.org/wp-content/uploads/2025/10/Sushi-night-Amir-1.jpg
END:VEVENT
BEGIN:VEVENT
DTSTART;TZID=America/Los_Angeles:20270920T120000
DTEND;TZID=America/Los_Angeles:20270920T140000
DTSTAMP:20260425T042145
CREATED:20251016T192307Z
LAST-MODIFIED:20260420T193211Z
UID:10034002-1821441600-1821448800@www.sinaitemple.org
SUMMARY:Calligraphy with DeAnn Singh
DESCRIPTION:Learn different pen point styles\, how to address invitations\, and create a small book using the Japanese stab binding technique. Click here to read a profile on DeAnn from ShoutoutLA. \nClick here to read a profile on DeAnn from ShoutoutLA.
URL:https://www.sinaitemple.org/event/calligraphy-with-deann-singh/2027-09-20/
LOCATION:Sinai Temple
CATEGORIES:Sisterhood
ATTACH;FMTTYPE=image/png:https://www.sinaitemple.org/wp-content/uploads/2025/10/Sushi-night-Amir-10.png
END:VEVENT
BEGIN:VEVENT
DTSTART;TZID=America/Los_Angeles:20270922T093000
DTEND;TZID=America/Los_Angeles:20270922T103000
DTSTAMP:20260425T042145
CREATED:20250827T222718Z
LAST-MODIFIED:20260304T173057Z
UID:10029539-1821605400-1821609000@www.sinaitemple.org
SUMMARY:The Balance Class
DESCRIPTION:The 10/100 Program consists of six simple movements designed to grow your brain (neuroplasticity)\, improve your balance (proprioception) and strengthen your immune system. \nGroup Classes are FREE! Wednesdays from 9:30 -10:30 a.m. VIA ZOOM! \nClick HERE to join via Zoom during meeting time.
URL:https://www.sinaitemple.org/event/the-balance-class-2022-07-20-2/2027-09-22/
LOCATION:Sinai Temple
CATEGORIES:Events,Sisterhood
ATTACH;FMTTYPE=image/jpeg:https://www.sinaitemple.org/wp-content/uploads/2022/02/Untitled-design.jpg
END:VEVENT
BEGIN:VEVENT
DTSTART;TZID=America/Los_Angeles:20270922T103000
DTEND;TZID=America/Los_Angeles:20270922T120000
DTSTAMP:20260425T042145
CREATED:20251016T193001Z
LAST-MODIFIED:20251125T174414Z
UID:10033206-1821609000-1821614400@www.sinaitemple.org
SUMMARY:Art Workshop with Gail Rollman
DESCRIPTION:Wednesdays\, 10:30 AM–12:00 PM at Sinai | Weekly (Jewish holidays excepted) | $10 per class (materials included)Explore collage\, mixed media\, watercolor\, acrylic painting\, and crafts. Learn new techniques and have fun each week. Pay at the door. \nRSVP to Gail at garollman@yahoo.com.
URL:https://www.sinaitemple.org/event/art-workshop-with-gail-rollman-3/2027-09-22/
LOCATION:Sinai Temple
CATEGORIES:Sisterhood
ATTACH;FMTTYPE=image/jpeg:https://www.sinaitemple.org/wp-content/uploads/2025/10/Sushi-night-Amir-2.jpg
END:VEVENT
BEGIN:VEVENT
DTSTART;TZID=America/Los_Angeles:20270923T160000
DTEND;TZID=America/Los_Angeles:20270923T180000
DTSTAMP:20260425T042145
CREATED:20251016T192638Z
LAST-MODIFIED:20260420T232209Z
UID:10032946-1821715200-1821722400@www.sinaitemple.org
SUMMARY:Mah Jongg with Estelle Marco
DESCRIPTION:Thursdays\, 4:00–6:00 PM at Sinai | 8-week sessions | $100 per person \nFor beginners and intermediate players. Space is limited—first come\, first served. \nSession runs from April 16 to June 4. \nRSVP Here
URL:https://www.sinaitemple.org/event/mah-jongg-with-estelle-marco/2027-09-23/
LOCATION:Sinai Temple
CATEGORIES:Sisterhood
ATTACH;FMTTYPE=image/jpeg:https://www.sinaitemple.org/wp-content/uploads/2025/10/Sushi-night-Amir-1.jpg
END:VEVENT
BEGIN:VEVENT
DTSTART;TZID=America/Los_Angeles:20270927T120000
DTEND;TZID=America/Los_Angeles:20270927T140000
DTSTAMP:20260425T042145
CREATED:20251016T192307Z
LAST-MODIFIED:20260420T193211Z
UID:10034003-1822046400-1822053600@www.sinaitemple.org
SUMMARY:Calligraphy with DeAnn Singh
DESCRIPTION:Learn different pen point styles\, how to address invitations\, and create a small book using the Japanese stab binding technique. Click here to read a profile on DeAnn from ShoutoutLA. \nClick here to read a profile on DeAnn from ShoutoutLA.
URL:https://www.sinaitemple.org/event/calligraphy-with-deann-singh/2027-09-27/
LOCATION:Sinai Temple
CATEGORIES:Sisterhood
ATTACH;FMTTYPE=image/png:https://www.sinaitemple.org/wp-content/uploads/2025/10/Sushi-night-Amir-10.png
END:VEVENT
BEGIN:VEVENT
DTSTART;TZID=America/Los_Angeles:20270929T093000
DTEND;TZID=America/Los_Angeles:20270929T103000
DTSTAMP:20260425T042145
CREATED:20250827T222718Z
LAST-MODIFIED:20260304T173057Z
UID:10029540-1822210200-1822213800@www.sinaitemple.org
SUMMARY:The Balance Class
DESCRIPTION:The 10/100 Program consists of six simple movements designed to grow your brain (neuroplasticity)\, improve your balance (proprioception) and strengthen your immune system. \nGroup Classes are FREE! Wednesdays from 9:30 -10:30 a.m. VIA ZOOM! \nClick HERE to join via Zoom during meeting time.
URL:https://www.sinaitemple.org/event/the-balance-class-2022-07-20-2/2027-09-29/
LOCATION:Sinai Temple
CATEGORIES:Events,Sisterhood
ATTACH;FMTTYPE=image/jpeg:https://www.sinaitemple.org/wp-content/uploads/2022/02/Untitled-design.jpg
END:VEVENT
BEGIN:VEVENT
DTSTART;TZID=America/Los_Angeles:20270929T103000
DTEND;TZID=America/Los_Angeles:20270929T120000
DTSTAMP:20260425T042145
CREATED:20251016T193001Z
LAST-MODIFIED:20251125T174414Z
UID:10033207-1822213800-1822219200@www.sinaitemple.org
SUMMARY:Art Workshop with Gail Rollman
DESCRIPTION:Wednesdays\, 10:30 AM–12:00 PM at Sinai | Weekly (Jewish holidays excepted) | $10 per class (materials included)Explore collage\, mixed media\, watercolor\, acrylic painting\, and crafts. Learn new techniques and have fun each week. Pay at the door. \nRSVP to Gail at garollman@yahoo.com.
URL:https://www.sinaitemple.org/event/art-workshop-with-gail-rollman-3/2027-09-29/
LOCATION:Sinai Temple
CATEGORIES:Sisterhood
ATTACH;FMTTYPE=image/jpeg:https://www.sinaitemple.org/wp-content/uploads/2025/10/Sushi-night-Amir-2.jpg
END:VEVENT
BEGIN:VEVENT
DTSTART;TZID=America/Los_Angeles:20270930T160000
DTEND;TZID=America/Los_Angeles:20270930T180000
DTSTAMP:20260425T042145
CREATED:20251016T192638Z
LAST-MODIFIED:20260420T232209Z
UID:10032947-1822320000-1822327200@www.sinaitemple.org
SUMMARY:Mah Jongg with Estelle Marco
DESCRIPTION:Thursdays\, 4:00–6:00 PM at Sinai | 8-week sessions | $100 per person \nFor beginners and intermediate players. Space is limited—first come\, first served. \nSession runs from April 16 to June 4. \nRSVP Here
URL:https://www.sinaitemple.org/event/mah-jongg-with-estelle-marco/2027-09-30/
LOCATION:Sinai Temple
CATEGORIES:Sisterhood
ATTACH;FMTTYPE=image/jpeg:https://www.sinaitemple.org/wp-content/uploads/2025/10/Sushi-night-Amir-1.jpg
END:VEVENT
BEGIN:VEVENT
DTSTART;TZID=America/Los_Angeles:20271004T120000
DTEND;TZID=America/Los_Angeles:20271004T140000
DTSTAMP:20260425T042145
CREATED:20251016T192307Z
LAST-MODIFIED:20260420T193211Z
UID:10034004-1822651200-1822658400@www.sinaitemple.org
SUMMARY:Calligraphy with DeAnn Singh
DESCRIPTION:Learn different pen point styles\, how to address invitations\, and create a small book using the Japanese stab binding technique. Click here to read a profile on DeAnn from ShoutoutLA. \nClick here to read a profile on DeAnn from ShoutoutLA.
URL:https://www.sinaitemple.org/event/calligraphy-with-deann-singh/2027-10-04/
LOCATION:Sinai Temple
CATEGORIES:Sisterhood
ATTACH;FMTTYPE=image/png:https://www.sinaitemple.org/wp-content/uploads/2025/10/Sushi-night-Amir-10.png
END:VEVENT
BEGIN:VEVENT
DTSTART;TZID=America/Los_Angeles:20271006T093000
DTEND;TZID=America/Los_Angeles:20271006T103000
DTSTAMP:20260425T042145
CREATED:20250827T222718Z
LAST-MODIFIED:20260304T173057Z
UID:10029541-1822815000-1822818600@www.sinaitemple.org
SUMMARY:The Balance Class
DESCRIPTION:The 10/100 Program consists of six simple movements designed to grow your brain (neuroplasticity)\, improve your balance (proprioception) and strengthen your immune system. \nGroup Classes are FREE! Wednesdays from 9:30 -10:30 a.m. VIA ZOOM! \nClick HERE to join via Zoom during meeting time.
URL:https://www.sinaitemple.org/event/the-balance-class-2022-07-20-2/2027-10-06/
LOCATION:Sinai Temple
CATEGORIES:Events,Sisterhood
ATTACH;FMTTYPE=image/jpeg:https://www.sinaitemple.org/wp-content/uploads/2022/02/Untitled-design.jpg
END:VEVENT
BEGIN:VEVENT
DTSTART;TZID=America/Los_Angeles:20271006T103000
DTEND;TZID=America/Los_Angeles:20271006T120000
DTSTAMP:20260425T042145
CREATED:20251016T193001Z
LAST-MODIFIED:20251125T174414Z
UID:10033208-1822818600-1822824000@www.sinaitemple.org
SUMMARY:Art Workshop with Gail Rollman
DESCRIPTION:Wednesdays\, 10:30 AM–12:00 PM at Sinai | Weekly (Jewish holidays excepted) | $10 per class (materials included)Explore collage\, mixed media\, watercolor\, acrylic painting\, and crafts. Learn new techniques and have fun each week. Pay at the door. \nRSVP to Gail at garollman@yahoo.com.
URL:https://www.sinaitemple.org/event/art-workshop-with-gail-rollman-3/2027-10-06/
LOCATION:Sinai Temple
CATEGORIES:Sisterhood
ATTACH;FMTTYPE=image/jpeg:https://www.sinaitemple.org/wp-content/uploads/2025/10/Sushi-night-Amir-2.jpg
END:VEVENT
BEGIN:VEVENT
DTSTART;TZID=America/Los_Angeles:20271007T160000
DTEND;TZID=America/Los_Angeles:20271007T180000
DTSTAMP:20260425T042145
CREATED:20251016T192638Z
LAST-MODIFIED:20260420T232209Z
UID:10032948-1822924800-1822932000@www.sinaitemple.org
SUMMARY:Mah Jongg with Estelle Marco
DESCRIPTION:Thursdays\, 4:00–6:00 PM at Sinai | 8-week sessions | $100 per person \nFor beginners and intermediate players. Space is limited—first come\, first served. \nSession runs from April 16 to June 4. \nRSVP Here
URL:https://www.sinaitemple.org/event/mah-jongg-with-estelle-marco/2027-10-07/
LOCATION:Sinai Temple
CATEGORIES:Sisterhood
ATTACH;FMTTYPE=image/jpeg:https://www.sinaitemple.org/wp-content/uploads/2025/10/Sushi-night-Amir-1.jpg
END:VEVENT
BEGIN:VEVENT
DTSTART;TZID=America/Los_Angeles:20271011T120000
DTEND;TZID=America/Los_Angeles:20271011T140000
DTSTAMP:20260425T042145
CREATED:20251016T192307Z
LAST-MODIFIED:20260420T193211Z
UID:10034005-1823256000-1823263200@www.sinaitemple.org
SUMMARY:Calligraphy with DeAnn Singh
DESCRIPTION:Learn different pen point styles\, how to address invitations\, and create a small book using the Japanese stab binding technique. Click here to read a profile on DeAnn from ShoutoutLA. \nClick here to read a profile on DeAnn from ShoutoutLA.
URL:https://www.sinaitemple.org/event/calligraphy-with-deann-singh/2027-10-11/
LOCATION:Sinai Temple
CATEGORIES:Sisterhood
ATTACH;FMTTYPE=image/png:https://www.sinaitemple.org/wp-content/uploads/2025/10/Sushi-night-Amir-10.png
END:VEVENT
BEGIN:VEVENT
DTSTART;TZID=America/Los_Angeles:20271013T093000
DTEND;TZID=America/Los_Angeles:20271013T103000
DTSTAMP:20260425T042145
CREATED:20250827T222718Z
LAST-MODIFIED:20260304T173057Z
UID:10029542-1823419800-1823423400@www.sinaitemple.org
SUMMARY:The Balance Class
DESCRIPTION:The 10/100 Program consists of six simple movements designed to grow your brain (neuroplasticity)\, improve your balance (proprioception) and strengthen your immune system. \nGroup Classes are FREE! Wednesdays from 9:30 -10:30 a.m. VIA ZOOM! \nClick HERE to join via Zoom during meeting time.
URL:https://www.sinaitemple.org/event/the-balance-class-2022-07-20-2/2027-10-13/
LOCATION:Sinai Temple
CATEGORIES:Events,Sisterhood
ATTACH;FMTTYPE=image/jpeg:https://www.sinaitemple.org/wp-content/uploads/2022/02/Untitled-design.jpg
END:VEVENT
END:VCALENDAR