BEGIN:VCALENDAR
VERSION:2.0
PRODID:-//Sinai Temple - ECPv6.15.18//NONSGML v1.0//EN
CALSCALE:GREGORIAN
METHOD:PUBLISH
X-WR-CALNAME:Sinai Temple
X-ORIGINAL-URL:https://www.sinaitemple.org
X-WR-CALDESC:Events for Sinai Temple
REFRESH-INTERVAL;VALUE=DURATION:PT1H
X-Robots-Tag:noindex
X-PUBLISHED-TTL:PT1H
BEGIN:VTIMEZONE
TZID:America/Los_Angeles
BEGIN:DAYLIGHT
TZOFFSETFROM:-0800
TZOFFSETTO:-0700
TZNAME:PDT
DTSTART:20190310T100000
END:DAYLIGHT
BEGIN:STANDARD
TZOFFSETFROM:-0700
TZOFFSETTO:-0800
TZNAME:PST
DTSTART:20191103T090000
END:STANDARD
BEGIN:DAYLIGHT
TZOFFSETFROM:-0800
TZOFFSETTO:-0700
TZNAME:PDT
DTSTART:20200308T100000
END:DAYLIGHT
BEGIN:STANDARD
TZOFFSETFROM:-0700
TZOFFSETTO:-0800
TZNAME:PST
DTSTART:20201101T090000
END:STANDARD
BEGIN:DAYLIGHT
TZOFFSETFROM:-0800
TZOFFSETTO:-0700
TZNAME:PDT
DTSTART:20210314T100000
END:DAYLIGHT
BEGIN:STANDARD
TZOFFSETFROM:-0700
TZOFFSETTO:-0800
TZNAME:PST
DTSTART:20211107T090000
END:STANDARD
END:VTIMEZONE
BEGIN:VEVENT
DTSTART;TZID=America/Los_Angeles:20200417T174500
DTEND;TZID=America/Los_Angeles:20200417T184500
DTSTAMP:20260420T015547
CREATED:20200316T155534Z
LAST-MODIFIED:20200415T211925Z
UID:10018939-1587145500-1587149100@www.sinaitemple.org
SUMMARY:The Ted & Hedy Orden and Family Atid Friday Night Live Shabbat Service
DESCRIPTION:Until further notice\, services will be available online only at www.youtube.com/user/SinaiTemplePresents \nJoin us for a musical Shabbat service\, led by the Sinai Temple clergy. While this is an Atid program\, it is open to the entire Sinai Temple community.
URL:https://www.sinaitemple.org/event/virtual-daily-minyan-3-2020-03-27-2020-04-17/
LOCATION:10400 Wilshire Blvd\, Los Angeles\, CA\, 90024\, United States
ATTACH;FMTTYPE=image/jpeg:https://www.sinaitemple.org/wp-content/uploads/2020/03/Full-Atid-Logo.jpeg
END:VEVENT
BEGIN:VEVENT
DTSTART;TZID=America/Los_Angeles:20200115T100000
DTEND;TZID=America/Los_Angeles:20200115T140000
DTSTAMP:20260420T015547
CREATED:20191203T170721Z
LAST-MODIFIED:20200113T020642Z
UID:10014700-1579082400-1579096800@www.sinaitemple.org
SUMMARY:Sisterhood Museum of Tolerance Tour
DESCRIPTION:Join Sinai Temple Sisterhood at the Museum of Tolerance. \n10 a.m. – 12 p.m. Private Tour\n12 p.m. – 1 p.m. Meet with a Holocaust Survivor\n1 p.m. – 2 p.m. Lunch and Discussion with Rabbi Nicole Guzik \nSinai Temple Sisterhood Members: $26\nNot-Yet-Members: $36 \nAdvanced reservations required- ASAP\nOpen to all.
URL:https://www.sinaitemple.org/event/sisterhood-museum-of-tolerance-tour/
LOCATION:10400 Wilshire Blvd\, Los Angeles\, CA\, 90024\, United States
CATEGORIES:Sisterhood
ATTACH;FMTTYPE=image/jpeg:https://www.sinaitemple.org/wp-content/uploads/2019/12/MOTCal-1.jpg
END:VEVENT
END:VCALENDAR