BEGIN:VCALENDAR
VERSION:2.0
PRODID:-//Sinai Temple - ECPv6.15.18//NONSGML v1.0//EN
CALSCALE:GREGORIAN
METHOD:PUBLISH
X-ORIGINAL-URL:https://www.sinaitemple.org
X-WR-CALDESC:Events for Sinai Temple
REFRESH-INTERVAL;VALUE=DURATION:PT1H
X-Robots-Tag:noindex
X-PUBLISHED-TTL:PT1H
BEGIN:VTIMEZONE
TZID:America/Los_Angeles
BEGIN:DAYLIGHT
TZOFFSETFROM:-0800
TZOFFSETTO:-0700
TZNAME:PDT
DTSTART:20160313T100000
END:DAYLIGHT
BEGIN:STANDARD
TZOFFSETFROM:-0700
TZOFFSETTO:-0800
TZNAME:PST
DTSTART:20161106T090000
END:STANDARD
BEGIN:DAYLIGHT
TZOFFSETFROM:-0800
TZOFFSETTO:-0700
TZNAME:PDT
DTSTART:20170312T100000
END:DAYLIGHT
BEGIN:STANDARD
TZOFFSETFROM:-0700
TZOFFSETTO:-0800
TZNAME:PST
DTSTART:20171105T090000
END:STANDARD
BEGIN:DAYLIGHT
TZOFFSETFROM:-0800
TZOFFSETTO:-0700
TZNAME:PDT
DTSTART:20180311T100000
END:DAYLIGHT
BEGIN:STANDARD
TZOFFSETFROM:-0700
TZOFFSETTO:-0800
TZNAME:PST
DTSTART:20181104T090000
END:STANDARD
BEGIN:DAYLIGHT
TZOFFSETFROM:-0800
TZOFFSETTO:-0700
TZNAME:PDT
DTSTART:20190310T100000
END:DAYLIGHT
BEGIN:STANDARD
TZOFFSETFROM:-0700
TZOFFSETTO:-0800
TZNAME:PST
DTSTART:20191103T090000
END:STANDARD
BEGIN:DAYLIGHT
TZOFFSETFROM:-0800
TZOFFSETTO:-0700
TZNAME:PDT
DTSTART:20200308T100000
END:DAYLIGHT
BEGIN:STANDARD
TZOFFSETFROM:-0700
TZOFFSETTO:-0800
TZNAME:PST
DTSTART:20201101T090000
END:STANDARD
BEGIN:DAYLIGHT
TZOFFSETFROM:-0800
TZOFFSETTO:-0700
TZNAME:PDT
DTSTART:20210314T100000
END:DAYLIGHT
BEGIN:STANDARD
TZOFFSETFROM:-0700
TZOFFSETTO:-0800
TZNAME:PST
DTSTART:20211107T090000
END:STANDARD
BEGIN:DAYLIGHT
TZOFFSETFROM:-0800
TZOFFSETTO:-0700
TZNAME:PDT
DTSTART:20220313T100000
END:DAYLIGHT
BEGIN:STANDARD
TZOFFSETFROM:-0700
TZOFFSETTO:-0800
TZNAME:PST
DTSTART:20221106T090000
END:STANDARD
BEGIN:DAYLIGHT
TZOFFSETFROM:-0800
TZOFFSETTO:-0700
TZNAME:PDT
DTSTART:20230312T100000
END:DAYLIGHT
BEGIN:STANDARD
TZOFFSETFROM:-0700
TZOFFSETTO:-0800
TZNAME:PST
DTSTART:20231105T090000
END:STANDARD
BEGIN:DAYLIGHT
TZOFFSETFROM:-0800
TZOFFSETTO:-0700
TZNAME:PDT
DTSTART:20240310T100000
END:DAYLIGHT
BEGIN:STANDARD
TZOFFSETFROM:-0700
TZOFFSETTO:-0800
TZNAME:PST
DTSTART:20241103T090000
END:STANDARD
BEGIN:DAYLIGHT
TZOFFSETFROM:-0800
TZOFFSETTO:-0700
TZNAME:PDT
DTSTART:20250309T100000
END:DAYLIGHT
BEGIN:STANDARD
TZOFFSETFROM:-0700
TZOFFSETTO:-0800
TZNAME:PST
DTSTART:20251102T090000
END:STANDARD
BEGIN:DAYLIGHT
TZOFFSETFROM:-0800
TZOFFSETTO:-0700
TZNAME:PDT
DTSTART:20260308T100000
END:DAYLIGHT
BEGIN:STANDARD
TZOFFSETFROM:-0700
TZOFFSETTO:-0800
TZNAME:PST
DTSTART:20261101T090000
END:STANDARD
END:VTIMEZONE
BEGIN:VEVENT
DTSTART;TZID=America/Los_Angeles:20250114T183000
DTEND;TZID=America/Los_Angeles:20250114T200000
DTSTAMP:20260423T112921
CREATED:20241230T185607Z
LAST-MODIFIED:20241230T185607Z
UID:10018859-1736879400-1736884800@www.sinaitemple.org
SUMMARY:Israeli Dance Class
DESCRIPTION:Come join us for a fun and exhilarating Israeli Dance Class at Sinai Temple with dance teacher\, Orly Star! Light refreshments will be served.
URL:https://www.sinaitemple.org/event/israeli-dance-class-3/
LOCATION:Ziegler Hall
ATTACH;FMTTYPE=image/png:https://www.sinaitemple.org/wp-content/uploads/2024/12/Israeli-Dance-Class-Flyer-2.png
END:VEVENT
BEGIN:VEVENT
DTSTART;TZID=America/Los_Angeles:20241203T183000
DTEND;TZID=America/Los_Angeles:20241203T203000
DTSTAMP:20260423T112921
CREATED:20241120T205508Z
LAST-MODIFIED:20241120T205547Z
UID:10025934-1733250600-1733257800@www.sinaitemple.org
SUMMARY:Men's Club Screening: Healing Trails
DESCRIPTION:Film screening and live panel\nAll are welcome!\n\nThis past summer\, a group of 7 IDF veterans was welcomed with open arms by the Sinai Temple community. They walked the rows of the Temple holding the Torah as tears poured down your faces. After that beautiful Shabbat\, they embarked on a healing journey into the wilderness in Montana. Join us for an inspiring evening as we present a short film that documents this transformative trip. Experience the power of nature as these brave veterans find peace and renewal in the great outdoors.
URL:https://www.sinaitemple.org/event/mens-club-screening-healing-trails/
LOCATION:Ziegler Hall
CATEGORIES:ATID,Chai Society,Events,Israel Center,Men's Club,Teen Center
ATTACH;FMTTYPE=image/png:https://www.sinaitemple.org/wp-content/uploads/2024/11/Healing-Trails-Poster.png
END:VEVENT
BEGIN:VEVENT
DTSTART;TZID=America/Los_Angeles:20241117T140000
DTEND;TZID=America/Los_Angeles:20241117T170000
DTSTAMP:20260423T112921
CREATED:20241021T223722Z
LAST-MODIFIED:20241021T223845Z
UID:10018830-1731852000-1731862800@www.sinaitemple.org
SUMMARY:Orchestrating Change - A Film Screening
DESCRIPTION:A film about the world’s only orchestra for people living with mental illness \n\n\n\n\nThe screening will be followed by a discussion and Q&A \n\n\n\n 
URL:https://www.sinaitemple.org/event/orchestrating-change-a-film-screening/
LOCATION:Ziegler Hall
ATTACH;FMTTYPE=image/png:https://www.sinaitemple.org/wp-content/uploads/2024/10/Orchestrating-Change_QR.pdf-1.png
END:VEVENT
BEGIN:VEVENT
DTSTART;TZID=America/Los_Angeles:20241109T113000
DTEND;TZID=America/Los_Angeles:20241109T130000
DTSTAMP:20260423T112921
CREATED:20241008T210415Z
LAST-MODIFIED:20241008T210616Z
UID:10018828-1731151800-1731157200@www.sinaitemple.org
SUMMARY:Shabbat Lite Lunch with an IDF Soldier
DESCRIPTION:A Conversation with Rabbi Sherman\nA lite lunch will be served\n\nJoin us for an engaging discussion with a IDF reservist who dedicated 24 years to the Israeli Air Force! Come and learn from his experiences to gain a deeper understanding of the world we live in and the role that FIDF plays in the United States.
URL:https://www.sinaitemple.org/event/shabbat-lite-lunch-with-an-idf-soldier/
LOCATION:Ziegler Hall
CATEGORIES:ATID,Chai Society,Events,Israel Center,Mental Health Center
ATTACH;FMTTYPE=image/png:https://www.sinaitemple.org/wp-content/uploads/2024/10/Shabbat-Lite-Lunch-_IDF-Soldier.png
END:VEVENT
BEGIN:VEVENT
DTSTART;TZID=America/Los_Angeles:20241102T113000
DTEND;TZID=America/Los_Angeles:20241102T130000
DTSTAMP:20260423T112921
CREATED:20241008T210038Z
LAST-MODIFIED:20241008T210038Z
UID:10018827-1730547000-1730552400@www.sinaitemple.org
SUMMARY:Shabbat Lite Lunch with Avi Mayer
DESCRIPTION:Lunch Included\nTickets: $18/Adults and $10/Kids\n\n \n\n \n\n \n\nCelebrate Shabbat in community and joy as we gather for a delightful lunch featuring guest speaker Avi Mayer. Known for his insightful perspectives and engaging storytelling\, Avi Mayer will share reflections on Jewish identity and connection in today’s world. 
URL:https://www.sinaitemple.org/event/shabbat-lite-lunch-with-avi-mayer/
LOCATION:Ziegler Hall
CATEGORIES:ATID,Chai Society,Events,Israel Center,Mental Health Center,Religious School,Sisterhood,Teen Center
ATTACH;FMTTYPE=image/png:https://www.sinaitemple.org/wp-content/uploads/2024/10/Shabbat-Lite-Lunch-_IDF-Soldier-1.png
END:VEVENT
BEGIN:VEVENT
DTSTART;TZID=America/Los_Angeles:20240804T150000
DTEND;TZID=America/Los_Angeles:20240804T163000
DTSTAMP:20260423T112921
CREATED:20240702T211432Z
LAST-MODIFIED:20240702T211432Z
UID:10025910-1722783600-1722789000@www.sinaitemple.org
SUMMARY:Food & Film: "Frozen" at Sinai Temple!
DESCRIPTION:Sunday\, August 4\n3 – 4:30 p.m.\nZiegler Hall\n\nThemed snacks and refreshments will be provided! \nRegister here.
URL:https://www.sinaitemple.org/event/food-film-frozen-at-sinai-temple/
LOCATION:Ziegler Hall
CATEGORIES:Dor Chadash,Events
ATTACH;FMTTYPE=image/jpeg:https://www.sinaitemple.org/wp-content/uploads/2024/07/FoodFilm_Frozen-scaled.jpg
END:VEVENT
BEGIN:VEVENT
DTSTART;TZID=America/Los_Angeles:20240707T150000
DTEND;TZID=America/Los_Angeles:20240707T163000
DTSTAMP:20260423T112921
CREATED:20240618T184018Z
LAST-MODIFIED:20240618T184018Z
UID:10018806-1720364400-1720369800@www.sinaitemple.org
SUMMARY:Food & Film: "Finding Nemo" at Sinai Temple!
DESCRIPTION:Sunday\, July 7\n3 – 4:30 p.m.\nZiegler Hall\n\nGet ready for a fin-tastic afternoon at Sinai Temple\, complete with themed snacks and refreshments! \nRegister here.
URL:https://www.sinaitemple.org/event/food-film-finding-nemo-at-sinai-temple/
LOCATION:Ziegler Hall
CATEGORIES:Events
ATTACH;FMTTYPE=image/jpeg:https://www.sinaitemple.org/wp-content/uploads/2024/06/1-scaled.jpg
END:VEVENT
BEGIN:VEVENT
DTSTART;TZID=America/Los_Angeles:20240608T113000
DTEND;TZID=America/Los_Angeles:20240608T113000
DTSTAMP:20260423T112921
CREATED:20240522T162503Z
LAST-MODIFIED:20240522T162503Z
UID:10025902-1717846200-1717846200@www.sinaitemple.org
SUMMARY:Shabbat Lunch With A Player From Israel’s National Flag Football Team
DESCRIPTION:Saturday\, June 8\n11:30am – Immediately following services\nZiegler Hall\n\nRegister here. \nJonathan Curran came to Israel at age 18 and enlisted in the IDF where he joined an elite military unit responsible for targeted strikes against Israel’s enemies. After completing his 3-year mandatory service\, he served in the Shabaq (Israel’s FBI) and is currently registered for miluim service. Since October 7th\, Jonathan has served in the North defending the country and has been in Gaza several times. Jonathan started playing football in Israel after he left the military in 2010. He first played for a Tel Aviv team and now plays for the Ramat HaSharon Hammers. He played with the national flag football team in Israel’s first-ever international competition in Spain in 2014 and then again in 2023 in Ireland where Team Israel took 3rd place. Jonathan has played many positions\, including QB\, receiver\, corner\, safety\, punter\, and kicker. Jonathan lives in Israel and is married with two kids. “I am proud to serve Israel in every way possible\,” Jonathan says\, “not just in football and the military\, but in every way I can.”
URL:https://www.sinaitemple.org/event/shabbat-lunch-with-a-player-from-israels-national-flag-football-team/
LOCATION:Ziegler Hall
CATEGORIES:Events,Israel Center,Learn at Sinai
ATTACH;FMTTYPE=image/jpeg:https://www.sinaitemple.org/wp-content/uploads/2024/05/Shabbat-Shavuot-Learning-With-Elie-Kaplan-Spitz-3-scaled.jpg
END:VEVENT
BEGIN:VEVENT
DTSTART;TZID=America/Los_Angeles:20240525T113000
DTEND;TZID=America/Los_Angeles:20240525T133000
DTSTAMP:20260423T112921
CREATED:20240509T183741Z
LAST-MODIFIED:20240509T183741Z
UID:10025894-1716636600-1716643800@www.sinaitemple.org
SUMMARY:Shabbat Lunch With Gen. Avigdor Kahalani
DESCRIPTION:Saturday\, May 25\n11:30 a.m. – 1:30 p.m.\nZiegler Hall\n\nJoin us for a delicious Shabbat lunch at Sinai Temple with legendary IDF general\, former Knesset member\, and former Israeli Minister of Internal Security\, General Avigdor Kahalani. \nRegister here.
URL:https://www.sinaitemple.org/event/shabbat-lunch-with-gen-avigdor-kahalani/
LOCATION:Ziegler Hall
CATEGORIES:Events,Israel Center,Learn at Sinai
ATTACH;FMTTYPE=image/png:https://www.sinaitemple.org/wp-content/uploads/2024/05/Shabbat-Lunch-With-Gen.-Avigdor-Kahalani.png
END:VEVENT
BEGIN:VEVENT
DTSTART;TZID=America/Los_Angeles:20240330T113000
DTEND;TZID=America/Los_Angeles:20240330T113000
DTSTAMP:20260423T112921
CREATED:20240318T165649Z
LAST-MODIFIED:20240318T165649Z
UID:10025874-1711798200-1711798200@www.sinaitemple.org
SUMMARY:Shabbat Lite Lunch with President & CEO of JINSA\, Dr. Michael Makovsky
DESCRIPTION:Come and hear a briefing on U.S. and Israeli security challenges post-October 7\, and learn more about The Jewish Institute for National Security of America (JINSA). \n\nSaturday\, March 30\n11:00 a.m. – JINSA President & CEO Michael Makovsky will give a brief talk during Shabbat\nServices\n11:30 a.m. – Join us for lunch with Michael in Ziegler Hall\n\nRegister here for the lunch (required for entry). \nMichael Makovsky\, PhD is President and CEO at JINSA and a former Pentagon official in the George W. Bush administration. Makovsky is also the author of Churchill’s Promised Land (Yale University Press)\, a diplomatic-intellectual history of Winston Churchill’s complex relationship with Zionism. He has a Ph.D. in diplomatic history from Harvard University.
URL:https://www.sinaitemple.org/event/shabbat-lite-lunch-with-president-ceo-of-jinsa-dr-michael-makovsky/
LOCATION:Ziegler Hall
CATEGORIES:Israel Center
ATTACH;FMTTYPE=application/pdf:https://www.sinaitemple.org/wp-content/uploads/2024/03/JINSA-2024-Event-01-1.pdf
END:VEVENT
BEGIN:VEVENT
DTSTART;TZID=America/Los_Angeles:20240326T183000
DTEND;TZID=America/Los_Angeles:20240326T213000
DTSTAMP:20260423T112921
CREATED:20240312T190517Z
LAST-MODIFIED:20240312T190605Z
UID:10018751-1711477800-1711488600@www.sinaitemple.org
SUMMARY:Game Night!
DESCRIPTION:Tuesday\, March 26\n6:30 – 9:30 p.m.\nZiegler Hall\n$50 buy in – includes pizza and a drink\n\nAll adults are welcome! \nRegister here. \nJoin the Men’s Club for an evening packed with tournament poker\, tournament backgammon\, pizza\, beer\, wine\, and prizes! \nYou must register for this event and designate if you will be playing poker or backgammon.
URL:https://www.sinaitemple.org/event/game-night/
LOCATION:Ziegler Hall
CATEGORIES:Men's Club
ATTACH;FMTTYPE=image/jpeg:https://www.sinaitemple.org/wp-content/uploads/2024/03/Black-and-Red-Modern-Casino-Night-Poster-scaled.jpg
END:VEVENT
BEGIN:VEVENT
DTSTART;TZID=America/Los_Angeles:20240217T113000
DTEND;TZID=America/Los_Angeles:20240217T113000
DTSTAMP:20260423T112921
CREATED:20240208T183006Z
LAST-MODIFIED:20240208T183019Z
UID:10025850-1708169400-1708169400@www.sinaitemple.org
SUMMARY:Shabbat Lunch with Ambassador Michael Oren
DESCRIPTION:Featuring Michael Oren\, Israel’s Ambassador to France and Monaco from 2009-2013.\nCo-Sponsored by Jewish National Fund-USA. \n\nSaturday\, February 17\nAmbassador Oren will give a brief talk during Shabbat Services\nLunch at 11:30am (immediately after services)\nSinai Temple – Ziegler Hall\nRSVP Required for entry to the lunch\n\nRSVP here.
URL:https://www.sinaitemple.org/event/shabbat-lunch-with-ambassador-michael-oren/
LOCATION:Ziegler Hall
CATEGORIES:Israel Center
ATTACH;FMTTYPE=image/jpeg:https://www.sinaitemple.org/wp-content/uploads/2024/02/Shabbat-Lunch-With-Ambassador-Michael-Oren-Flyer-5-scaled.jpg
END:VEVENT
BEGIN:VEVENT
DTSTART;TZID=America/Los_Angeles:20240127T114500
DTEND;TZID=America/Los_Angeles:20240127T124500
DTSTAMP:20260423T112921
CREATED:20240124T213915Z
LAST-MODIFIED:20240124T213915Z
UID:10018728-1706355900-1706359500@www.sinaitemple.org
SUMMARY:The Rosenfelds From Kibbutz Kfar Aza Visit Sinai Temple
DESCRIPTION:Join us this Saturday while we welcome two members of the Rosenfeld Family from Kibbutz Kfar Aza in Israel to Sinai Temple. Dvir Rosenfeld and Maya Treger Rosenfeld will tell their firsthand account of survival on October 7th\, and how their family has coped together in the wake of the attack.\n\n\n\n\nSaturday\, January 27\, after Shabbat Services\n11:45 a.m. – 12:45 p.m.\nZiegler Hall\n\nRegister here. \nAbout the Rosenfelds: \n\n\nLife for the Rosenfelds from Kibbutz Kfar Aza\, for its five families\, will never be the same again. The extended family\, who consisted of 21 members\, lived together in the Kibbutz: the parents\, six brothers and sisters with their spouses\, and nine grandchildren. The horrific attack on the morning of October 7\, when Hamas terrorists infiltrated the kibbutz\, broke into their homes\, and murdered two members of their family and many other members of their community\, has changed their lives forever.
URL:https://www.sinaitemple.org/event/the-rosenfelds-from-kibbutz-kfar-aza-visit-sinai-temple/
LOCATION:Ziegler Hall
ATTACH;FMTTYPE=image/png:https://www.sinaitemple.org/wp-content/uploads/2024/01/Screenshot-2024-01-24-110518.png
END:VEVENT
BEGIN:VEVENT
DTSTART;TZID=America/Los_Angeles:20231220T193000
DTEND;TZID=America/Los_Angeles:20231220T213000
DTSTAMP:20260423T112921
CREATED:20231128T195639Z
LAST-MODIFIED:20231205T191652Z
UID:10025833-1703100600-1703107800@www.sinaitemple.org
SUMMARY:Men's Club Game Night
DESCRIPTION:Please join the Men’s Club for an evening packed with tournament poker\, tournament backgammon\, beer\, wine\, and prizes! \n\nWednesday\, December 20th\n7:30 – 9:30 p.m.\nZiegler Hall\n\n\n \n$20 buy in and re-buys. \n\nPlease note that every individual needs to be listed in order to gain entry into the building.\n \nRegister here.\n\n\nPoker related questions: jgabbaian@naicapital.com\n\nGeneral questions: tabariaig@gmail.com
URL:https://www.sinaitemple.org/event/mens-club-game-night-2/
LOCATION:Ziegler Hall
CATEGORIES:Men's Club
ATTACH;FMTTYPE=image/jpeg:https://www.sinaitemple.org/wp-content/uploads/2023/11/pexels-pixabay-269630-scaled.jpg
END:VEVENT
BEGIN:VEVENT
DTSTART;TZID=America/Los_Angeles:20231209T113000
DTEND;TZID=America/Los_Angeles:20231209T130000
DTSTAMP:20260423T112921
CREATED:20231128T181537Z
LAST-MODIFIED:20231128T181718Z
UID:10025830-1702121400-1702126800@www.sinaitemple.org
SUMMARY:Rabbi Gavriella Kornsgold's Installation Lunch
DESCRIPTION:Saturday\, December 9\n11:30 a.m. – 1:00 p.m.\nZiegler Hall\n$20 per person\n\nJoin us for a special catered lunch just after Rabbi Kornsgold’s Installation. The Installation Ceremony will take place at 10:45 a.m.\, during Shabbat Services in Ziegler Sanctuary. \nPlus: Please bring canned goods for us to donate in honor of Rabbi Kornsgold! We will be accepting cans until and at this lunch. Cans can be brought to Joann Rodriguez in the Temple’s Main Offices. \nThe last day to re gister for this event is Tuesday\, December 5th at 5:00 p.m. We will not be taking walk-ups. This event is sponsored by the Sinai Temple Membership Committee. \nRSVP here.
URL:https://www.sinaitemple.org/event/rabbi-gavriella-kornsgolds-installation-lunch/
LOCATION:Ziegler Hall
ATTACH;FMTTYPE=image/png:https://www.sinaitemple.org/wp-content/uploads/2023/11/Rabbi-Gavriella-Kornsgold-Installation-Invite.png
END:VEVENT
BEGIN:VEVENT
DTSTART;TZID=America/Los_Angeles:20180904T183000
DTEND;TZID=America/Los_Angeles:20180904T210000
DTSTAMP:20260423T112921
CREATED:20180814T182558Z
LAST-MODIFIED:20180823T223339Z
UID:10017013-1536085800-1536094800@www.sinaitemple.org
SUMMARY:Men's Club Evening with Dr. Afshine Emrani
DESCRIPTION:Join Sinai Temple Men’s Club for An Evening with Dr. Afshine Emrani. Dr. Emrani will discuss his personal journey of healing depression through Jewish values and teachings. Dinner provided. Men and women are always welcomed.
URL:https://www.sinaitemple.org/event/mens-club-evening-with-dr-afshine-emrani/
LOCATION:Ziegler Hall
CATEGORIES:Men's Club
END:VEVENT
BEGIN:VEVENT
DTSTART;TZID=America/Los_Angeles:20180807T183000
DTEND;TZID=America/Los_Angeles:20180807T210000
DTSTAMP:20260423T112921
CREATED:20180719T211315Z
LAST-MODIFIED:20180726T155321Z
UID:10014444-1533666600-1533675600@www.sinaitemple.org
SUMMARY:Men's Club Hummus Night: Movie Screening and Tasting
DESCRIPTION:Join Men’s Club for Jerusalem U’s production of the movie Hummus!. Brad Yellen from Jerusalem U will discuss this heartwarming movie\, and engage in a Q&A session. The movie will be followed by a hummus blind tasting competition to crown the best hummus in town. To enter your favorite kosher hummus into the competition\, please e-mail Golda Mendelsohn at meirvgolda@gmail.com by August 3.
URL:https://www.sinaitemple.org/event/mens-club-hummus-night-movie-screening-and-tasting/
LOCATION:Ziegler Hall
CATEGORIES:Men's Club
ATTACH;FMTTYPE=image/jpeg:https://www.sinaitemple.org/wp-content/uploads/2018/07/hummus-for-calendar.jpg
END:VEVENT
BEGIN:VEVENT
DTSTART;TZID=America/Los_Angeles:20171205T183000
DTEND;TZID=America/Los_Angeles:20171205T213000
DTSTAMP:20260423T112921
CREATED:20171109T181601Z
LAST-MODIFIED:20171117T173929Z
UID:10014852-1512498600-1512509400@www.sinaitemple.org
SUMMARY:Men's Club Game Night
DESCRIPTION:Join Men’s Club for a fun evening of poker and backgammon. $45 includes game night fun\, dinner and an open bar.
URL:https://www.sinaitemple.org/event/mens-club-game-night/
LOCATION:Ziegler Hall
CATEGORIES:Men's Club
ATTACH;FMTTYPE=image/jpeg:https://www.sinaitemple.org/wp-content/uploads/2017/11/poker.jpg
END:VEVENT
BEGIN:VEVENT
DTSTART;TZID=America/Los_Angeles:20170523T183000
DTEND;TZID=America/Los_Angeles:20170523T210000
DTSTAMP:20260423T112921
CREATED:20170510T200747Z
LAST-MODIFIED:20170510T200747Z
UID:10013866-1495564200-1495573200@www.sinaitemple.org
SUMMARY:Men's Club Movie Night
DESCRIPTION:Ethel & Ernest (2016) is a heart-warming British animated movie about two people who fall in love against the background of immense social change. Based on a graphic novel by Raymond Briggs. \nRSVP to Rafii at rafii@babson.edu or (310) 770-4909.
URL:https://www.sinaitemple.org/event/mens-club-movie-night-2/
LOCATION:Ziegler Hall
CATEGORIES:Men's Club
END:VEVENT
BEGIN:VEVENT
DTSTART;TZID=America/Los_Angeles:20170426T183000
DTEND;TZID=America/Los_Angeles:20170426T210000
DTSTAMP:20260423T112921
CREATED:20170407T160751Z
LAST-MODIFIED:20170407T160751Z
UID:10014352-1493231400-1493240400@www.sinaitemple.org
SUMMARY:Men's Club Movie Night
DESCRIPTION:Screening of Lemon Tree\, a film about a Palestinian widow who forms a silent bond with the wife of the Israeli Defense Minister when he threatens to destroy her lemon grove. Hebrew with English subtitles. Snacks and wine will be served. Please come earlier to mingle\, gossip\, and have an extra glass of wine! \nRSVP to Rafii at rafii@babson.edu or (310) 770-4909.
URL:https://www.sinaitemple.org/event/mens-club-movie-night/
LOCATION:Ziegler Hall
CATEGORIES:Men's Club
END:VEVENT
END:VCALENDAR